Workbook

Sheet （参考）使用状況
A1: 外線PHS利用状況
A2: 回線使用中 | B2: 貸出中 | C2: =C22 -> 913
B3: 在庫 | C3: =COUNTIF(電話帳!$Q$2:$Q$1043,"在庫*") -> 16
A4: 回線停止中 | B4: 回線停止 | C4: =COUNTIF(電話帳!$Q$2:$Q$1043,B4) -> 0
A5: 合計 | C5: =SUM(C2:C4) -> 929
A8: 外線PHS貸出状況
A9: 管理要項 第4条 | C9: 携帯 | D9: 計
A10: 1 | B10: 病院長 | C10: =COUNTIF(電話帳!$N$2:$N$1043,A10) -> 1 | D10: =SUM(C10:C20) -> 676
A11: 2 | B11: 副病院長 | C11: =COUNTIF(電話帳!$N$2:$N$1043,A11) -> 5
A12: 3 | B12: 病院長補佐 | C12: =COUNTIF(電話帳!$N$2:$N$1043,A12) -> 13
A13: 4 | B13: 診療科長 | C13: =COUNTIF(電話帳!$N$2:$N$1043,A13) -> 26
A14: 5 | B14: 中央診療施設等の部、室またはセンター長 | C14: =COUNTIF(電話帳!$N$2:$N$1043,A14) -> 17
A15: 6 | B15: 医科診療部門の医師 | C15: =COUNTIF(電話帳!$N$2:$N$1043,A15) -> 459
A16: 7 | B16: 歯科診療部門の歯科医師 | C16: =COUNTIF(電話帳!$N$2:$N$1043,A16) -> 77
A17: 8 | B17: 薬剤部長および副薬剤部長 | C17: =COUNTIF(電話帳!$N$2:$N$1043,A17) -> 3
A18: 9 | B18: 副看護部長および看護師長 | C18: =COUNTIF(電話帳!$N$2:$N$1043,A18) -> 59
A19: 10 | B19: 診療支援部長及び診療支援部各部門長 | C19: =COUNTIF(電話帳!$N$2:$N$1043,A19) -> 5
A20: 11 | B20: 病院事務部各課長及び各課長補佐 | C20: =COUNTIF(電話帳!$N$2:$N$1043,A20) -> 11
A21: 12 | B21: その他病院長が特に必要と認めた者 | C21: =COUNTIF(電話帳!$N$2:$N$1043,A21) -> 237 | D21: =SUM(C21) -> 237
B22: 合計 | C22: =SUM(C10:C21) -> 913 | D22: =SUM(D10:D21) -> 913
A24: ※肩書や所属を２つ持つ者のPHSに関しては、数の小さい号の方でカウント
A27: 外線PHS貸出状況
B28: 職種 | C28: 携帯 | D28: 計
A29: 1 | B29: 医師 | C29: =COUNTIF(電話帳!$O$2:$O$1043,A29) -> 500 | D29: =SUM(C29:C35) -> 913
A30: 2 | B30: 歯科医師 | C30: =COUNTIF(電話帳!$O$2:$O$1043,A30) -> 88
A31: 3 | B31: 看護師 | C31: =COUNTIF(電話帳!$O$2:$O$1043,A31) -> 124
A32: 4 | B32: 薬剤師 | C32: =COUNTIF(電話帳!$O$2:$O$1043,A32) -> 21
A33: 5 | B33: 医療技術部（技師等） | C33: =COUNTIF(電話帳!$O$2:$O$1043,A33) -> 60
A34: 6 | B34: 事務 | C34: =COUNTIF(電話帳!$O$2:$O$1043,A34) -> 53
A35: 7 | B35: その他（施設管理、緊急用、当直用など） | C35: =COUNTIF(電話帳!$O$2:$O$1043,A35) -> 67
B36: 合計 | C36: =SUM(C29:C35) -> 913 | D36: =SUM(D29:D35) -> 913

Sheet （参考）部署一覧
A1: 0 | B1: 診療科(医科) | C1: 01 | D1: 循環器内科 | F1: =A1&C1&D1 -> 001循環器内科
A2: 0 | B2: 診療科(医科) | C2: 02 | D2: 呼吸器内科 | F2: =A2&C2&D2 -> 002呼吸器内科
A3: 0 | B3: 診療科(医科) | C3: 03 | D3: 消化器内科 | F3: =A3&C3&D3 -> 003消化器内科
A4: 0 | B4: 診療科(医科) | C4: 04 | D4: 腎臓内科 | F4: =A4&C4&D4 -> 004腎臓内科
A5: 0 | B5: 診療科(医科) | C5: 05 | D5: 内分泌内科 | F5: =A5&C5&D5 -> 005内分泌内科 | G5: 旧 005内内・血内
A6: 0 | B6: 診療科(医科) | C6: 06 | D6: 血液内科 | F6: =A6&C6&D6 -> 006血液内科 | G6: 旧 005内内・血内
A7: 0 | B7: 診療科(医科) | C7: 07 | D7: 脳神経内科 | F7: =A7&C7&D7 -> 007脳神経内科
A8: 0 | B8: 診療科(医科) | C8: 08 | D8: 心臓血管外科 | F8: =A8&C8&D8 -> 008心臓血管外科
A9: 0 | B9: 診療科(医科) | C9: 09 | D9: 食乳甲外科 | F9: =A9&C9&D9 -> 009食乳甲外科 | G9: 旧 009食外・呼外
A10: 0 | B10: 診療科(医科) | C10: 10 | D10: 呼吸器外科 | F10: =A10&C10&D10 -> 010呼吸器外科 | G10: 旧 009食外・呼外
A11: 0 | B11: 診療科(医科) | C11: 11 | D11: 泌尿器科 | F11: =A11&C11&D11 -> 011泌尿器科
A12: 0 | B12: 診療科(医科) | C12: 12 | D12: 消化器外科 | F12: =A12&C12&D12 -> 012消化器外科 | G12: 旧 012消外・児外
A13: 0 | B13: 診療科(医科) | C13: 13 | D13: 小児外科 | F13: =A13&C13&D13 -> 013小児外科 | G13: 旧 012消外・児外
A14: 0 | B14: 診療科(医科) | C14: 14 | D14: 眼科 | F14: =A14&C14&D14 -> 014眼科
A15: 0 | B15: 診療科(医科) | C15: 15 | D15: 耳鼻咽喉科 | F15: =A15&C15&D15 -> 015耳鼻咽喉科
A16: 0 | B16: 診療科(医科) | C16: 16 | D16: 整形外科 | F16: =A16&C16&D16 -> 016整形外科
A17: 0 | B17: 診療科(医科) | C17: 17 | D17: 皮膚科 | F17: =A17&C17&D17 -> 017皮膚科
A18: 0 | B18: 診療科(医科) | C18: 18 | D18: 形成外科 | F18: =A18&C18&D18 -> 018形成外科
A19: 0 | B19: 診療科(医科) | C19: 19 | D19: 脳神経外科 | F19: =A19&C19&D19 -> 019脳神経外科
A20: 0 | B20: 診療科(医科) | C20: 20 | D20: 麻酔科 | F20: =A20&C20&D20 -> 020麻酔科
A21: 0 | B21: 診療科(医科) | C21: 21 | D21: 精神科神経科 | F21: =A21&C21&D21 -> 021精神科神経科
A22: 0 | B22: 診療科(医科) | C22: 22 | D22: 小児科 | F22: =A22&C22&D22 -> 022小児科
A23: 0 | B23: 診療科(医科) | C23: 23 | D23: 産科婦人科 | F23: =A23&C23&D23 -> 023産科婦人科
A24: 0 | B24: 診療科(医科) | C24: 24 | D24: 放射線科 | F24: =A24&C24&D24 -> 024放射線科
A25: 0 | B25: 診療科(医科) | C25: 25 | D25: 救急科 | F25: =A25&C25&D25 -> 025救急科 | G25: 旧 204救急
A26: 0 | B26: 診療科(医科) | C26: 26 | D26: 病理診断科 | F26: =A26&C26&D26 -> 026病理診断科 | G26: 旧 210病理部
A27: 0 | B27: 診療科(医科) | C27: 27
A28: 1 | B28: 診療科(歯科) | C28: 01 | D28: むし歯科（１保） | F28: =A28&C28&D28 -> 101むし歯科（１保） | G28: 101むし歯科(1保)
A29: 1 | B29: 診療科(歯科) | C29: 02 | D29: 歯周病科（２保） | F29: =A29&C29&D29 -> 102歯周病科（２保） | G29: 102歯周病科(2保)
A30: 1 | B30: 診療科(歯科) | C30: 03 | D30: そしゃく科（１補） | F30: =A30&C30&D30 -> 103そしゃく科（１補） | G30: 103そしゃく科(1補)
A31: 1 | B31: 診療科(歯科) | C31: 04 | D31: かみあわせ科（２補） | F31: =A31&C31&D31 -> 104かみあわせ科（２補） | G31: 104かみあわせ科(2補)
A32: 1 | B32: 診療科(歯科) | C32: 05 | D32: 歯科放射線科 | F32: =A32&C32&D32 -> 105歯科放射線科
A33: 1 | B33: 診療科(歯科) | C33: 06 | D33: 口腔内科 | F33: =A33&C33&D33 -> 106口腔内科 | G33: 旧 108口腔内科
A34: 1 | B34: 診療科(歯科) | C34: 07 | D34: 口腔外科 | F34: =A34&C34&D34 -> 107口腔外科 | G34: 旧 109口腔外科
A35: 1 | B35: 診療科(歯科) | C35: 08 | D35: 歯科麻酔科 | F35: =A35&C35&D35 -> 108歯科麻酔科 | G35: 旧 110歯科麻酔科
A36: 1 | B36: 診療科(歯科) | C36: 09 | D36: 矯正歯科 | F36: =A36&C36&D36 -> 109矯正歯科 | G36: 旧 106矯正歯科
A37: 1 | B37: 診療科(歯科) | C37: 10 | D37: 小児歯科 | F37: =A37&C37&D37 -> 110小児歯科 | G37: 旧 107小児歯科
A38: 2 | B38: 中央診療施設 | C38: 01 | D38: 検査部 | F38: =A38&C38&D38 -> 201検査部
A39: 2 | B39: 中央診療施設 | C39: 02 | D39: 手術部 | F39: =A39&C39&D39 -> 202手術部
A40: 2 | B40: 中央診療施設 | C40: 03 | D40: 放射線部 | F40: =A40&C40&D40 -> 203放射線部
...

Sheet 電話帳
A1: 新番号 | B1: 種別(新) | C1: 外線;電話番号1 | D1: 内線;電話番号2 | E1: 科(部)等名(全角入力) | F1: 使用者氏名(全角入力) | G1: ｶﾅ科 | H1: ｶﾅ氏 | I1: 職名 | J1: メールアドレス1 | K1: 氏 名 | L1: 文字数 | M1: 資料作成用部署名 | N1: 要項4条 | O1: 職種 | P1: 重複 | Q1: 状態 | R1: 処理日 | S1: 備考 | T1: 在庫薄い時、回収候補 | U1: 電話番号 | V1: NX内線 | W1: 内PHS電話帳(緊急) | X1: 電話タイプ1 | Y1: 電話タイプ2 | Z1: Eメールタイプ1 | AB1: 科(部)等名→変更後 | AC1: check | AD1: 利用者氏名→変更後 | AE1: check | AF1: ﾌﾘｶﾞﾅ(姓) | AG1: check | AH1: 職名→変更後 | AI1: check | AJ1: 資料作成→変更後 | AK1: check
A2: 0000 | B2: 携帯 | C2: 070-6586-0000 | D2: 89-0000 | E2: 病院長 | F2: 西良浩一 | G2: ﾋﾞｮｳｲﾝﾁｮｳ | H2: ｻｲﾘｮｳ | I2: 病院長 | J2: ="tkhp89"&A2&"@softbank.ne.jp" -> tkhp890000@softbank.ne.jp | K2: =E2&" "&F2 -> 病院長 西良浩一 | L2: =LENB(K2) -> 15 | M2: 701総務 | N2: 1 | O2: 1 | R2: 45748 | S2: 20254/1病院長 西良浩一■2019/3/25病院長 香美祥二■ | U2: 07065860000 | V2: 890000 | X2: CELL | Y2: CELL | Z2: CELL | AA2: 外839 | AC2: =IF(AB2="",2,IF(E2=AB2,1,0)) -> 2 | AE2: =IF(AD2="",2,IF(F2=AD2,1,0)) -> 2 | AG2: =IF(AF2="",2,IF(H2=AF2,1,0)) -> 2 | AI2: =IF(AH2="",2,IF(I2=AH2,1,0)) -> 2 | AJ2: 701総務 | AK2: =IF(AJ2="",2,IF(M2=AJ2,1,0)) -> 1
A3: 0001 | B3: 携帯 | C3: 070-6586-0001 | D3: 89-0001 | E3: 病院長補佐 | F3: 近藤武 | G3: ﾋﾞｮｳｲﾝﾁｮｳﾎｻ | H3: ｺﾝﾄﾞｳ | I3: 病院長補佐 | J3: ="tkhp89"&A3&"@softbank.ne.jp" -> tkhp890001@softbank.ne.jp | K3: =E3&" "&F3 -> 病院長補佐 近藤武 | L3: =LENB(K3) -> 17 | M3: 701総務 | N3: 3 | O3: 6 | R3: 44652 | S3: 2022/4/1病院長補佐 近藤武■2017/3/3病院長補佐 篠原義明■ | U3: 07065860001 | V3: 890001 | X3: CELL | Y3: CELL | Z3: CELL | AA3: 外842 | AC3: =IF(AB3="",2,IF(E3=AB3,1,0)) -> 2 | AE3: =IF(AD3="",2,IF(F3=AD3,1,0)) -> 2 | AG3: =IF(AF3="",2,IF(H3=AF3,1,0)) -> 2 | AI3: =IF(AH3="",2,IF(I3=AH3,1,0)) -> 2 | AJ3: 701総務 | AK3: =IF(AJ3="",2,IF(M3=AJ3,1,0)) -> 1
A4: 0002 | B4: 携帯 | C4: 070-6586-0002 | D4: 89-0002 | E4: 事務部長 | F4: 浦田明宏 | G4: ｼﾞﾑﾌﾞﾁｮｳ | H4: ｳﾗﾀ | I4: 事務部長 | J4: ="tkhp89"&A4&"@softbank.ne.jp" -> tkhp890002@softbank.ne.jp | K4: =E4&" "&F4 -> 事務部長 浦田明宏 | L4: =LENB(K4) -> 17 | M4: 701総務 | N4: 3 | O4: 6 | R4: 45748 | S4: 2025/4/1事務部長 浦田明宏■2023/4/1事務部長 脇元直彦■2022/4/1事務部次長 脇元直彦■2020/3/29事務部長 前島一実■2018/3/26事務部長 岡田俊■ | U4: 07065860002 | V4: 890002 | X4: CELL | Y4: CELL | Z4: CELL | AA4: 外828 | AC4: =IF(AB4="",2,IF(E4=AB4,1,0)) -> 2 | AE4: =IF(AD4="",2,IF(F4=AD4,1,0)) -> 2 | AG4: =IF(AF4="",2,IF(H4=AF4,1,0)) -> 2 | AI4: =IF(AH4="",2,IF(I4=AH4,1,0)) -> 2 | AJ4: 701総務 | AK4: =IF(AJ4="",2,IF(M4=AJ4,1,0)) -> 1
A5: 0003 | B5: 携帯 | C5: 070-6586-0003 | D5: 89-0003 | E5: 総務課・課長 | F5: 兒玉実和 | G5: ｿｳﾑ01 | H5: ｺﾀﾞﾏ | I5: 課長 | J5: ="tkhp89"&A5&"@softbank.ne.jp" -> tkhp890003@softbank.ne.jp | K5: =E5&" "&F5 -> 総務課・課長 兒玉実和 | L5: =LENB(K5) -> 21 | M5: 701総務 | N5: 11 | O5: 6 | R5: 45383 | S5: 2024/4/1総務課・課長 兒玉実和■2023/4/1総務課・課長 原田直樹■2020/3/29総務・課長 泉朗■2018/3/23総務・課長 槌谷和也■ | U5: 07065860003 | V5: 890003 | X5: CELL | Y5: CELL | Z5: CELL | AA5: 外829 | AC5: =IF(AB5="",2,IF(E5=AB5,1,0)) -> 2 | AD5: 兒玉実和 | AE5: =IF(AD5="",2,IF(F5=AD5,1,0)) -> 1 | AF5: ｺﾀﾞﾏ | AG5: =IF(AF5="",2,IF(H5=AF5,1,0)) -> 1 | AH5: 課長 | AI5: =IF(AH5="",2,IF(I5=AH5,1,0)) -> 1 | AJ5: 701総務 | AK5: =IF(AJ5="",2,IF(M5=AJ5,1,0)) -> 1
A6: 0004 | B6: 携帯 | C6: 070-6586-0004 | D6: 89-0004 | E6: 経営企画・副課長 施設企画室・副課長 | F6: 武政康平 | G6: ｹｲｴｲｷｶｸ02 | H6: ﾀｹﾏｻ | I6: 副課長 | J6: ="tkhp89"&A6&"@softbank.ne.jp" -> tkhp890004@softbank.ne.jp | K6: =E6&" "&F6 -> 経営企画・副課長 施設企画室・副課長 武政康平 | L6: =LENB(K6) -> 45 | M6: 702経営企画 | N6: 11 | O6: 6 | R6: 46105 | S6: 2026/3/24経営企画・副課長 施設企画室・副課長 武政康平■2025/4/1経営企画・副課長 施設企画室・副課長 松木由美■2023/4/1経営企画・副課長 榎本清美■2022/4/1経営企画・副課長 金子由起■2020/3/29経営企画・副課長 小賀野剛■2017/3/30経営企画・副課長 中野栄司■ | U6: 07065860004 | V6: 890004 | X6: CELL | Y6: CELL | Z6: CELL | AA6: 外844 | AC6: =IF(AB6="",2,IF(E6=AB6,1,0)) -> 2 | AE6: =IF(AD6="",2,IF(F6=AD6,1,0)) -> 2 | AG6: =IF(AF6="",2,IF(H6=AF6,1,0)) -> 2 | AI6: =IF(AH6="",2,IF(I6=AH6,1,0)) -> 2 | AJ6: 702経営企画 | AK6: =IF(AJ6="",2,IF(M6=AJ6,1,0)) -> 1
A7: 0005 | B7: 携帯 | C7: 070-6586-0005 | D7: 89-0005 | E7: 経理調達・課長 | F7: 酒井稔雄 | G7: ｹｲﾘﾁｮｳﾀﾂ01 | H7: ｻｶｲ | I7: 課長 | J7: ="tkhp89"&A7&"@softbank.ne.jp" -> tkhp890005@softbank.ne.jp | K7: =E7&" "&F7 -> 経理調達・課長 酒井稔雄 | L7: =LENB(K7) -> 23 | M7: 704経理調達 | N7: 11 | O7: 6 | R7: 46105 | S7: 2026/3/24経理調達・課長 酒井稔雄■2023/4/1経理調達・課長 原井由美■2020/3/29経理調達・課長 垣添裕之■2020/1/17経理調達・課長 樋口優■ | U7: 07065860005 | V7: 890005 | X7: CELL | Y7: CELL | Z7: CELL | AA7: 外851 | AC7: =IF(AB7="",2,IF(E7=AB7,1,0)) -> 2 | AE7: =IF(AD7="",2,IF(F7=AD7,1,0)) -> 2 | AG7: =IF(AF7="",2,IF(H7=AF7,1,0)) -> 2 | AI7: =IF(AH7="",2,IF(I7=AH7,1,0)) -> 2 | AJ7: 704経理調達 | AK7: =IF(AJ7="",2,IF(M7=AJ7,1,0)) -> 1
A8: 0006 | B8: 携帯 | C8: 070-6586-0006 | D8: 89-0006 | E8: 経営企画・課長 | F8: 井元純 | G8: ｹｲｴｲｷｶｸ01 | H8: ｲﾓﾄ | I8: 課長 | J8: ="tkhp89"&A8&"@softbank.ne.jp" -> tkhp890006@softbank.ne.jp | K8: =E8&" "&F8 -> 経営企画・課長 井元純 | L8: =LENB(K8) -> 21 | M8: 702経営企画 | N8: 11 | O8: 6 | R8: 46105 | S8: 2026/3/24経営企画・課長 井元純■2024/4/1経営企画・課長 事務部次長 中野栄司■2023/4/1経営企画・課長 樋口優■2020/3/29経営企画・課長 中野栄司■2018/3/26経営企画・課長 泉朗■ | U8: 07065860006 | V8: 890006 | X8: CELL | Y8: CELL | Z8: CELL | AA8: 外843 | AC8: =IF(AB8="",2,IF(E8=AB8,1,0)) -> 2 | AD8: 中野栄司 | AE8: =IF(AD8="",2,IF(F8=AD8,1,0)) -> 0 | AF8: ﾅｶﾉ | AG8: =IF(AF8="",2,IF(H8=AF8,1,0)) -> 0 | AH8: 事務部次長 課長 | AI8: =IF(AH8="",2,IF(I8=AH8,1,0)) -> 0 | AJ8: 702経営企画 | AK8: =IF(AJ8="",2,IF(M8=AJ8,1,0)) -> 1
A9: 0007 | B9: 携帯 | C9: 070-6586-0007 | D9: 89-0007 | E9: 医事・患者支援係 | F9: 桑内敬子 | G9: ｲｼﾞ11 | H9: ｸﾜｳﾁ | I9: 事務員 | J9: ="tkhp89"&A9&"@softbank.ne.jp" -> tkhp890007@softbank.ne.jp | K9: =E9&" "&F9 -> 医事・患者支援係 桑内敬子 | L9: =LENB(K9) -> 25 | M9: 705医事 | N9: 12 | O9: 6 | R9: 45017 | S9: 2023/4/1医事・患者支援係 桑内敬子■2019/4/12医事・専門職員 桑内敬子■ | U9: 07065860007 | V9: 890007 | X9: CELL | Y9: CELL | Z9: CELL | AA9: 外866 | AC9: =IF(AB9="",2,IF(E9=AB9,1,0)) -> 2 | AE9: =IF(AD9="",2,IF(F9=AD9,1,0)) -> 2 | AG9: =IF(AF9="",2,IF(H9=AF9,1,0)) -> 2 | AI9: =IF(AH9="",2,IF(I9=AH9,1,0)) -> 2 | AJ9: 705医事 | AK9: =IF(AJ9="",2,IF(M9=AJ9,1,0)) -> 1
A10: 0008 | B10: 携帯 | C10: 070-6586-0008 | D10: 89-0008 | E10: 麻酔科 | F10: 村上千晶 | G10: ﾏｽｲｶ | H10: ﾑﾗｶﾐ | I10: 診療支援医師 | J10: ="tkhp89"&A10&"@softbank.ne.jp" -> tkhp890008@softbank.ne.jp | K10: =E10&" "&F10 -> 麻酔科 村上千晶 | L10: =LENB(K10) -> 15 | M10: 020麻酔科 | N10: 6 | O10: 1 | R10: 43919 | S10: 2018/3/23麻酔科 村上千晶■ | U10: 07065860008 | V10: 890008 | X10: CELL | Y10: CELL | Z10: CELL | AA10: 外310 | AC10: =IF(AB10="",2,IF(E10=AB10,1,0)) -> 2 | AE10: =IF(AD10="",2,IF(F10=AD10,1,0)) -> 2 | AG10: =IF(AF10="",2,IF(H10=AF10,1,0)) -> 2 | AI10: =IF(AH10="",2,IF(I10=AH10,1,0)) -> 2 | AJ10: 020麻酔科 | AK10: =IF(AJ10="",2,IF(M10=AJ10,1,0)) -> 1
A11: 0009 | B11: 携帯 | C11: 070-6586-0009 | D11: 89-0009 | E11: 医事・副課長 | F11: 立山あけみ | G11: ｲｼﾞ02 | H11: ﾀﾃﾔﾏ | I11: 副課長 | J11: ="tkhp89"&A11&"@softbank.ne.jp" -> tkhp890009@softbank.ne.jp | K11: =E11&" "&F11 -> 医事・副課長 立山あけみ | L11: =LENB(K11) -> 23 | M11: 705医事 | N11: 11 | O11: 6 | R11: 45748 | S11: 2025/4/1医事・副課長 立山あけみ■2024/9/24医事・副課長 医事係長 木村浩子■2022/4/1医事・副課長 木村浩子■2021/4/1医事・副課長 松井徹■2020/3/29医事・副課長 小林保数■2015/3/25医事・副課長 立山あけみ■ | U11: 07065860009 | V11: 890009 | X11: CELL | Y11: CELL | Z11: CELL | AA11: 外858 | AC11: =IF(AB11="",2,IF(E11=AB11,1,0)) -> 2 | AE11: =IF(AD11="",2,IF(F11=AD11,1,0)) -> 2 | AG11: =IF(AF11="",2,IF(H11=AF11,1,0)) -> 2 | AI11: =IF(AH11="",2,IF(I11=AH11,1,0)) -> 2 | AJ11: 705医事 | AK11: =IF(AJ11="",2,IF(M11=AJ11,1,0)) -> 1
A12: 0010 | B12: 携帯 | C12: 070-6586-0010 | D12: 89-0010 | E12: 医事・課長 | F12: 安部修司 | G12: ｲｼﾞ01 | H12: ｱﾍﾞ | I12: 課長 | J12: ="tkhp89"&A12&"@softbank.ne.jp" -> tkhp890010@softbank.ne.jp | K12: =E12&" "&F12 -> 医事・課長 安部修司 | L12: =LENB(K12) -> 19 | M12: 705医事 | N12: 11 | O12: 6 | R12: 45748 | S12: 2025/4/1医事・課長 安部修司2025/4/1医事・課長 安倍修司■2023/4/1医事・課長 立山あけみ■2022/4/1医事・課長 原田直樹■2019/3/26医事・課長 田村昌己■ | U12: 07065860010 | V12: 890010 | X12: CELL | Y12: CELL | Z12: CELL | AA12: 外857 | AC12: =IF(AB12="",2,IF(E12=AB12,1,0)) -> 2 | AE12: =IF(AD12="",2,IF(F12=AD12,1,0)) -> 2 | AG12: =IF(AF12="",2,IF(H12=AF12,1,0)) -> 2 | AI12: =IF(AH12="",2,IF(I12=AH12,1,0)) -> 2 | AJ12: 705医事 | AK12: =IF(AJ12="",2,IF(M12=AJ12,1,0)) -> 1
A13: 0011 | B13: 携帯 | C13: 070-6586-0011 | D13: 89-0011 | E13: 施設企画係・係長 経営企画・副課長 | F13: 松木由美 | G13: ｼｾﾂｷｶｸｼﾂ02 | H13: ﾏﾂｷ | I13: 副課長 | J13: ="tkhp89"&A13&"@softbank.ne.jp" -> tkhp890011@softbank.ne.jp | K13: =E13&" "&F13 -> 施設企画係・係長 経営企画・副課長 松木由美 | L13: =LENB(K13) -> 43 | M13: 703施設企画室 | N13: 11 | O13: 6 | R13: 46118 | S13: 2026/4/6施設企画係・係長 経営企画・副課長 松木由美■2026/3/24施設企画室・副課長 松木由美■2022/4/1施設企画室・副課長 大坂誠一■2021/4/1経営企画・施設企画係長 中野豪■2013/10/8経営企画・施設企画係長 松井徹■ | U13: 07065860011 | V13: 890011 | X13: CELL | Y13: CELL | Z13: CELL | AA13: 外850 | AC13: =IF(AB13="",2,IF(E13=AB13,1,0)) -> 2 | AE13: =IF(AD13="",2,IF(F13=AD13,1,0)) -> 2 | AG13: =IF(AF13="",2,IF(H13=AF13,1,0)) -> 2 | AI13: =IF(AH13="",2,IF(I13=AH13,1,0)) -> 2 | AJ13: 703施設企画室 | AK13: =IF(AJ13="",2,IF(M13=AJ13,1,0)) -> 1
A14: 0012 | B14: 携帯 | C14: 070-6586-0012 | D14: 89-0012 | E14: 医事・診療報酬請求係長 | F14: 梶浦智子 | G14: ｲｼﾞ05 | H14: ｶｼﾞｳﾗ | I14: 係長 | J14: ="tkhp89"&A14&"@softbank.ne.jp" -> tkhp890012@softbank.ne.jp | K14: =E14&" "&F14 -> 医事・診療報酬請求係長 梶浦智子 | L14: =LENB(K14) -> 31 | M14: 705医事 | N14: 12 | O14: 6 | R14: 45383 | S14: 2024/4/1医事・診療報酬請求係長 梶浦智子■2023/4/1医事・診報請係長 眞木洋典■2022/4/1医事・診報請係長 高橋久美子■2020/3/29医事・診報請係長 田場由香■2016/4/4医事・診報請係長 助川三恵子■ | U14: 07065860012 | V14: 890012 | X14: CELL | Y14: CELL | Z14: CELL | AA14: 外861 | AC14: =IF(AB14="",2,IF(E14=AB14,1,0)) -> 2 | AD14: 梶浦智子 | AE14: =IF(AD14="",2,IF(F14=AD14,1,0)) -> 1 | AF14: ｶｼﾞｳﾗ | AG14: =IF(AF14="",2,IF(H14=AF14,1,0)) -> 1 | AH14: 係長 | AI14: =IF(AH14="",2,IF(I14=AH14,1,0)) -> 1 | AJ14: 705医事 | AK14: =IF(AJ14="",2,IF(M14=AJ14,1,0)) -> 1
A15: 0013 | B15: 携帯 | C15: 070-6586-0013 | D15: 89-0013 | E15: 医事・収入係長 | F15: 久米智子 | G15: ｲｼﾞ06 | H15: ｸﾒ | I15: 係長 | J15: ="tkhp89"&A15&"@softbank.ne.jp" -> tkhp890013@softbank.ne.jp | K15: =E15&" "&F15 -> 医事・収入係長 久米智子 | L15: =LENB(K15) -> 23 | M15: 705医事 | N15: 12 | O15: 6 | R15: 46105 | S15: 2026/3/24医事・収入係長 久米智子■2023/4/1医事・収入係長 八木三希子■2020/6/30医事・収入係長 郡義典■2015/3/27医事・収入係長 岸本博■ | U15: 07065860013 | V15: 890013 | X15: CELL | Y15: CELL | Z15: CELL | AA15: 外862 | AC15: =IF(AB15="",2,IF(E15=AB15,1,0)) -> 2 | AE15: =IF(AD15="",2,IF(F15=AD15,1,0)) -> 2 | AG15: =IF(AF15="",2,IF(H15=AF15,1,0)) -> 2 | AI15: =IF(AH15="",2,IF(I15=AH15,1,0)) -> 2 | AJ15: 705医事 | AK15: =IF(AJ15="",2,IF(M15=AJ15,1,0)) -> 1
A16: 0014 | B16: 携帯 | C16: 070-6586-0014 | D16: 89-0014 | E16: 患者支援セ | F16: 秋月佐代 | G16: ｶﾝｼﾞｬｼｴﾝｾ | H16: ｱｷﾂﾞｷ | I16: 医療ｿｰｼｬﾙﾜｰｶｰ | J16: ="tkhp89"&A16&"@softbank.ne.jp" -> tkhp890014@softbank.ne.jp | K16: =E16&" "&F16 -> 患者支援セ 秋月佐代 | L16: =LENB(K16) -> 19 | M16: 707患者支援 | N16: 12 | O16: 6 | R16: 42125 | S16: 2015/5/1患者支援セ 秋月佐代■ | U16: 07065860014 | V16: 890014 | X16: CELL | Y16: CELL | Z16: CELL | AA16: 外872 | AC16: =IF(AB16="",2,IF(E16=AB16,1,0)) -> 2 | AE16: =IF(AD16="",2,IF(F16=AD16,1,0)) -> 2 | AG16: =IF(AF16="",2,IF(H16=AF16,1,0)) -> 2 | AI16: =IF(AH16="",2,IF(I16=AH16,1,0)) -> 2 | AJ16: 707患者支援 | AK16: =IF(AJ16="",2,IF(M16=AJ16,1,0)) -> 1
A17: 0015 | B17: 携帯 | C17: 070-6586-0015 | D17: 89-0015 | E17: 病院情報セ | F17: ヘルプデスク携帯 | G17: ﾋﾞｮｳｲﾝｼﾞｮｳﾎｳｾ03 | I17: 病情ｾﾍﾙﾌﾟﾃﾞｽｸ | J17: ="tkhp89"&A17&"@softbank.ne.jp" -> tkhp890015@softbank.ne.jp | K17: =E17&" "&F17 -> 病院情報セ ヘルプデスク携帯 | L17: =LENB(K17) -> 27 | M17: 209病院情報セ | N17: 12 | O17: 7 | R17: 40296 | S17: 2010/4/28病院情報セ ヘルプデスク携帯■ | U17: 07065860015 | V17: 890015 | X17: CELL | Y17: CELL | Z17: CELL | AA17: 外527 | AC17: =IF(AB17="",2,IF(E17=AB17,1,0)) -> 2 | AE17: =IF(AD17="",2,IF(F17=AD17,1,0)) -> 2 | AG17: =IF(AF17="",2,IF(H17=AF17,1,0)) -> 2 | AI17: =IF(AH17="",2,IF(I17=AH17,1,0)) -> 2 | AJ17: 209病院情報セ | AK17: =IF(AJ17="",2,IF(M17=AJ17,1,0)) -> 1
A18: 0016 | B18: 携帯 | C18: 070-6586-0016 | D18: 89-0016 | E18: 病院情報セ | F18: 境貴司 | G18: ﾋﾞｮｳｲﾝｼﾞｮｳﾎｳｾ10 | H18: ｻｶｲ | I18: 技術員 | J18: ="tkhp89"&A18&"@softbank.ne.jp" -> tkhp890016@softbank.ne.jp | K18: =E18&" "&F18 -> 病院情報セ 境貴司 | L18: =LENB(K18) -> 17 | M18: 209病院情報セ | N18: 12 | O18: 7 | R18: 43555 | S18: 2019/3/5病院情報セ 境貴司■ | U18: 07065860016 | V18: 890016 | X18: CELL | Y18: CELL | Z18: CELL | AA18: 外532 | AC18: =IF(AB18="",2,IF(E18=AB18,1,0)) -> 2 | AE18: =IF(AD18="",2,IF(F18=AD18,1,0)) -> 2 | AG18: =IF(AF18="",2,IF(H18=AF18,1,0)) -> 2 | AI18: =IF(AH18="",2,IF(I18=AH18,1,0)) -> 2 | AJ18: 209病院情報セ | AK18: =IF(AJ18="",2,IF(M18=AJ18,1,0)) -> 1
A19: 0017 | B19: 携帯 | C19: 070-6586-0017 | D19: 89-0017 | E19: 麻酔科 | F19: 合田かおる | G19: ﾏｽｲｶ | H19: ｺﾞｳﾀﾞ | I19: 医員 | J19: ="tkhp89"&A19&"@softbank.ne.jp" -> tkhp890017@softbank.ne.jp | K19: =E19&" "&F19 -> 麻酔科 合田かおる | L19: =LENB(K19) -> 17 | M19: 020麻酔科 | N19: 6 | O19: 1 | R19: 46085 | S19: 2026/3/4麻酔科 合田かおる■2018/3/23麻酔科 石川雄樹■ | U19: 07065860017 | V19: 890017 | X19: CELL | Y19: CELL | Z19: CELL | AA19: 外311 | AC19: =IF(AB19="",2,IF(E19=AB19,1,0)) -> 2 | AE19: =IF(AD19="",2,IF(F19=AD19,1,0)) -> 2 | AG19: =IF(AF19="",2,IF(H19=AF19,1,0)) -> 2 | AH19: 特任助教 | AI19: =IF(AH19="",2,IF(I19=AH19,1,0)) -> 0 | AJ19: 020麻酔科 | AK19: =IF(AJ19="",2,IF(M19=AJ19,1,0)) -> 1
A20: 0018 | B20: 携帯 | C20: 070-6586-0018 | D20: 89-0018 | E20: 病院情報セ | F20: 単暁 | G20: ﾋﾞｮｳｲﾝｼﾞｮｳﾎｳｾ09 | H20: ﾀﾝ | I20: 特任助教 | J20: ="tkhp89"&A20&"@softbank.ne.jp" -> tkhp890018@softbank.ne.jp | K20: =E20&" "&F20 -> 病院情報セ 単暁 | L20: =LENB(K20) -> 15 | M20: 209病院情報セ | N20: 12 | O20: 7 | R20: 43919 | S20: 2020/3/29病院情報セ 単暁■2018/3/23病院情報セ 玉木悠■ | U20: 07065860018 | V20: 890018 | X20: CELL | Y20: CELL | Z20: CELL | AA20: 外529 | AC20: =IF(AB20="",2,IF(E20=AB20,1,0)) -> 2 | AE20: =IF(AD20="",2,IF(F20=AD20,1,0)) -> 2 | AG20: =IF(AF20="",2,IF(H20=AF20,1,0)) -> 2 | AI20: =IF(AH20="",2,IF(I20=AH20,1,0)) -> 2 | AJ20: 209病院情報セ | AK20: =IF(AJ20="",2,IF(M20=AJ20,1,0)) -> 1
A21: 0019 | B21: 携帯 | C21: 070-6586-0019 | D21: 89-0019 | E21: 病院情報セ | F21: 田木真和 | G21: ﾋﾞｮｳｲﾝｼﾞｮｳﾎｳｾ08 | H21: ﾀｷﾞ | I21: 助教 | J21: ="tkhp89"&A21&"@softbank.ne.jp" -> tkhp890019@softbank.ne.jp | K21: =E21&" "&F21 -> 病院情報セ 田木真和 | L21: =LENB(K21) -> 19 | M21: 209病院情報セ | N21: 12 | O21: 7 | R21: 43555 | S21: 2019/3/5病院情報セ 田木真和■ | U21: 07065860019 | V21: 890019 | X21: CELL | Y21: CELL | Z21: CELL | AA21: 外530 | AC21: =IF(AB21="",2,IF(E21=AB21,1,0)) -> 2 | AE21: =IF(AD21="",2,IF(F21=AD21,1,0)) -> 2 | AG21: =IF(AF21="",2,IF(H21=AF21,1,0)) -> 2 | AI21: =IF(AH21="",2,IF(I21=AH21,1,0)) -> 2 | AJ21: 209病院情報セ | AK21: =IF(AJ21="",2,IF(M21=AJ21,1,0)) -> 1
A22: 0020 | B22: 携帯 | C22: 070-6586-0020 | D22: 89-0020 | E22: 栄養部 | F22: 西部門長 | G22: ｴｲﾖｳﾌﾞ03 | H22: ﾆｼ | I22: 栄養管理部門長 | J22: ="tkhp89"&A22&"@softbank.ne.jp" -> tkhp890020@softbank.ne.jp | K22: =E22&" "&F22 -> 栄養部 西部門長 | L22: =LENB(K22) -> 15 | M22: 601栄養部 | N22: 10 | O22: 5 | R22: 45809 | S22: 2025/6/1栄養部 西部門長■2025/4/1栄養部 西麻希■2020/3/29栄養部 山田部門長■2019/3/25栄養部 山田静恵■ | U22: 07065860020 | V22: 890020 | X22: CELL | Y22: CELL | Z22: CELL | AA22: 外822 | AC22: =IF(AB22="",2,IF(E22=AB22,1,0)) -> 2 | AE22: =IF(AD22="",2,IF(F22=AD22,1,0)) -> 2 | AG22: =IF(AF22="",2,IF(H22=AF22,1,0)) -> 2 | AI22: =IF(AH22="",2,IF(I22=AH22,1,0)) -> 2 | AJ22: 601栄養部 | AK22: =IF(AJ22="",2,IF(M22=AJ22,1,0)) -> 1
A23: 0021 | B23: 携帯 | C23: 070-6586-0021 | D23: 89-0021 | E23: 施設マ防災セ | F23: 電気 | G23: ｼｾﾂﾏ13 | H23: ﾃﾞﾝｷ | I23: 施設 | J23: ="tkhp89"&A23&"@softbank.ne.jp" -> tkhp890021@softbank.ne.jp | K23: =E23&" "&F23 -> 施設マ防災セ 電気 | L23: =LENB(K23) -> 17 | M23: 801施設マネジメント部 | N23: 12 | O23: 7 | R23: 40287 | S23: 2010/4/19施設防災セ 電気■ | U23: 07065860021 | V23: 890021 | X23: CELL | Y23: CELL | Z23: CELL | AA23: 外893 | AC23: =IF(AB23="",2,IF(E23=AB23,1,0)) -> 2 | AE23: =IF(AD23="",2,IF(F23=AD23,1,0)) -> 2 | AG23: =IF(AF23="",2,IF(H23=AF23,1,0)) -> 2 | AI23: =IF(AH23="",2,IF(I23=AH23,1,0)) -> 2 | AJ23: 801施設マネジメント部 | AK23: =IF(AJ23="",2,IF(M23=AJ23,1,0)) -> 1
A24: 0022 | B24: 携帯 | C24: 070-6586-0022 | D24: 89-0022 | E24: 施設マ防災セ | F24: 機械 | G24: ｼｾﾂﾏ14 | H24: ｷｶｲ | I24: 施設 | J24: ="tkhp89"&A24&"@softbank.ne.jp" -> tkhp890022@softbank.ne.jp | K24: =E24&" "&F24 -> 施設マ防災セ 機械 | L24: =LENB(K24) -> 17 | M24: 801施設マネジメント部 | N24: 12 | O24: 7 | R24: 40287 | S24: 2010/4/19施設防災セ 機械■ | U24: 07065860022 | V24: 890022 | X24: CELL | Y24: CELL | Z24: CELL | AA24: 外894 | AC24: =IF(AB24="",2,IF(E24=AB24,1,0)) -> 2 | AE24: =IF(AD24="",2,IF(F24=AD24,1,0)) -> 2 | AG24: =IF(AF24="",2,IF(H24=AF24,1,0)) -> 2 | AI24: =IF(AH24="",2,IF(I24=AH24,1,0)) -> 2 | AJ24: 801施設マネジメント部 | AK24: =IF(AJ24="",2,IF(M24=AJ24,1,0)) -> 1
A25: 0023 | B25: 携帯 | C25: 070-6586-0023 | D25: 89-0023 | E25: 施設マ防災セ | F25: 防災（建物・設備不具合） | G25: ｼｾﾂﾏ15 | H25: ﾎﾞｳｻｲ | I25: 施設 | J25: ="tkhp89"&A25&"@softbank.ne.jp" -> tkhp890023@softbank.ne.jp | K25: =E25&" "&F25 -> 施設マ防災セ 防災（建物・設備不具合） | L25: =LENB(K25) -> 37 | M25: 801施設マネジメント部 | N25: 12 | O25: 7 | R25: 43775 | S25: 2010/4/19施設防災セ 防災（建物・設備不具合）■ | U25: 07065860023 | V25: 890023 | W25: 71 | X25: CELL | Y25: CELL | Z25: CELL | AA25: 外895 | AC25: =IF(AB25="",2,IF(E25=AB25,1,0)) -> 2 | AE25: =IF(AD25="",2,IF(F25=AD25,1,0)) -> 2 | AG25: =IF(AF25="",2,IF(H25=AF25,1,0)) -> 2 | AI25: =IF(AH25="",2,IF(I25=AH25,1,0)) -> 2 | AJ25: 801施設マネジメント部 | AK25: =IF(AJ25="",2,IF(M25=AJ25,1,0)) -> 1
A26: 0024 | B26: 携帯 | C26: 070-6586-0024 | D26: 89-0024 | E26: 施設マ防災セ | F26: 熱源 | G26: ｼｾﾂﾏ16 | H26: ﾈﾂﾃﾞﾝ | I26: 施設 | J26: ="tkhp89"&A26&"@softbank.ne.jp" -> tkhp890024@softbank.ne.jp | K26: =E26&" "&F26 -> 施設マ防災セ 熱源 | L26: =LENB(K26) -> 17 | M26: 801施設マネジメント部 | N26: 12 | O26: 7 | R26: 40287 | S26: 2010/4/19施設防災セ 熱源■ | U26: 07065860024 | V26: 890024 | X26: CELL | Y26: CELL | Z26: CELL | AA26: 外896 | AC26: =IF(AB26="",2,IF(E26=AB26,1,0)) -> 2 | AE26: =IF(AD26="",2,IF(F26=AD26,1,0)) -> 2 | AG26: =IF(AF26="",2,IF(H26=AF26,1,0)) -> 2 | AI26: =IF(AH26="",2,IF(I26=AH26,1,0)) -> 2 | AJ26: 801施設マネジメント部 | AK26: =IF(AJ26="",2,IF(M26=AJ26,1,0)) -> 1
A27: 0025 | B27: 携帯 | C27: 070-6586-0025 | D27: 89-0025 | E27: 施設マ（建築） | F27: 谷優作 | G27: ｼｾﾂﾏ03 | H27: ﾀﾆ | I27: 技術員 | J27: ="tkhp89"&A27&"@softbank.ne.jp" -> tkhp890025@softbank.ne.jp | K27: =E27&" "&F27 -> 施設マ（建築） 谷優作 | L27: =LENB(K27) -> 21 | M27: 801施設マネジメント部 | N27: 12 | O27: 7 | R27: 45748 | S27: 2025/4/1施設マ（建築）谷優作■2024/4/1施設マ・蔵本施設課専門員 小磯雅史■2020/3/29施設・蔵本施設課副課長 山澤高浩■2018/3/28施設・管理運営課副課長 斎賀弘治■ | U27: 07065860025 | V27: 890025 | X27: CELL | Y27: CELL | Z27: CELL | AA27: 外882 | AB27: 施設マ・蔵本施設課専門員 | AC27: =IF(AB27="",2,IF(E27=AB27,1,0)) -> 0 | AD27: 小磯雅史 | AE27: =IF(AD27="",2,IF(F27=AD27,1,0)) -> 0 | AF27: ｺｲｿ | AG27: =IF(AF27="",2,IF(H27=AF27,1,0)) -> 0 | AH27: 専門員 | AI27: =IF(AH27="",2,IF(I27=AH27,1,0)) -> 0 | AJ27: 801施設マネジメント部 | AK27: =IF(AJ27="",2,IF(M27=AJ27,1,0)) -> 1
A28: 0026 | B28: 携帯 | C28: 070-6586-0026 | D28: 89-0026 | E28: 施設マ（建築） | F28: 市原美恵子 | G28: ｼｾﾂﾏ04 | H28: ｲﾁﾊﾗ | I28: 係長 | J28: ="tkhp89"&A28&"@softbank.ne.jp" -> tkhp890026@softbank.ne.jp | K28: =E28&" "&F28 -> 施設マ（建築） 市原美恵子 | L28: =LENB(K28) -> 25 | M28: 801施設マネジメント部 | N28: 12 | O28: 7 | R28: 45383 | S28: 2024/4/1施設マ（建築） 市原美恵子■2022/4/1施設（建築） 切東寿美■2021/4/1施設（建築） 木下真理■2020/3/29施設（建築） 長岡洋樹■2018/3/28施設・運営 市原美恵子■ | U28: 07065860026 | V28: 890026 | X28: CELL | Y28: CELL | Z28: CELL | AA28: 外883 | AC28: =IF(AB28="",2,IF(E28=AB28,1,0)) -> 2 | AD28: 市原美恵子 | AE28: =IF(AD28="",2,IF(F28=AD28,1,0)) -> 1 | AF28: ｲﾁﾊﾗ | AG28: =IF(AF28="",2,IF(H28=AF28,1,0)) -> 1 | AH28: 係長 | AI28: =IF(AH28="",2,IF(I28=AH28,1,0)) -> 1 | AJ28: 801施設マネジメント部 | AK28: =IF(AJ28="",2,IF(M28=AJ28,1,0)) -> 1
A29: 0027 | B29: 携帯 | C29: 070-6586-0027 | D29: 89-0027 | E29: 施設マ（専門員） | F29: 山澤高浩 | G29: ｼｾﾂﾏ05 | H29: ﾔﾏｻﾞﾜ | I29: 専門員 | J29: ="tkhp89"&A29&"@softbank.ne.jp" -> tkhp890027@softbank.ne.jp | K29: =E29&" "&F29 -> 施設マ（専門員） 山澤高浩 | L29: =LENB(K29) -> 25 | M29: 801施設マネジメント部 | N29: 12 | O29: 7 | R29: 46105 | S29: 2026/3/24施設マ（専門員） 山澤高浩■2024/4/1施設マ（建築） 栗原康介■2020/3/29施設（建築） 木内大輔■2018/3/28施設・運営 高木実■ | U29: 07065860027 | V29: 890027 | X29: CELL | Y29: CELL | Z29: CELL | AA29: 外884 | AC29: =IF(AB29="",2,IF(E29=AB29,1,0)) -> 2 | AD29: 栗原康介 | AE29: =IF(AD29="",2,IF(F29=AD29,1,0)) -> 0 | AF29: ｸﾘﾊﾗ | AG29: =IF(AF29="",2,IF(H29=AF29,1,0)) -> 0 | AH29: 技術員 | AI29: =IF(AH29="",2,IF(I29=AH29,1,0)) -> 0 | AJ29: 801施設マネジメント部 | AK29: =IF(AJ29="",2,IF(M29=AJ29,1,0)) -> 1
A30: 0028 | B30: 携帯 | C30: 070-6586-0028 | D30: 89-0028 | E30: 施設マ（機械） | F30: 金子健大 | G30: ｼｾﾂﾏ09 | H30: ｶﾈｺ | I30: 技術員 | J30: ="tkhp89"&A30&"@softbank.ne.jp" -> tkhp890028@softbank.ne.jp | K30: =E30&" "&F30 -> 施設マ（機械） 金子健大 | L30: =LENB(K30) -> 23 | M30: 801施設マネジメント部 | N30: 12 | O30: 7 | R30: 45841 | S30: 2025/7/3施設マ（機械）金子健大■2025/4/1施設マ（機械）次山英偉■2023/4/1施設マ（機械） 大林稔典■2020/3/29施設（機械） 杉江邦夫■2016/2/1施設・運営 新藤豊■ | U30: 07065860028 | V30: 890028 | X30: CELL | Y30: CELL | Z30: CELL | AA30: 外889 | AC30: =IF(AB30="",2,IF(E30=AB30,1,0)) -> 2 | AE30: =IF(AD30="",2,IF(F30=AD30,1,0)) -> 2 | AG30: =IF(AF30="",2,IF(H30=AF30,1,0)) -> 2 | AI30: =IF(AH30="",2,IF(I30=AH30,1,0)) -> 2 | AJ30: 801施設マネジメント部 | AK30: =IF(AJ30="",2,IF(M30=AJ30,1,0)) -> 1
A31: 0029 | B31: 携帯 | C31: 070-6586-0029 | D31: 89-0029 | E31: 施設マ・蔵本施設課副課長 （電気） | F31: 藤本賀誉 | G31: ｼｾﾂﾏ02 | H31: ﾌｼﾞﾓﾄ | I31: 副課長 | J31: ="tkhp89"&A31&"@softbank.ne.jp" -> tkhp890029@softbank.ne.jp | K31: =E31&" "&F31 -> 施設マ・蔵本施設課副課長 （電気） 藤本賀誉 | L31: =LENB(K31) -> 43 | M31: 801施設マネジメント部 | N31: 12 | O31: 7 | R31: 45383 | S31: 2024/4/1施設マ・蔵本施設課副課長 （電気） 藤本賀誉■2023/4/1施設マ（電気） 藤本賀誉■2020/3/29施設（電気） 栗田正伸■2020/3/29施設（電気） 谷本敦■2018/3/28施設・運営 栗田正伸■ | U31: 07065860029 | V31: 890029 | X31: CELL | Y31: CELL | Z31: CELL | AA31: 外885 | AB31: 施設マ・蔵本施設課副課長 （電気） | AC31: =IF(AB31="",2,IF(E31=AB31,1,0)) -> 1 | AE31: =IF(AD31="",2,IF(F31=AD31,1,0)) -> 2 | AG31: =IF(AF31="",2,IF(H31=AF31,1,0)) -> 2 | AH31: 副課長 | AI31: =IF(AH31="",2,IF(I31=AH31,1,0)) -> 1 | AJ31: 801施設マネジメント部 | AK31: =IF(AJ31="",2,IF(M31=AJ31,1,0)) -> 1
A32: 0030 | B32: 携帯 | C32: 070-6586-0030 | D32: 89-0030 | E32: 施設マ（機械） | F32: 新藤豊 | G32: ｼｾﾂﾏ08 | H32: ｼﾝﾄｳ | I32: 係長 | J32: ="tkhp89"&A32&"@softbank.ne.jp" -> tkhp890030@softbank.ne.jp | K32: =E32&" "&F32 -> 施設マ（機械） 新藤豊 | L32: =LENB(K32) -> 21 | M32: 801施設マネジメント部 | N32: 12 | O32: 7 | R32: 45748 | S32: 2025/4/1施設マ（機械） 新藤豊■2024/4/1施設マ（機械） 次山英偉■2022/4/1施設（機械） 新藤豊■2020/3/29施設（機械） 斎藤清人■2016/2/1施設・運営係長 斎藤清人■ | U32: 07065860030 | V32: 890030 | X32: CELL | Y32: CELL | Z32: CELL | AA32: 外888 | AC32: =IF(AB32="",2,IF(E32=AB32,1,0)) -> 2 | AD32: 次山英偉 | AE32: =IF(AD32="",2,IF(F32=AD32,1,0)) -> 0 | AF32: ﾂｷﾞﾔﾏ | AG32: =IF(AF32="",2,IF(H32=AF32,1,0)) -> 0 | AH32: 係長 | AI32: =IF(AH32="",2,IF(I32=AH32,1,0)) -> 1 | AJ32: 801施設マネジメント部 | AK32: =IF(AJ32="",2,IF(M32=AJ32,1,0)) -> 1
A33: 0031 | B33: 携帯 | C33: 070-6586-0031 | D33: 89-0031 | E33: 循環器内科 | F33: 佐田政隆 | G33: ｼﾞｭﾝｶﾝｷﾅｲｶ | H33: ｻﾀ | I33: 教授 | J33: ="tkhp89"&A33&"@softbank.ne.jp" -> tkhp890031@softbank.ne.jp | K33: =E33&" "&F33 -> 循環器内科 佐田政隆 | L33: =LENB(K33) -> 19 | M33: 001循環器内科 | N33: 4 | O33: 1 | R33: 40269 | S33: 2010/4/1循環器内科 佐田政隆■ | U33: 07065860031 | V33: 890031 | X33: CELL | Y33: CELL | Z33: CELL | AA33: 外001 | AC33: =IF(AB33="",2,IF(E33=AB33,1,0)) -> 2 | AE33: =IF(AD33="",2,IF(F33=AD33,1,0)) -> 2 | AG33: =IF(AF33="",2,IF(H33=AF33,1,0)) -> 2 | AI33: =IF(AH33="",2,IF(I33=AH33,1,0)) -> 2 | AJ33: 001循環器内科 | AK33: =IF(AJ33="",2,IF(M33=AJ33,1,0)) -> 1
A34: 0032 | B34: 携帯 | C34: 070-6586-0032 | D34: 89-0032 | E34: 循環器内科 | F34: 宮本亮太 | G34: ｼﾞｭﾝｶﾝｷﾅｲｶ | H34: ﾐﾔﾓﾄ | I34: 医員 | J34: ="tkhp89"&A34&"@softbank.ne.jp" -> tkhp890032@softbank.ne.jp | K34: =E34&" "&F34 -> 循環器内科 宮本亮太 | L34: =LENB(K34) -> 19 | M34: 001循環器内科 | N34: 6 | O34: 1 | R34: 46086 | S34: 2026/3/5循環器内科 宮本亮太■2011/3/23循環器内科 赤池雅史■ | U34: 07065860032 | V34: 890032 | X34: CELL | Y34: CELL | Z34: CELL | AA34: 外002 | AC34: =IF(AB34="",2,IF(E34=AB34,1,0)) -> 2 | AE34: =IF(AD34="",2,IF(F34=AD34,1,0)) -> 2 | AG34: =IF(AF34="",2,IF(H34=AF34,1,0)) -> 2 | AI34: =IF(AH34="",2,IF(I34=AH34,1,0)) -> 2 | AJ34: 001循環器内科 | AK34: =IF(AJ34="",2,IF(M34=AJ34,1,0)) -> 1
A35: 0033 | B35: 携帯 | C35: 070-6586-0033 | D35: 89-0033 | E35: 消化器内科 | F35: 佐藤康史 | G35: ｼｮｳｶｷﾅｲｶ | H35: ｻﾄｳ | I35: 特任教授 | J35: ="tkhp89"&A35&"@softbank.ne.jp" -> tkhp890033@softbank.ne.jp | K35: =E35&" "&F35 -> 消化器内科 佐藤康史 | L35: =LENB(K35) -> 19 | M35: 003消化器内科 | N35: 6 | O35: 1 | R35: 42809 | S35: 2016/8/24消化器内科 佐藤康史■ | U35: 07065860033 | V35: 890033 | X35: CELL | Y35: CELL | Z35: CELL | AA35: 外051 | AC35: =IF(AB35="",2,IF(E35=AB35,1,0)) -> 2 | AE35: =IF(AD35="",2,IF(F35=AD35,1,0)) -> 2 | AG35: =IF(AF35="",2,IF(H35=AF35,1,0)) -> 2 | AI35: =IF(AH35="",2,IF(I35=AH35,1,0)) -> 2 | AJ35: 003消化器内科 | AK35: =IF(AJ35="",2,IF(M35=AJ35,1,0)) -> 1
A36: 0034 | B36: 携帯 | C36: 070-6586-0034 | D36: 89-0034 | E36: 血液内科 | F36: 川田知代 | G36: ｹﾂｴｷﾅｲｶ | H36: ｶﾜﾀ | I36: 医員 | J36: ="tkhp89"&A36&"@softbank.ne.jp" -> tkhp890034@softbank.ne.jp | K36: =E36&" "&F36 -> 血液内科 川田知代 | L36: =LENB(K36) -> 17 | M36: 006血液内科 | N36: 6 | O36: 1 | R36: 45809 | S36: 2025/6/1血液内科 川田知代■2025/4/1在庫■2018/8/16感染制御部 東桃代■ | U36: 07065860034 | V36: 890034 | X36: CELL | Y36: CELL | Z36: CELL | AA36: 外571 | AC36: =IF(AB36="",2,IF(E36=AB36,1,0)) -> 2 | AE36: =IF(AD36="",2,IF(F36=AD36,1,0)) -> 2 | AG36: =IF(AF36="",2,IF(H36=AF36,1,0)) -> 2 | AI36: =IF(AH36="",2,IF(I36=AH36,1,0)) -> 2 | AJ36: 226感染制御部 | AK36: =IF(AJ36="",2,IF(M36=AJ36,1,0)) -> 0
A37: 0035 | B37: 携帯 | C37: 070-6586-0035 | D37: 89-0035 | E37: 循環器内科 | F37: 川端豊 | G37: ｼﾞｭﾝｶﾝｷﾅｲｶ | H37: ｶﾜﾊﾞﾀ | I37: 助教 | J37: ="tkhp89"&A37&"@softbank.ne.jp" -> tkhp890035@softbank.ne.jp | K37: =E37&" "&F37 -> 循環器内科 川端豊 | L37: =LENB(K37) -> 17 | M37: 001循環器内科 | N37: 6 | O37: 1 | R37: 43919 | S37: 2016/3/25循環器内科 川端豊■ | U37: 07065860035 | V37: 890035 | X37: CELL | Y37: CELL | Z37: CELL | AA37: 外003 | AC37: =IF(AB37="",2,IF(E37=AB37,1,0)) -> 2 | AE37: =IF(AD37="",2,IF(F37=AD37,1,0)) -> 2 | AG37: =IF(AF37="",2,IF(H37=AF37,1,0)) -> 2 | AI37: =IF(AH37="",2,IF(I37=AH37,1,0)) -> 2 | AJ37: 001循環器内科 | AK37: =IF(AJ37="",2,IF(M37=AJ37,1,0)) -> 1
A38: 0036 | B38: 携帯 | C38: 070-6586-0036 | D38: 89-0036 | E38: 循環器内科 | F38: 八木秀介 | G38: ｼﾞｭﾝｶﾝｷﾅｲｶ | H38: ﾔｷﾞ | I38: 特任教授 | J38: ="tkhp89"&A38&"@softbank.ne.jp" -> tkhp890036@softbank.ne.jp | K38: =E38&" "&F38 -> 循環器内科 八木秀介 | L38: =LENB(K38) -> 19 | M38: 001循環器内科 | N38: 5 | O38: 1 | P38: （重複1） | R38: 43182 | S38: 2018/3/23循環器内科 八木秀介■ | U38: 07065860036 | V38: 890036 | X38: CELL | Y38: CELL | Z38: CELL | AA38: 外004 | AC38: =IF(AB38="",2,IF(E38=AB38,1,0)) -> 2 | AE38: =IF(AD38="",2,IF(F38=AD38,1,0)) -> 2 | AG38: =IF(AF38="",2,IF(H38=AF38,1,0)) -> 2 | AI38: =IF(AH38="",2,IF(I38=AH38,1,0)) -> 2 | AJ38: 001循環器内科 | AK38: =IF(AJ38="",2,IF(M38=AJ38,1,0)) -> 1
A39: 0036 | B39: 携帯 | C39: 070-6586-0036 | D39: 89-0036 | E39: 総合診療部 | F39: 八木秀介 | G39: ｿｳｺﾞｳｼﾝﾘｮｳﾌﾞ | H39: ﾔｷﾞ | I39: 特任教授 | J39: ="tkhp89"&A39&"@softbank.ne.jp" -> tkhp890036@softbank.ne.jp | K39: =E39&" "&F39 -> 総合診療部 八木秀介 | L39: =LENB(K39) -> 19 | M39: 214総合診療部 | P39: （重複2） | R39: 45405 | S39: 2024/4/23総合診療部 八木秀介■ | U39: 07065860036 | V39: 890036 | X39: CELL | Y39: CELL | Z39: CELL | AA39: 外004 | AC39: =IF(AB39="",2,IF(E39=AB39,1,0)) -> 2 | AE39: =IF(AD39="",2,IF(F39=AD39,1,0)) -> 2 | AG39: =IF(AF39="",2,IF(H39=AF39,1,0)) -> 2 | AI39: =IF(AH39="",2,IF(I39=AH39,1,0)) -> 2 | AJ39: 001循環器内科 | AK39: =IF(AJ39="",2,IF(M39=AJ39,1,0)) -> 0
A40: 0037 | B40: 携帯 | C40: 070-6586-0037 | D40: 89-0037 | E40: 循環器内科 | F40: 添木武 | G40: ｼﾞｭﾝｶﾝｷﾅｲｶ | H40: ｿｴｷ | I40: 特任教授 | J40: ="tkhp89"&A40&"@softbank.ne.jp" -> tkhp890037@softbank.ne.jp | K40: =E40&" "&F40 -> 循環器内科 添木武 | L40: =LENB(K40) -> 17 | M40: 001循環器内科 | N40: 6 | O40: 1 | R40: 43919 | S40: 2018/3/23循環器内科 添木武■ | U40: 07065860037 | V40: 890037 | X40: CELL | Y40: CELL | Z40: CELL | AA40: 外005 | AC40: =IF(AB40="",2,IF(E40=AB40,1,0)) -> 2 | AE40: =IF(AD40="",2,IF(F40=AD40,1,0)) -> 2 | AG40: =IF(AF40="",2,IF(H40=AF40,1,0)) -> 2 | AI40: =IF(AH40="",2,IF(I40=AH40,1,0)) -> 2 | AJ40: 001循環器内科 | AK40: =IF(AJ40="",2,IF(M40=AJ40,1,0)) -> 1
...

Sheet 電話番号順
A1: 徳島大学病院 公用携帯（外線） 電話番号簿（番号順）
A2: ＊070-6586の以外の番号有 | G2: 番号順 2026/10/01現在
A3: 外線 | B3: 内線 | C3: 科(部)等名 | D3: 使用者氏名 | E3: カナ(科) | F3: カナ(氏) | G3: 職名
A4: 070-6586-0000 | B4: 89-0000 | C4: 病院長 | D4: 西良浩一 | E4: ﾋﾞｮｳｲﾝﾁｮｳ | F4: ｻｲﾘｮｳ | G4: 病院長
A5: 070-6586-0001 | B5: 89-0001 | C5: 病院長補佐 | D5: 近藤武 | E5: ﾋﾞｮｳｲﾝﾁｮｳﾎｻ | F5: ｺﾝﾄﾞｳ | G5: 病院長補佐
A6: 070-6586-0002 | B6: 89-0002 | C6: 事務部長 | D6: 浦田明宏 | E6: ｼﾞﾑﾌﾞﾁｮｳ | F6: ｳﾗﾀ | G6: 事務部長
A7: 070-6586-0003 | B7: 89-0003 | C7: 総務課・課長 | D7: 兒玉実和 | E7: ｿｳﾑ01 | F7: ｺﾀﾞﾏ | G7: 課長
A8: 070-6586-0004 | B8: 89-0004 | C8: 経営企画・副課長 施設企画室・副課長 | D8: 武政康平 | E8: ｹｲｴｲｷｶｸ02 | F8: ﾀｹﾏｻ | G8: 副課長
A9: 070-6586-0005 | B9: 89-0005 | C9: 経理調達・課長 | D9: 酒井稔雄 | E9: ｹｲﾘﾁｮｳﾀﾂ01 | F9: ｻｶｲ | G9: 課長
A10: 070-6586-0006 | B10: 89-0006 | C10: 経営企画・課長 | D10: 井元純 | E10: ｹｲｴｲｷｶｸ01 | F10: ｲﾓﾄ | G10: 課長
A11: 070-6586-0007 | B11: 89-0007 | C11: 医事・患者支援係 | D11: 桑内敬子 | E11: ｲｼﾞ11 | F11: ｸﾜｳﾁ | G11: 事務員
A12: 070-6586-0008 | B12: 89-0008 | C12: 麻酔科 | D12: 村上千晶 | E12: ﾏｽｲｶ | F12: ﾑﾗｶﾐ | G12: 診療支援医師
A13: 070-6586-0009 | B13: 89-0009 | C13: 医事・副課長 | D13: 立山あけみ | E13: ｲｼﾞ02 | F13: ﾀﾃﾔﾏ | G13: 副課長
A14: 070-6586-0010 | B14: 89-0010 | C14: 医事・課長 | D14: 安部修司 | E14: ｲｼﾞ01 | F14: ｱﾍﾞ | G14: 課長
... A18: 070-6586-0014 | B18: 89-0014 | C18: 患者支援セ | D18: 秋月佐代 | E18: ｶﾝｼﾞｬｼｴﾝｾ | F18: ｱｷﾂﾞｷ | G18: 医療ｿｰｼｬﾙﾜｰｶｰ
A19: 070-6586-0015 | B19: 89-0015 | C19: 病院情報セ | D19: ヘルプデスク携帯 | E19: ﾋﾞｮｳｲﾝｼﾞｮｳﾎｳｾ03 | G19: 病情ｾﾍﾙﾌﾟﾃﾞｽｸ
A20: 070-6586-0016 | B20: 89-0016 | C20: 病院情報セ | D20: 境貴司 | E20: ﾋﾞｮｳｲﾝｼﾞｮｳﾎｳｾ10 | F20: ｻｶｲ | G20: 技術員
A21: 070-6586-0017 | B21: 89-0017 | C21: 麻酔科 | D21: 合田かおる | E21: ﾏｽｲｶ | F21: ｺﾞｳﾀﾞ | G21: 医員
A22: 070-6586-0018 | B22: 89-0018 | C22: 病院情報セ | D22: 単暁 | E22: ﾋﾞｮｳｲﾝｼﾞｮｳﾎｳｾ09 | F22: ﾀﾝ | G22: 特任助教
A23: 070-6586-0019 | B23: 89-0019 | C23: 病院情報セ | D23: 田木真和 | E23: ﾋﾞｮｳｲﾝｼﾞｮｳﾎｳｾ08 | F23: ﾀｷﾞ | G23: 助教
A24: 070-6586-0020 | B24: 89-0020 | C24: 栄養部 | D24: 西部門長 | E24: ｴｲﾖｳﾌﾞ03 | F24: ﾆｼ | G24: 栄養管理部門長
A25: 070-6586-0021 | B25: 89-0021 | C25: 施設マ防災セ | D25: 電気 | E25: ｼｾﾂﾏ13 | F25: ﾃﾞﾝｷ | G25: 施設
A26: 070-6586-0022 | B26: 89-0022 | C26: 施設マ防災セ | D26: 機械 | E26: ｼｾﾂﾏ14 | F26: ｷｶｲ | G26: 施設
A27: 070-6586-0023 | B27: 89-0023 | C27: 施設マ防災セ | D27: 防災（建物・設備不具合） | E27: ｼｾﾂﾏ15 | F27: ﾎﾞｳｻｲ | G27: 施設
A28: 070-6586-0024 | B28: 89-0024 | C28: 施設マ防災セ | D28: 熱源 | E28: ｼｾﾂﾏ16 | F28: ﾈﾂﾃﾞﾝ | G28: 施設
A29: 070-6586-0025 | B29: 89-0025 | C29: 施設マ（建築） | D29: 谷優作 | E29: ｼｾﾂﾏ03 | F29: ﾀﾆ | G29: 技術員
A30: 070-6586-0026 | B30: 89-0026 | C30: 施設マ（建築） | D30: 市原美恵子 | E30: ｼｾﾂﾏ04 | F30: ｲﾁﾊﾗ | G30: 係長
A31: 070-6586-0027 | B31: 89-0027 | C31: 施設マ（専門員） | D31: 山澤高浩 | E31: ｼｾﾂﾏ05 | F31: ﾔﾏｻﾞﾜ | G31: 専門員
... A59: 070-6586-0054 | B59: 89-0054 | C59: 消化器内科 | D59: 大木元彩夏 | E59: ｼｮｳｶｷﾅｲｶ | F59: ｵｵｷﾞﾓﾄ | G59: 医員
A60: 070-6586-0055 | B60: 89-0055 | C60: 第1コール救急対応 | D60: 看護師（時間内） | E60: ｱｱ002 | G60: 看護師
A61: 070-6586-0056 | B61: 89-0056 | C61: 内分泌内科 | D61: 三井由加里 | E61: ﾅｲﾌﾞﾝﾋﾟﾂﾅｲｶ | F61: ﾐﾂｲ | G61: 診療支援医師
A62: 070-6586-0057 | B62: 89-0057 | C62: 血液内科 | D62: 堀太貴 | E62: ｹﾂｴｷﾅｲｶ | F62: ﾎﾘ | G62: 医員
A63: 070-6586-0058 | B63: 89-0058 | C63: 消化器内科 | D63: 三宅孝典 | E63: ｼｮｳｶｷﾅｲｶ | F63: ﾐﾔｹ | G63: 特任助教
A64: 070-6586-0059 | B64: 89-0059 | C64: 循環器内科 | D64: 原知也 | E64: ｼﾞｭﾝｶﾝｷﾅｲｶ | F64: ﾊﾗ | G64: 助教
A65: 070-6586-0060 | B65: 89-0060 | C65: 消化器内科 | D65: 田中貴大 | E65: ｼｮｳｶｷﾅｲｶ | F65: ﾀﾅｶ | G65: 診療支援医師
A66: 070-6586-0061 | B66: 89-0061 | C66: 消化器内科 | D66: 吉本貴則 | E66: ｼｮｳｶｷﾅｲｶ | F66: ﾖｼﾓﾄ | G66: 特任助教
A67: 070-6586-0062 | B67: 89-0062 | C67: 消化器内科 | D67: 花田康平 | E67: ｼｮｳｶｷﾅｲｶ | F67: ﾊﾅﾀﾞ | G67: 医員
A68: 070-6586-0063 | B68: 89-0063 | C68: 消化器内科 | D68: 曽我部正弘 | E68: ｼｮｳｶｷﾅｲｶ | F68: ｿｶﾞﾍﾞ | G68: 教授
A69: 070-6586-0064 | B69: 89-0064 | C69: 消化器内科 | D69: 堀江優希 | E69: ｼｮｳｶｷﾅｲｶ | F69: ﾎﾘｴ | G69: 医員
A70: 070-6586-0065 | B70: 89-0065 | C70: 救急科 | D70: 布村俊幸 | E70: ｷｭｳｷｭｳｶ | F70: ﾇﾉﾑﾗ | G70: 特任助教
...

Sheet 部署順
A1: 徳島大学病院 公用携帯（外線） 電話番号簿（部署順）
A2: ＊070-6586以外の番号有 | G2: 部署順 2026/10/01現在
A3: 外線 | B3: 内線 | C3: 科(部)等名 | D3: 使用者氏名 | E3: カナ(科) | F3: カナ(氏) | G3: 職名 | H3: 部署
A4: 070-6586-0085 | B4: 89-0085 | C4: 循環器内科 | D4: 伊勢孝之 | E4: ｼﾞｭﾝｶﾝｷﾅｲｶ | F4: ｲｾ | G4: 講師 | H4: 001循環器内科
A5: 070-6586-0092 | B5: 89-0092 | C5: 循環器内科 | D5: 上野理絵 | E5: ｼﾞｭﾝｶﾝｷﾅｲｶ | F5: ｳｴﾉ | G5: 特任助教 | H5: 001循環器内科
A6: 070-6586-0561 | B6: 89-0561 | C6: 循環器内科 | D6: 上荷康平 | E6: ｼﾞｭﾝｶﾝｷﾅｲｶ | F6: ｳﾜﾆ | G6: 医員 | H6: 001循環器内科
A7: 070-6586-0093 | B7: 89-0093 | C7: 循環器内科 | D7: 大櫛祐一郎 | E7: ｼﾞｭﾝｶﾝｷﾅｲｶ | F7: ｵｵｸｼ | G7: 助教 | H7: 001循環器内科
A8: 070-6586-0720 | B8: 89-0720 | C8: 循環器内科 | D8: 門田宗之 | E8: ｼﾞｭﾝｶﾝｷﾅｲｶ | F8: ｶﾄﾞﾀ | G8: 特任講師 | H8: 001循環器内科
A9: 070-6586-0035 | B9: 89-0035 | C9: 循環器内科 | D9: 川端豊 | E9: ｼﾞｭﾝｶﾝｷﾅｲｶ | F9: ｶﾜﾊﾞﾀ | G9: 助教 | H9: 001循環器内科
A10: 070-6586-0031 | B10: 89-0031 | C10: 循環器内科 | D10: 佐田政隆 | E10: ｼﾞｭﾝｶﾝｷﾅｲｶ | F10: ｻﾀ | G10: 教授 | H10: 001循環器内科
A11: 070-6586-0038 | B11: 89-0038 | C11: 循環器内科 | D11: 志村拓哉 | E11: ｼﾞｭﾝｶﾝｷﾅｲｶ | F11: ｼﾑﾗ | G11: 医員 | H11: 001循環器内科
A12: 070-6586-0037 | B12: 89-0037 | C12: 循環器内科 | D12: 添木武 | E12: ｼﾞｭﾝｶﾝｷﾅｲｶ | F12: ｿｴｷ | G12: 特任教授 | H12: 001循環器内科
A13: 070-6586-0200 | B13: 89-0200 | C13: 循環器内科 | D13: 高橋智紀 | E13: ｼﾞｭﾝｶﾝｷﾅｲｶ | F13: ﾀｶﾊｼ | G13: 特任助教 | H13: 001循環器内科
A14: 070-6586-0861 | B14: 89-0861 | C14: 循環器内科 | D14: 高橋智子 | E14: ｼﾞｭﾝｶﾝｷﾅｲｶ | F14: ﾀｶﾊｼ | G14: 医員 | H14: 001循環器内科
... A23: 070-6586-0089 | B23: 89-0089 | C23: 循環器内科 | D23: ロバートゼング | E23: ｼﾞｭﾝｶﾝｷﾅｲｶ | F23: ﾛﾊﾞｰﾄ | G23: 医員 | H23: 001循環器内科
A24: 070-6586-0100 | B24: 89-0100 | C24: 循環器内科 | D24: オンコール用 | E24: ｼﾞｭﾝｶﾝｷﾅｲｶ001 | G24: 当直医師 | H24: 002呼吸器内科
A25: 070-6586-0096 | B25: 89-0096 | C25: 呼吸器内科 | D25: 安宅克博 | E25: ｺｷｭｳｷﾅｲｶ | F25: ｱﾀｷﾞ | G25: 医員 | H25: 002呼吸器内科
A26: 070-6586-0308 | B26: 89-0308 | C26: 呼吸器内科 | D26: 阿部興生 | E26: ｺｷｭｳｷﾅｲｶ | F26: ｱﾍﾞ | G26: 医員 | H26: 002呼吸器内科
A27: 070-6586-0294 | B27: 89-0294 | C27: 呼吸器内科 | D27: 磯村祐太 | E27: ｺｷｭｳｷﾅｲｶ | F27: ｲｿﾑﾗ | G27: 医員 | H27: 002呼吸器内科
A28: 070-6586-0299 | B28: 89-0299 | C28: 呼吸器内科 | D28: 市原聖也 | E28: ｺｷｭｳｷﾅｲｶ | F28: ｲﾁﾊﾗ | G28: 医員 | H28: 002呼吸器内科
A29: 070-6586-0086 | B29: 89-0086 | C29: 呼吸器内科 | D29: 今倉健 | E29: ｺｷｭｳｷﾅｲｶ | F29: ｲﾏｸﾗ | G29: 医員 | H29: 002呼吸器内科
A30: 070-6586-0080 | B30: 89-0080 | C30: 呼吸器内科 | D30: 荻野広和 | E30: ｺｷｭｳｷﾅｲｶ | F30: ｵｷﾞﾉ | G30: 講師 | H30: 002呼吸器内科
A31: 070-6586-0095 | B31: 89-0095 | C31: 呼吸器内科 | D31: 梶本達也 | E31: ｺｷｭｳｷﾅｲｶ | F31: ｶｼﾞﾓﾄ | G31: 医員 | H31: 002呼吸器内科
A32: 070-6586-0662 | B32: 89-0662 | C32: 呼吸器内科 | D32: 河野弘 | E32: ｺｷｭｳｷﾅｲｶ | F32: ｶﾜﾉ | G32: 講師 | H32: 002呼吸器内科
A33: 070-6586-0087 | B33: 89-0087 | C33: 呼吸器内科 | D33: 國重道大 | E33: ｺｷｭｳｷﾅｲｶ | F33: ｸﾆｼｹﾞ | G33: 医員 | H33: 002呼吸器内科
A34: 070-6586-0115 | B34: 89-0115 | C34: 呼吸器内科 | D34: 小山壱也 | E34: ｺｷｭｳｷﾅｲｶ | F34: ｺﾔﾏ | G34: 特任講師 | H34: 002呼吸器内科
A35: 070-6586-0688 | B35: 89-0688 | C35: 呼吸器内科 | D35: 佐藤正大 | E35: ｺｷｭｳｷﾅｲｶ | F35: ｻﾄｳ | G35: 准教授 | H35: 002呼吸器内科
A36: 070-6586-0247 | B36: 89-0247 | C36: 呼吸器内科 | D36: 島田大嗣 | E36: ｺｷｭｳｷﾅｲｶ | F36: ｼﾏﾀﾞ | G36: 特任助教 | H36: 002呼吸器内科
... A50: 070-6586-0073 | B50: 89-0073 | C50: 呼吸器内科 | D50: 山本浩生 | E50: ｺｷｭｳｷﾅｲｶ | F50: ﾔﾏﾓﾄ | G50: 医員 | H50: 003消化器内科
A51: 070-6586-0661 | B51: 89-0661 | C51: 呼吸器内科 | D51: オンコール用 | E51: ｺｷｭｳｷﾅｲｶ | G51: 当直医師 | H51: 003消化器内科
A52: 070-6586-0102 | B52: 89-0102 | C52: 呼吸器内科 | D52: 病棟連絡用 | E52: ｺｷｭｳｷﾅｲｶ001 | G52: 呼内科病棟連絡用 | H52: 003消化器内科
A53: 070-6586-0445 | B53: 89-0445 | C53: 消化器内科 | D53: 井上昂 | E53: ｼｮｳｶｷﾅｲｶ | F53: ｲﾉｳｴ | G53: 医員 | H53: 003消化器内科
A54: 070-6586-0071 | B54: 89-0071 | C54: 消化器内科 | D54: 上田浩之 | E54: ｼｮｳｶｷﾅｲｶ | F54: ｳｴﾀﾞ | G54: 診療支援医師 | H54: 003消化器内科
A55: 070-6586-0054 | B55: 89-0054 | C55: 消化器内科 | D55: 大木元彩夏 | E55: ｼｮｳｶｷﾅｲｶ | F55: ｵｵｷﾞﾓﾄ | G55: 医員 | H55: 003消化器内科
A56: 070-6586-0540 | B56: 89-0540 | C56: 消化器内科 | D56: 大原一輝 | E56: ｼｮｳｶｷﾅｲｶ | F56: ｵｵﾊﾗ | G56: 医員 | H56: 003消化器内科
A57: 070-6586-0368 | B57: 89-0368 | C57: 消化器内科 | D57: 岡田泰行 | E57: ｼｮｳｶｷﾅｲｶ | F57: ｵｶﾀﾞ | G57: 助教 | H57: 003消化器内科
A58: 070-6586-0545 | B58: 89-0545 | C58: 消化器内科 | D58: 岡本耕一 | E58: ｼｮｳｶｷﾅｲｶ | F58: ｵｶﾓﾄ | G58: 講師 | H58: 003消化器内科
A59: 070-6586-0335 | B59: 89-0335 | C59: 消化器内科 | D59: 影本開三 | E59: ｼｮｳｶｷﾅｲｶ | F59: ｶｹﾞﾓﾄ | G59: 特任准教授 | H59: 003消化器内科
A60: 070-6586-0345 | B60: 89-0345 | C60: 消化器内科 | D60: 片山貴人 | E60: ｼｮｳｶｷﾅｲｶ | F60: ｶﾀﾔﾏ | G60: 医員 | H60: 003消化器内科
A61: 070-6586-0070 | B61: 89-0070 | C61: 消化器内科 | D61: 門田美由香 | E61: ｼｮｳｶｷﾅｲｶ | F61: ｶﾄﾞﾀ | G61: 診療支援医師 | H61: 003消化器内科
...

Sheet 電話帳配信用
A1: E列 | B1: F列 | C1: G列 | D1: H列 | E1: C列 | F1: X列 | G1: D列 | H1: Y列 | O1: J列 | P1: Z列 | Y1: P列 | AG1: M列
A2: 病院長 | B2: 香美祥二 | C2: ﾋﾞｮｳｲﾝﾁｮｳ | D2: ｶｶﾞﾐ | E2: 070-6586-0000 | F2: CELL | G2: 89-0000 | H2: CELL | O2: tkhp890000@softbank.ne.jp | P2: CELL | AG2: 701総務
A3: 循環器内科 | B3: 佐田政隆 | C3: ｼﾞｭﾝｶﾝｷﾅｲｶ | D3: ｻﾀ | E3: 070-6586-0031 | F3: CELL | G3: 89-0031 | H3: CELL | O3: tkhp890031@softbank.ne.jp | P3: CELL | AG3: 001循環器内科
A4: 循環器内科 | B4: ｵﾝｺｰﾙ携帯 | C4: ｼﾞｭﾝｶﾝｷﾅｲｶ001 | E4: 080-2996-2833 | F4: CELL;WORK | AG4: 001循環器内科
A5: 【緊急呼出PHS 0202】 | C5: ｱ | E5: 070-6586-0202 | F5: CELL | G5: 89-0202 | H5: CELL | O5: tkhp890202@softbank.ne.jp | P5: CELL | AG5: 204救急
B6: [内科外来]3200 | C6: ｱｱ011 | G6: 83-3200 | H6: VOICE | AG6: 991内線
A7: なし | B7: なし | C7: 半角 | D7: 半角 | E7: 070-6586-0005 | F7: CELL | G7: 半角 | H7: CELL | I7: 半角 | J7: CELL | K7: 半角 | L7: CELL | M7: 半角 | N7: CELL | O7: 半角 | P7: CELL | Q7: 半角 | R7: CELL | S7: 半角 | T7: CELL | U7: 半角 | V7: CELL | W7: 半角 | X7: CELL | AC7: WORK | AE7: WORK | AG7: 複数グループに所属させる場合、各グループを;（セミコロン）で区切る | AH7: 不使用
A8: 32 | B8: 32 | C8: 32 | D8: 32 | E8: 41 | F8: リスト | G8: 41 | H8: リスト | I8: 41 | J8: リスト | K8: 41 | L8: リスト | M8: 41 | N8: リスト | O8: 128 | P8: リスト | Q8: 128 | R8: リスト | S8: 128 | T8: リスト | U8: 128 | V8: リスト | W8: 128 | X8: リスト | Y8: 256 | Z8: 8 | AA8: 32 | AB8: 32 | AC8: リスト | AD8: 314 | AE8: リスト | AF8: 1024 | AG8: なし | AH8: -
A9: 名前（姓） | B9: 名前（名） | C9: ﾖﾐｶﾞﾅ（姓） | D9: ﾖﾐｶﾞﾅ（名） | E9: 電話番号1 | F9: 電話タイプ1 | G9: 電話番号2 | H9: 電話タイプ2 | I9: 電話番号3 | J9: 電話タイプ3 | K9: 電話番号4 | L9: 電話タイプ4 | M9: 電話番号5 | N9: 電話タイプ5 | O9: Eメールアドレス1 | P9: Eメールタイプ1 | Q9: Eメールアドレス2 | R9: Eメールタイプ2 | S9: Eメールアドレス3 | T9: Eメールタイプ3 | U9: Eメールアドレス4 | V9: Eメールタイプ4 | W9: Eメールアドレス5 | X9: Eメールタイプ5 | Y9: メモ | Z9: 誕生日 | AA9: 肩書き | AB9: 会社 | AC9: 住所タイプ | AD9: 住所 | AE9: URLタイプ | AF9: URL | AG9: グループNo | AH9: モード
A10: =IF(電話帳!E2="","",電話帳!E2) -> 病院長 | B10: =IF(電話帳!F2="","",電話帳!F2) -> 西良浩一 | C10: =IF(電話帳!G2="","",電話帳!G2) -> ﾋﾞｮｳｲﾝﾁｮｳ | D10: =IF(電話帳!H2="","",電話帳!H2) -> ｻｲﾘｮｳ | E10: =IF(電話帳!C2="","",電話帳!C2) -> 070-6586-0000 | F10: =IF(電話帳!X2="","",電話帳!X2) -> CELL | G10: =IF(電話帳!D2="","",電話帳!D2) -> 89-0000 | H10: =IF(電話帳!Y2="","",電話帳!Y2) -> CELL | O10: =IF(電話帳!J2="","",電話帳!J2) -> tkhp890000@softbank.ne.jp | P10: =IF(電話帳!Z2="","",電話帳!Z2) -> CELL | Y10: =IF(電話帳!P2="","",電話帳!P2) | AG10: =IF(電話帳!M2="","",電話帳!M2) -> 701総務
A11: =IF(電話帳!E3="","",電話帳!E3) -> 病院長補佐 | B11: =IF(電話帳!F3="","",電話帳!F3) -> 近藤武 | C11: =IF(電話帳!G3="","",電話帳!G3) -> ﾋﾞｮｳｲﾝﾁｮｳﾎｻ | D11: =IF(電話帳!H3="","",電話帳!H3) -> ｺﾝﾄﾞｳ | E11: =IF(電話帳!C3="","",電話帳!C3) -> 070-6586-0001 | F11: =IF(電話帳!X3="","",電話帳!X3) -> CELL | G11: =IF(電話帳!D3="","",電話帳!D3) -> 89-0001 | H11: =IF(電話帳!Y3="","",電話帳!Y3) -> CELL | O11: =IF(電話帳!J3="","",電話帳!J3) -> tkhp890001@softbank.ne.jp | P11: =IF(電話帳!Z3="","",電話帳!Z3) -> CELL | Y11: =IF(電話帳!P3="","",電話帳!P3) | AG11: =IF(電話帳!M3="","",電話帳!M3) -> 701総務
A12: =IF(電話帳!E4="","",電話帳!E4) -> 事務部長 | B12: =IF(電話帳!F4="","",電話帳!F4) -> 浦田明宏 | C12: =IF(電話帳!G4="","",電話帳!G4) -> ｼﾞﾑﾌﾞﾁｮｳ | D12: =IF(電話帳!H4="","",電話帳!H4) -> ｳﾗﾀ | E12: =IF(電話帳!C4="","",電話帳!C4) -> 070-6586-0002 | F12: =IF(電話帳!X4="","",電話帳!X4) -> CELL | G12: =IF(電話帳!D4="","",電話帳!D4) -> 89-0002 | H12: =IF(電話帳!Y4="","",電話帳!Y4) -> CELL | O12: =IF(電話帳!J4="","",電話帳!J4) -> tkhp890002@softbank.ne.jp | P12: =IF(電話帳!Z4="","",電話帳!Z4) -> CELL | Y12: =IF(電話帳!P4="","",電話帳!P4) | AG12: =IF(電話帳!M4="","",電話帳!M4) -> 701総務
A13: =IF(電話帳!E5="","",電話帳!E5) -> 総務課・課長 | B13: =IF(電話帳!F5="","",電話帳!F5) -> 兒玉実和 | C13: =IF(電話帳!G5="","",電話帳!G5) -> ｿｳﾑ01 | D13: =IF(電話帳!H5="","",電話帳!H5) -> ｺﾀﾞﾏ | E13: =IF(電話帳!C5="","",電話帳!C5) -> 070-6586-0003 | F13: =IF(電話帳!X5="","",電話帳!X5) -> CELL | G13: =IF(電話帳!D5="","",電話帳!D5) -> 89-0003 | H13: =IF(電話帳!Y5="","",電話帳!Y5) -> CELL | O13: =IF(電話帳!J5="","",電話帳!J5) -> tkhp890003@softbank.ne.jp | P13: =IF(電話帳!Z5="","",電話帳!Z5) -> CELL | Y13: =IF(電話帳!P5="","",電話帳!P5) | AG13: =IF(電話帳!M5="","",電話帳!M5) -> 701総務
A14: =IF(電話帳!E6="","",電話帳!E6) -> 経営企画・副課長 施設企画室・副課長 | B14: =IF(電話帳!F6="","",電話帳!F6) -> 武政康平 | C14: =IF(電話帳!G6="","",電話帳!G6) -> ｹｲｴｲｷｶｸ02 | D14: =IF(電話帳!H6="","",電話帳!H6) -> ﾀｹﾏｻ | E14: =IF(電話帳!C6="","",電話帳!C6) -> 070-6586-0004 | F14: =IF(電話帳!X6="","",電話帳!X6) -> CELL | G14: =IF(電話帳!D6="","",電話帳!D6) -> 89-0004 | H14: =IF(電話帳!Y6="","",電話帳!Y6) -> CELL | O14: =IF(電話帳!J6="","",電話帳!J6) -> tkhp890004@softbank.ne.jp | P14: =IF(電話帳!Z6="","",電話帳!Z6) -> CELL | Y14: =IF(電話帳!P6="","",電話帳!P6) | AG14: =IF(電話帳!M6="","",電話帳!M6) -> 702経営企画
A15: =IF(電話帳!E7="","",電話帳!E7) -> 経理調達・課長 | B15: =IF(電話帳!F7="","",電話帳!F7) -> 酒井稔雄 | C15: =IF(電話帳!G7="","",電話帳!G7) -> ｹｲﾘﾁｮｳﾀﾂ01 | D15: =IF(電話帳!H7="","",電話帳!H7) -> ｻｶｲ | E15: =IF(電話帳!C7="","",電話帳!C7) -> 070-6586-0005 | F15: =IF(電話帳!X7="","",電話帳!X7) -> CELL | G15: =IF(電話帳!D7="","",電話帳!D7) -> 89-0005 | H15: =IF(電話帳!Y7="","",電話帳!Y7) -> CELL | O15: =IF(電話帳!J7="","",電話帳!J7) -> tkhp890005@softbank.ne.jp | P15: =IF(電話帳!Z7="","",電話帳!Z7) -> CELL | Y15: =IF(電話帳!P7="","",電話帳!P7) | AG15: =IF(電話帳!M7="","",電話帳!M7) -> 704経理調達
A16: =IF(電話帳!E8="","",電話帳!E8) -> 経営企画・課長 | B16: =IF(電話帳!F8="","",電話帳!F8) -> 井元純 | C16: =IF(電話帳!G8="","",電話帳!G8) -> ｹｲｴｲｷｶｸ01 | D16: =IF(電話帳!H8="","",電話帳!H8) -> ｲﾓﾄ | E16: =IF(電話帳!C8="","",電話帳!C8) -> 070-6586-0006 | F16: =IF(電話帳!X8="","",電話帳!X8) -> CELL | G16: =IF(電話帳!D8="","",電話帳!D8) -> 89-0006 | H16: =IF(電話帳!Y8="","",電話帳!Y8) -> CELL | O16: =IF(電話帳!J8="","",電話帳!J8) -> tkhp890006@softbank.ne.jp | P16: =IF(電話帳!Z8="","",電話帳!Z8) -> CELL | Y16: =IF(電話帳!P8="","",電話帳!P8) | AG16: =IF(電話帳!M8="","",電話帳!M8) -> 702経営企画
A17: =IF(電話帳!E9="","",電話帳!E9) -> 医事・患者支援係 | B17: =IF(電話帳!F9="","",電話帳!F9) -> 桑内敬子 | C17: =IF(電話帳!G9="","",電話帳!G9) -> ｲｼﾞ11 | D17: =IF(電話帳!H9="","",電話帳!H9) -> ｸﾜｳﾁ | E17: =IF(電話帳!C9="","",電話帳!C9) -> 070-6586-0007 | F17: =IF(電話帳!X9="","",電話帳!X9) -> CELL | G17: =IF(電話帳!D9="","",電話帳!D9) -> 89-0007 | H17: =IF(電話帳!Y9="","",電話帳!Y9) -> CELL | O17: =IF(電話帳!J9="","",電話帳!J9) -> tkhp890007@softbank.ne.jp | P17: =IF(電話帳!Z9="","",電話帳!Z9) -> CELL | Y17: =IF(電話帳!P9="","",電話帳!P9) | AG17: =IF(電話帳!M9="","",電話帳!M9) -> 705医事
A18: =IF(電話帳!E10="","",電話帳!E10) -> 麻酔科 | B18: =IF(電話帳!F10="","",電話帳!F10) -> 村上千晶 | C18: =IF(電話帳!G10="","",電話帳!G10) -> ﾏｽｲｶ | D18: =IF(電話帳!H10="","",電話帳!H10) -> ﾑﾗｶﾐ | E18: =IF(電話帳!C10="","",電話帳!C10) -> 070-6586-0008 | F18: =IF(電話帳!X10="","",電話帳!X10) -> CELL | G18: =IF(電話帳!D10="","",電話帳!D10) -> 89-0008 | H18: =IF(電話帳!Y10="","",電話帳!Y10) -> CELL | O18: =IF(電話帳!J10="","",電話帳!J10) -> tkhp890008@softbank.ne.jp | P18: =IF(電話帳!Z10="","",電話帳!Z10) -> CELL | Y18: =IF(電話帳!P10="","",電話帳!P10) | AG18: =IF(電話帳!M10="","",電話帳!M10) -> 020麻酔科
A19: =IF(電話帳!E11="","",電話帳!E11) -> 医事・副課長 | B19: =IF(電話帳!F11="","",電話帳!F11) -> 立山あけみ | C19: =IF(電話帳!G11="","",電話帳!G11) -> ｲｼﾞ02 | D19: =IF(電話帳!H11="","",電話帳!H11) -> ﾀﾃﾔﾏ | E19: =IF(電話帳!C11="","",電話帳!C11) -> 070-6586-0009 | F19: =IF(電話帳!X11="","",電話帳!X11) -> CELL | G19: =IF(電話帳!D11="","",電話帳!D11) -> 89-0009 | H19: =IF(電話帳!Y11="","",電話帳!Y11) -> CELL | O19: =IF(電話帳!J11="","",電話帳!J11) -> tkhp890009@softbank.ne.jp | P19: =IF(電話帳!Z11="","",電話帳!Z11) -> CELL | Y19: =IF(電話帳!P11="","",電話帳!P11) | AG19: =IF(電話帳!M11="","",電話帳!M11) -> 705医事
A20: =IF(電話帳!E12="","",電話帳!E12) -> 医事・課長 | B20: =IF(電話帳!F12="","",電話帳!F12) -> 安部修司 | C20: =IF(電話帳!G12="","",電話帳!G12) -> ｲｼﾞ01 | D20: =IF(電話帳!H12="","",電話帳!H12) -> ｱﾍﾞ | E20: =IF(電話帳!C12="","",電話帳!C12) -> 070-6586-0010 | F20: =IF(電話帳!X12="","",電話帳!X12) -> CELL | G20: =IF(電話帳!D12="","",電話帳!D12) -> 89-0010 | H20: =IF(電話帳!Y12="","",電話帳!Y12) -> CELL | O20: =IF(電話帳!J12="","",電話帳!J12) -> tkhp890010@softbank.ne.jp | P20: =IF(電話帳!Z12="","",電話帳!Z12) -> CELL | Y20: =IF(電話帳!P12="","",電話帳!P12) | AG20: =IF(電話帳!M12="","",電話帳!M12) -> 705医事
A21: =IF(電話帳!E13="","",電話帳!E13) -> 施設企画係・係長 経営企画・副課長 | B21: =IF(電話帳!F13="","",電話帳!F13) -> 松木由美 | C21: =IF(電話帳!G13="","",電話帳!G13) -> ｼｾﾂｷｶｸｼﾂ02 | D21: =IF(電話帳!H13="","",電話帳!H13) -> ﾏﾂｷ | E21: =IF(電話帳!C13="","",電話帳!C13) -> 070-6586-0011 | F21: =IF(電話帳!X13="","",電話帳!X13) -> CELL | G21: =IF(電話帳!D13="","",電話帳!D13) -> 89-0011 | H21: =IF(電話帳!Y13="","",電話帳!Y13) -> CELL | O21: =IF(電話帳!J13="","",電話帳!J13) -> tkhp890011@softbank.ne.jp | P21: =IF(電話帳!Z13="","",電話帳!Z13) -> CELL | Y21: =IF(電話帳!P13="","",電話帳!P13) | AG21: =IF(電話帳!M13="","",電話帳!M13) -> 703施設企画室
... A1051: =IF(電話帳!E1043="","",電話帳!E1043) -> 20261001 | B1051: =IF(電話帳!F1043="","",電話帳!F1043) -> 配信９７６件 | C1051: =IF(電話帳!G1043="","",電話帳!G1043) -> -- | D1051: =IF(電話帳!H1043="","",電話帳!H1043) | E1051: =IF(電話帳!C1043="","",電話帳!C1043) | F1051: =IF(電話帳!X1043="","",電話帳!X1043) | G1051: =IF(電話帳!D1043="","",電話帳!D1043) -> 99999999999 | H1051: =IF(電話帳!Y1043="","",電話帳!Y1043) | O1051: =IF(電話帳!J1043="","",電話帳!J1043) | P1051: =IF(電話帳!Z1043="","",電話帳!Z1043) | Y1051: =IF(電話帳!P1043="","",電話帳!P1043) | AG1051: =IF(電話帳!M1043="","",電話帳!M1043) -> 999計

Sheet 並べ替え
