Workbook

Sheet （参考）使用状況
A1: 外線PHS利用状況
A2: 回線使用中 | B2: 貸出中 | C2: =C22 -> 913
B3: 在庫 | C3: =COUNTIF(電話帳!$Q$2:$Q$1043,"在庫*") -> 16
A4: 回線停止中 | B4: 回線停止 | C4: =COUNTIF(電話帳!$Q$2:$Q$1043,B4) -> 0
A5: 合計 | C5: =SUM(C2:C4) -> 929
A8: 外線PHS貸出状況
A9: 管理要項 第4条 | C9: 携帯 | D9: 計
A10: 1 | B10: 病院長 | C10: =COUNTIF(電話帳!$N$2:$N$1043,A10) -> 1 | D10: =SUM(C10:C20) -> 676
A11: 2 | B11: 副病院長 | C11: =COUNTIF(電話帳!$N$2:$N$1043,A11) -> 5
A12: 3 | B12: 病院長補佐 | C12: =COUNTIF(電話帳!$N$2:$N$1043,A12) -> 13
A13: 4 | B13: 診療科長 | C13: =COUNTIF(電話帳!$N$2:$N$1043,A13) -> 26
A14: 5 | B14: 中央診療施設等の部、室またはセンター長 | C14: =COUNTIF(電話帳!$N$2:$N$1043,A14) -> 17
A15: 6 | B15: 医科診療部門の医師 | C15: =COUNTIF(電話帳!$N$2:$N$1043,A15) -> 459
A16: 7 | B16: 歯科診療部門の歯科医師 | C16: =COUNTIF(電話帳!$N$2:$N$1043,A16) -> 77
A17: 8 | B17: 薬剤部長および副薬剤部長 | C17: =COUNTIF(電話帳!$N$2:$N$1043,A17) -> 3
A18: 9 | B18: 副看護部長および看護師長 | C18: =COUNTIF(電話帳!$N$2:$N$1043,A18) -> 59
A19: 10 | B19: 診療支援部長及び診療支援部各部門長 | C19: =COUNTIF(電話帳!$N$2:$N$1043,A19) -> 5
A20: 11 | B20: 病院事務部各課長及び各課長補佐 | C20: =COUNTIF(電話帳!$N$2:$N$1043,A20) -> 11
A21: 12 | B21: その他病院長が特に必要と認めた者 | C21: =COUNTIF(電話帳!$N$2:$N$1043,A21) -> 237 | D21: =SUM(C21) -> 237
B22: 合計 | C22: =SUM(C10:C21) -> 913 | D22: =SUM(D10:D21) -> 913
A24: ※肩書や所属を２つ持つ者のPHSに関しては、数の小さい号の方でカウント
A27: 外線PHS貸出状況
B28: 職種 | C28: 携帯 | D28: 計
A29: 1 | B29: 医師 | C29: =COUNTIF(電話帳!$O$2:$O$1043,A29) -> 500 | D29: =SUM(C29:C35) -> 913
A30: 2 | B30: 歯科医師 | C30: =COUNTIF(電話帳!$O$2:$O$1043,A30) -> 88
A31: 3 | B31: 看護師 | C31: =COUNTIF(電話帳!$O$2:$O$1043,A31) -> 124
A32: 4 | B32: 薬剤師 | C32: =COUNTIF(電話帳!$O$2:$O$1043,A32) -> 21
A33: 5 | B33: 医療技術部（技師等） | C33: =COUNTIF(電話帳!$O$2:$O$1043,A33) -> 60
A34: 6 | B34: 事務 | C34: =COUNTIF(電話帳!$O$2:$O$1043,A34) -> 53
A35: 7 | B35: その他（施設管理、緊急用、当直用など） | C35: =COUNTIF(電話帳!$O$2:$O$1043,A35) -> 67
B36: 合計 | C36: =SUM(C29:C35) -> 913 | D36: =SUM(D29:D35) -> 913

Sheet （参考）部署一覧
A1: 0 | B1: 診療科(医科) | C1: 01 | D1: 循環器内科 | F1: =A1&C1&D1 -> 001循環器内科
A2: 0 | B2: 診療科(医科) | C2: 02 | D2: 呼吸器内科 | F2: =A2&C2&D2 -> 002呼吸器内科
A3: 0 | B3: 診療科(医科) | C3: 03 | D3: 消化器内科 | F3: =A3&C3&D3 -> 003消化器内科
A4: 0 | B4: 診療科(医科) | C4: 04 | D4: 腎臓内科 | F4: =A4&C4&D4 -> 004腎臓内科
A5: 0 | B5: 診療科(医科) | C5: 05 | D5: 内分泌内科 | F5: =A5&C5&D5 -> 005内分泌内科 | G5: 旧 005内内・血内
A6: 0 | B6: 診療科(医科) | C6: 06 | D6: 血液内科 | F6: =A6&C6&D6 -> 006血液内科 | G6: 旧 005内内・血内
A7: 0 | B7: 診療科(医科) | C7: 07 | D7: 脳神経内科 | F7: =A7&C7&D7 -> 007脳神経内科
A8: 0 | B8: 診療科(医科) | C8: 08 | D8: 心臓血管外科 | F8: =A8&C8&D8 -> 008心臓血管外科
A9: 0 | B9: 診療科(医科) | C9: 09 | D9: 食乳甲外科 | F9: =A9&C9&D9 -> 009食乳甲外科 | G9: 旧 009食外・呼外
A10: 0 | B10: 診療科(医科) | C10: 10 | D10: 呼吸器外科 | F10: =A10&C10&D10 -> 010呼吸器外科 | G10: 旧 009食外・呼外
A11: 0 | B11: 診療科(医科) | C11: 11 | D11: 泌尿器科 | F11: =A11&C11&D11 -> 011泌尿器科
A12: 0 | B12: 診療科(医科) | C12: 12 | D12: 消化器外科 | F12: =A12&C12&D12 -> 012消化器外科 | G12: 旧 012消外・児外
A13: 0 | B13: 診療科(医科) | C13: 13 | D13: 小児外科 | F13: =A13&C13&D13 -> 013小児外科 | G13: 旧 012消外・児外
A14: 0 | B14: 診療科(医科) | C14: 14 | D14: 眼科 | F14: =A14&C14&D14 -> 014眼科
A15: 0 | B15: 診療科(医科) | C15: 15 | D15: 耳鼻咽喉科 | F15: =A15&C15&D15 -> 015耳鼻咽喉科
A16: 0 | B16: 診療科(医科) | C16: 16 | D16: 整形外科 | F16: =A16&C16&D16 -> 016整形外科
A17: 0 | B17: 診療科(医科) | C17: 17 | D17: 皮膚科 | F17: =A17&C17&D17 -> 017皮膚科
A18: 0 | B18: 診療科(医科) | C18: 18 | D18: 形成外科 | F18: =A18&C18&D18 -> 018形成外科
A19: 0 | B19: 診療科(医科) | C19: 19 | D19: 脳神経外科 | F19: =A19&C19&D19 -> 019脳神経外科
A20: 0 | B20: 診療科(医科) | C20: 20 | D20: 麻酔科 | F20: =A20&C20&D20 -> 020麻酔科
A21: 0 | B21: 診療科(医科) | C21: 21 | D21: 精神科神経科 | F21: =A21&C21&D21 -> 021精神科神経科
A22: 0 | B22: 診療科(医科) | C22: 22 | D22: 小児科 | F22: =A22&C22&D22 -> 022小児科
A23: 0 | B23: 診療科(医科) | C23: 23 | D23: 産科婦人科 | F23: =A23&C23&D23 -> 023産科婦人科
A24: 0 | B24: 診療科(医科) | C24: 24 | D24: 放射線科 | F24: =A24&C24&D24 -> 024放射線科
A25: 0 | B25: 診療科(医科) | C25: 25 | D25: 救急科 | F25: =A25&C25&D25 -> 025救急科 | G25: 旧 204救急
A26: 0 | B26: 診療科(医科) | C26: 26 | D26: 病理診断科 | F26: =A26&C26&D26 -> 026病理診断科 | G26: 旧 210病理部
A27: 0 | B27: 診療科(医科) | C27: 27
A28: 1 | B28: 診療科(歯科) | C28: 01 | D28: むし歯科（１保） | F28: =A28&C28&D28 -> 101むし歯科（１保） | G28: 101むし歯科(1保)
A29: 1 | B29: 診療科(歯科) | C29: 02 | D29: 歯周病科（２保） | F29: =A29&C29&D29 -> 102歯周病科（２保） | G29: 102歯周病科(2保)
A30: 1 | B30: 診療科(歯科) | C30: 03 | D30: そしゃく科（１補） | F30: =A30&C30&D30 -> 103そしゃく科（１補） | G30: 103そしゃく科(1補)
A31: 1 | B31: 診療科(歯科) | C31: 04 | D31: かみあわせ科（２補） | F31: =A31&C31&D31 -> 104かみあわせ科（２補） | G31: 104かみあわせ科(2補)
A32: 1 | B32: 診療科(歯科) | C32: 05 | D32: 歯科放射線科 | F32: =A32&C32&D32 -> 105歯科放射線科
A33: 1 | B33: 診療科(歯科) | C33: 06 | D33: 口腔内科 | F33: =A33&C33&D33 -> 106口腔内科 | G33: 旧 108口腔内科
A34: 1 | B34: 診療科(歯科) | C34: 07 | D34: 口腔外科 | F34: =A34&C34&D34 -> 107口腔外科 | G34: 旧 109口腔外科
A35: 1 | B35: 診療科(歯科) | C35: 08 | D35: 歯科麻酔科 | F35: =A35&C35&D35 -> 108歯科麻酔科 | G35: 旧 110歯科麻酔科
A36: 1 | B36: 診療科(歯科) | C36: 09 | D36: 矯正歯科 | F36: =A36&C36&D36 -> 109矯正歯科 | G36: 旧 106矯正歯科
A37: 1 | B37: 診療科(歯科) | C37: 10 | D37: 小児歯科 | F37: =A37&C37&D37 -> 110小児歯科 | G37: 旧 107小児歯科
A38: 2 | B38: 中央診療施設 | C38: 01 | D38: 検査部 | F38: =A38&C38&D38 -> 201検査部
A39: 2 | B39: 中央診療施設 | C39: 02 | D39: 手術部 | F39: =A39&C39&D39 -> 202手術部
A40: 2 | B40: 中央診療施設 | C40: 03 | D40: 放射線部 | F40: =A40&C40&D40 -> 203放射線部
A41: 2 | B41: 中央診療施設 | C41: 04 | F41: =A41&C41&D41 -> 204
A42: 2 | B42: 中央診療施設 | C42: 05 | D42: リハビリテーション部 | F42: =A42&C42&D42 -> 205リハビリテーション部 | G42: 旧 161リハビリ
A43: 2 | B43: 中央診療施設 | C43: 06 | D43: 視能訓練部 | F43: =A43&C43&D43 -> 206視能訓練部
A44: 2 | B44: 中央診療施設 | C44: 07 | F44: =A44&C44&D44 -> 207
A45: 2 | B45: 中央診療施設 | C45: 08 | D45: 輸血細胞治療部 | F45: =A45&C45&D45 -> 208輸血細胞治療部
A46: 2 | B46: 中央診療施設 | C46: 09 | D46: 病院情報セ | F46: =A46&C46&D46 -> 209病院情報セ
A47: 2 | B47: 中央診療施設 | C47: 10 | F47: =A47&C47&D47 -> 210
A48: 2 | B48: 中央診療施設 | C48: 11 | D48: 臨床研究推進部 | F48: =A48&C48&D48 -> 211臨床研究推進部 | G48: 旧 211総合臨床セ 211臨床試験セ
A49: 2 | B49: 中央診療施設 | C49: 12 | D49: 総合歯科 | F49: =A49&C49&D49 -> 212総合歯科
A50: 2 | B50: 中央診療施設 | C50: 13 | D50: 高次歯科 | F50: =A50&C50&D50 -> 213高次歯科
A51: 2 | B51: 中央診療施設 | C51: 14 | D51: 総合診療部 | F51: =A51&C51&D51 -> 214総合診療部
A52: 2 | B52: 中央診療施設 | C52: 15 | D52: 患者支援セ | F52: =A52&C52&D52 -> 215患者支援セ
A53: 2 | B53: 中央診療施設 | C53: 16 | F53: =A53&C53&D53 -> 216
A54: 2 | B54: 中央診療施設 | C54: 17 | D54: ゲノム医療セ | F54: =A54&C54&D54 -> 217ゲノム医療セ | G54: 旧 217臨床遺伝
A55: 2 | B55: 中央診療施設 | C55: 18 | F55: =A55&C55&D55 -> 218
A56: 2 | B56: 中央診療施設 | C56: 19 | F56: =A56&C56&D56 -> 219
A57: 2 | B57: 中央診療施設 | C57: 20 | D57: 内視鏡セ | F57: =A57&C57&D57 -> 220内視鏡セ
A58: 2 | B58: 中央診療施設 | C58: 21 | D58: 超音波セ | F58: =A58&C58&D58 -> 221超音波セ
A59: 2 | B59: 中央診療施設 | C59: 22 | F59: =A59&C59&D59 -> 222
A60: 2 | B60: 中央診療施設 | C60: 23 | D60: 技工室 | F60: =A60&C60&D60 -> 223技工室 | G60: ×
A61: 2 | B61: 中央診療施設 | C61: 24 | D61: 歯科衛生室 | F61: =A61&C61&D61 -> 224歯科衛生室 | G61: ×
A62: 2 | B62: 中央診療施設 | C62: 25 | D62: 安全管理・感染制御 | F62: =A62&C62&D62 -> 225安全管理・感染制御
A63: 2 | B63: 中央診療施設 | C63: 26 | F63: =A63&C63&D63 -> 226
A64: 2 | B64: 中央診療施設 | C64: 27 | D64: 卒後臨床 | F64: =A64&C64&D64 -> 227卒後臨床
A65: 2 | B65: 中央診療施設 | C65: 28 | F65: =A65&C65&D65 -> 228
A66: 2 | B66: 中央診療施設 | C66: 29 | F66: =A66&C66&D66 -> 229
A67: 2 | B67: 中央診療施設 | C67: 30 | F67: =A67&C67&D67 -> 230
A68: 2 | B68: 中央診療施設 | C68: 31 | F68: =A68&C68&D68 -> 231
A69: 2 | B69: 中央診療施設 | C69: 32 | F69: =A69&C69&D69 -> 232
A70: 2 | B70: 中央診療施設 | C70: 33 | F70: =A70&C70&D70 -> 233
A71: 2 | B71: 中央診療施設 | C71: 34 | D71: がん診療セ | F71: =A71&C71&D71 -> 234がん診療セ
A72: 2 | B72: 中央診療施設 | C72: 35 | D72: 褥瘡対策室 | F72: =A72&C72&D72 -> 235褥瘡対策室
A73: 2 | B73: 中央診療施設 | C73: 36 | D73: 物流セ | F73: =A73&C73&D73 -> 236物流セ
A74: 2 | B74: 中央診療施設 | C74: 37 | D74: ＭＥ管理セ | F74: =A74&C74&D74 -> 237ＭＥ管理セ
A75: 2 | B75: 中央診療施設 | C75: 38 | F75: =A75&C75&D75 -> 238
A76: 2 | B76: 中央診療施設 | C76: 39 | F76: =A76&C76&D76 -> 239
A77: 2 | B77: 中央診療施設 | C77: 40 | F77: =A77&C77&D77 -> 240
A78: 2 | B78: 中央診療施設 | C78: 41 | F78: =A78&C78&D78 -> 241
A79: 2 | B79: 中央診療施設 | C79: 42 | D79: キャリア形成 | F79: =A79&C79&D79 -> 242キャリア形成
A80: 2 | B80: 中央診療施設 | C80: 43 | D80: 糖尿病対策セ | F80: =A80&C80&D80 -> 243糖尿病対策セ
A81: 2 | B81: 中央診療施設 | C81: 44
A82: 2 | B82: 中央診療施設 | C82: 45 | D82: 口腔インプラントセ | F82: =A82&C82&D82 -> 245口腔インプラントセ
A83: 2 | B83: 中央診療施設 | C83: 46 | D83: クリニカルアナトミー | F83: =A83&C83&D83 -> 246クリニカルアナトミー
A84: 2 | B84: 中央診療施設 | C84: 47
A85: 2 | B85: 中央診療施設 | C85: 48
A86: 2 | B86: 中央診療施設 | C86: 49
A87: 2 | B87: 中央診療施設 | C87: 50
A88: 2 | B88: 中央診療施設 | C88: 51
A89: 2 | B89: 中央診療施設 | C89: 52
A90: 2 | B90: 中央診療施設 | C90: 53 | D90: 地域外科診 | F90: =A90&C90&D90 -> 253地域外科診
A91: 2 | B91: 中央診療施設 | C91: 54 | D91: 倫理コンサルテーションチーム | F91: 254倫理コンサル
A92: 2 | B92: 中央診療施設 | C92: 55
A93: 2 | B93: 中央診療施設 | C93: 56
A94: 3 | B94: 薬剤部 | C94: 01 | D94: 薬剤部 | F94: =A94&C94&D94 -> 301薬剤部
A95: 4 | B95: 看護部 | C95: 01 | D95: 看護部 | F95: =A95&C95&D95 -> 401看護部
A96: 5 | B96: 医療技術部 | C96: 01 | D96: 検査部 | F96: =A96&C96&D96 -> 501検査部
A97: 5 | B97: 医療技術部 | C97: 02 | D97: 放射線部 | F97: =A97&C97&D97 -> 502放射線部
A98: 5 | B98: 医療技術部 | C98: 03 | D98: リハビリテーション部 | F98: =A98&C98&D98 -> 503リハビリテーション部
A99: 5 | B99: 医療技術部 | C99: 04 | D99: 視能訓練部 | F99: =A99&C99&D99 -> 504視能訓練部
A100: 5 | B100: 医療技術部 | C100: 05 | D100: ＭＥ管理セ | F100: =A100&C100&D100 -> 505ＭＥ管理セ | G100: 旧 505ＭＥ管理セ
...

Sheet 電話帳
A1: 新番号 | B1: 種別(新) | C1: 外線;電話番号1 | D1: 内線;電話番号2 | E1: 科(部)等名(全角入力) | F1: 使用者氏名(全角入力) | G1: ｶﾅ科 | H1: ｶﾅ氏 | I1: 職名 | J1: メールアドレス1 | K1: 氏 名 | L1: 文字数 | M1: 資料作成用部署名 | N1: 要項4条 | O1: 職種 | P1: 重複 | Q1: 状態 | R1: 処理日 | S1: 備考 | T1: 在庫薄い時、回収候補 | U1: 電話番号 | V1: NX内線 | W1: 内PHS電話帳(緊急) | X1: 電話タイプ1 | Y1: 電話タイプ2 | Z1: Eメールタイプ1 | AB1: 科(部)等名→変更後 | AC1: check | AD1: 利用者氏名→変更後 | AE1: check | AF1: ﾌﾘｶﾞﾅ(姓) | AG1: check | AH1: 職名→変更後 | AI1: check | AJ1: 資料作成→変更後 | AK1: check
A2: 0000 | B2: 携帯 | C2: 070-6586-0000 | D2: 89-0000 | E2: 病院長 | F2: 西良浩一 | G2: ﾋﾞｮｳｲﾝﾁｮｳ | H2: ｻｲﾘｮｳ | I2: 病院長 | J2: ="tkhp89"&A2&"@softbank.ne.jp" -> tkhp890000@softbank.ne.jp | K2: =E2&" "&F2 -> 病院長 西良浩一 | L2: =LENB(K2) -> 15 | M2: 701総務 | N2: 1 | O2: 1 | R2: 45748 | S2: 20254/1病院長 西良浩一■2019/3/25病院長 香美祥二■ | U2: 07065860000 | V2: 890000 | X2: CELL | Y2: CELL | Z2: CELL | AA2: 外839 | AC2: =IF(AB2="",2,IF(E2=AB2,1,0)) -> 2 | AE2: =IF(AD2="",2,IF(F2=AD2,1,0)) -> 2 | AG2: =IF(AF2="",2,IF(H2=AF2,1,0)) -> 2 | AI2: =IF(AH2="",2,IF(I2=AH2,1,0)) -> 2 | AJ2: 701総務 | AK2: =IF(AJ2="",2,IF(M2=AJ2,1,0)) -> 1
A3: 0001 | B3: 携帯 | C3: 070-6586-0001 | D3: 89-0001 | E3: 病院長補佐 | F3: 近藤武 | G3: ﾋﾞｮｳｲﾝﾁｮｳﾎｻ | H3: ｺﾝﾄﾞｳ | I3: 病院長補佐 | J3: ="tkhp89"&A3&"@softbank.ne.jp" -> tkhp890001@softbank.ne.jp | K3: =E3&" "&F3 -> 病院長補佐 近藤武 | L3: =LENB(K3) -> 17 | M3: 701総務 | N3: 3 | O3: 6 | R3: 44652 | S3: 2022/4/1病院長補佐 近藤武■2017/3/3病院長補佐 篠原義明■ | U3: 07065860001 | V3: 890001 | X3: CELL | Y3: CELL | Z3: CELL | AA3: 外842 | AC3: =IF(AB3="",2,IF(E3=AB3,1,0)) -> 2 | AE3: =IF(AD3="",2,IF(F3=AD3,1,0)) -> 2 | AG3: =IF(AF3="",2,IF(H3=AF3,1,0)) -> 2 | AI3: =IF(AH3="",2,IF(I3=AH3,1,0)) -> 2 | AJ3: 701総務 | AK3: =IF(AJ3="",2,IF(M3=AJ3,1,0)) -> 1
A4: 0002 | B4: 携帯 | C4: 070-6586-0002 | D4: 89-0002 | E4: 事務部長 | F4: 浦田明宏 | G4: ｼﾞﾑﾌﾞﾁｮｳ | H4: ｳﾗﾀ | I4: 事務部長 | J4: ="tkhp89"&A4&"@softbank.ne.jp" -> tkhp890002@softbank.ne.jp | K4: =E4&" "&F4 -> 事務部長 浦田明宏 | L4: =LENB(K4) -> 17 | M4: 701総務 | N4: 3 | O4: 6 | R4: 45748 | S4: 2025/4/1事務部長 浦田明宏■2023/4/1事務部長 脇元直彦■2022/4/1事務部次長 脇元直彦■2020/3/29事務部長 前島一実■2018/3/26事務部長 岡田俊■ | U4: 07065860002 | V4: 890002 | X4: CELL | Y4: CELL | Z4: CELL | AA4: 外828 | AC4: =IF(AB4="",2,IF(E4=AB4,1,0)) -> 2 | AE4: =IF(AD4="",2,IF(F4=AD4,1,0)) -> 2 | AG4: =IF(AF4="",2,IF(H4=AF4,1,0)) -> 2 | AI4: =IF(AH4="",2,IF(I4=AH4,1,0)) -> 2 | AJ4: 701総務 | AK4: =IF(AJ4="",2,IF(M4=AJ4,1,0)) -> 1
A5: 0003 | B5: 携帯 | C5: 070-6586-0003 | D5: 89-0003 | E5: 総務課・課長 | F5: 兒玉実和 | G5: ｿｳﾑ01 | H5: ｺﾀﾞﾏ | I5: 課長 | J5: ="tkhp89"&A5&"@softbank.ne.jp" -> tkhp890003@softbank.ne.jp | K5: =E5&" "&F5 -> 総務課・課長 兒玉実和 | L5: =LENB(K5) -> 21 | M5: 701総務 | N5: 11 | O5: 6 | R5: 45383 | S5: 2024/4/1総務課・課長 兒玉実和■2023/4/1総務課・課長 原田直樹■2020/3/29総務・課長 泉朗■2018/3/23総務・課長 槌谷和也■ | U5: 07065860003 | V5: 890003 | X5: CELL | Y5: CELL | Z5: CELL | AA5: 外829 | AC5: =IF(AB5="",2,IF(E5=AB5,1,0)) -> 2 | AD5: 兒玉実和 | AE5: =IF(AD5="",2,IF(F5=AD5,1,0)) -> 1 | AF5: ｺﾀﾞﾏ | AG5: =IF(AF5="",2,IF(H5=AF5,1,0)) -> 1 | AH5: 課長 | AI5: =IF(AH5="",2,IF(I5=AH5,1,0)) -> 1 | AJ5: 701総務 | AK5: =IF(AJ5="",2,IF(M5=AJ5,1,0)) -> 1
A6: 0004 | B6: 携帯 | C6: 070-6586-0004 | D6: 89-0004 | E6: 経営企画・副課長 施設企画室・副課長 | F6: 武政康平 | G6: ｹｲｴｲｷｶｸ02 | H6: ﾀｹﾏｻ | I6: 副課長 | J6: ="tkhp89"&A6&"@softbank.ne.jp" -> tkhp890004@softbank.ne.jp | K6: =E6&" "&F6 -> 経営企画・副課長 施設企画室・副課長 武政康平 | L6: =LENB(K6) -> 45 | M6: 702経営企画 | N6: 11 | O6: 6 | R6: 46105 | S6: 2026/3/24経営企画・副課長 施設企画室・副課長 武政康平■2025/4/1経営企画・副課長 施設企画室・副課長 松木由美■2023/4/1経営企画・副課長 榎本清美■2022/4/1経営企画・副課長 金子由起■2020/3/29経営企画・副課長 小賀野剛■2017/3/30経営企画・副課長 中野栄司■ | U6: 07065860004 | V6: 890004 | X6: CELL | Y6: CELL | Z6: CELL | AA6: 外844 | AC6: =IF(AB6="",2,IF(E6=AB6,1,0)) -> 2 | AE6: =IF(AD6="",2,IF(F6=AD6,1,0)) -> 2 | AG6: =IF(AF6="",2,IF(H6=AF6,1,0)) -> 2 | AI6: =IF(AH6="",2,IF(I6=AH6,1,0)) -> 2 | AJ6: 702経営企画 | AK6: =IF(AJ6="",2,IF(M6=AJ6,1,0)) -> 1
A7: 0005 | B7: 携帯 | C7: 070-6586-0005 | D7: 89-0005 | E7: 経理調達・課長 | F7: 酒井稔雄 | G7: ｹｲﾘﾁｮｳﾀﾂ01 | H7: ｻｶｲ | I7: 課長 | J7: ="tkhp89"&A7&"@softbank.ne.jp" -> tkhp890005@softbank.ne.jp | K7: =E7&" "&F7 -> 経理調達・課長 酒井稔雄 | L7: =LENB(K7) -> 23 | M7: 704経理調達 | N7: 11 | O7: 6 | R7: 46105 | S7: 2026/3/24経理調達・課長 酒井稔雄■2023/4/1経理調達・課長 原井由美■2020/3/29経理調達・課長 垣添裕之■2020/1/17経理調達・課長 樋口優■ | U7: 07065860005 | V7: 890005 | X7: CELL | Y7: CELL | Z7: CELL | AA7: 外851 | AC7: =IF(AB7="",2,IF(E7=AB7,1,0)) -> 2 | AE7: =IF(AD7="",2,IF(F7=AD7,1,0)) -> 2 | AG7: =IF(AF7="",2,IF(H7=AF7,1,0)) -> 2 | AI7: =IF(AH7="",2,IF(I7=AH7,1,0)) -> 2 | AJ7: 704経理調達 | AK7: =IF(AJ7="",2,IF(M7=AJ7,1,0)) -> 1
A8: 0006 | B8: 携帯 | C8: 070-6586-0006 | D8: 89-0006 | E8: 経営企画・課長 | F8: 井元純 | G8: ｹｲｴｲｷｶｸ01 | H8: ｲﾓﾄ | I8: 課長 | J8: ="tkhp89"&A8&"@softbank.ne.jp" -> tkhp890006@softbank.ne.jp | K8: =E8&" "&F8 -> 経営企画・課長 井元純 | L8: =LENB(K8) -> 21 | M8: 702経営企画 | N8: 11 | O8: 6 | R8: 46105 | S8: 2026/3/24経営企画・課長 井元純■2024/4/1経営企画・課長 事務部次長 中野栄司■2023/4/1経営企画・課長 樋口優■2020/3/29経営企画・課長 中野栄司■2018/3/26経営企画・課長 泉朗■ | U8: 07065860006 | V8: 890006 | X8: CELL | Y8: CELL | Z8: CELL | AA8: 外843 | AC8: =IF(AB8="",2,IF(E8=AB8,1,0)) -> 2 | AD8: 中野栄司 | AE8: =IF(AD8="",2,IF(F8=AD8,1,0)) -> 0 | AF8: ﾅｶﾉ | AG8: =IF(AF8="",2,IF(H8=AF8,1,0)) -> 0 | AH8: 事務部次長 課長 | AI8: =IF(AH8="",2,IF(I8=AH8,1,0)) -> 0 | AJ8: 702経営企画 | AK8: =IF(AJ8="",2,IF(M8=AJ8,1,0)) -> 1
A9: 0007 | B9: 携帯 | C9: 070-6586-0007 | D9: 89-0007 | E9: 医事・患者支援係 | F9: 桑内敬子 | G9: ｲｼﾞ11 | H9: ｸﾜｳﾁ | I9: 事務員 | J9: ="tkhp89"&A9&"@softbank.ne.jp" -> tkhp890007@softbank.ne.jp | K9: =E9&" "&F9 -> 医事・患者支援係 桑内敬子 | L9: =LENB(K9) -> 25 | M9: 705医事 | N9: 12 | O9: 6 | R9: 45017 | S9: 2023/4/1医事・患者支援係 桑内敬子■2019/4/12医事・専門職員 桑内敬子■ | U9: 07065860007 | V9: 890007 | X9: CELL | Y9: CELL | Z9: CELL | AA9: 外866 | AC9: =IF(AB9="",2,IF(E9=AB9,1,0)) -> 2 | AE9: =IF(AD9="",2,IF(F9=AD9,1,0)) -> 2 | AG9: =IF(AF9="",2,IF(H9=AF9,1,0)) -> 2 | AI9: =IF(AH9="",2,IF(I9=AH9,1,0)) -> 2 | AJ9: 705医事 | AK9: =IF(AJ9="",2,IF(M9=AJ9,1,0)) -> 1
A10: 0008 | B10: 携帯 | C10: 070-6586-0008 | D10: 89-0008 | E10: 麻酔科 | F10: 村上千晶 | G10: ﾏｽｲｶ | H10: ﾑﾗｶﾐ | I10: 診療支援医師 | J10: ="tkhp89"&A10&"@softbank.ne.jp" -> tkhp890008@softbank.ne.jp | K10: =E10&" "&F10 -> 麻酔科 村上千晶 | L10: =LENB(K10) -> 15 | M10: 020麻酔科 | N10: 6 | O10: 1 | R10: 43919 | S10: 2018/3/23麻酔科 村上千晶■ | U10: 07065860008 | V10: 890008 | X10: CELL | Y10: CELL | Z10: CELL | AA10: 外310 | AC10: =IF(AB10="",2,IF(E10=AB10,1,0)) -> 2 | AE10: =IF(AD10="",2,IF(F10=AD10,1,0)) -> 2 | AG10: =IF(AF10="",2,IF(H10=AF10,1,0)) -> 2 | AI10: =IF(AH10="",2,IF(I10=AH10,1,0)) -> 2 | AJ10: 020麻酔科 | AK10: =IF(AJ10="",2,IF(M10=AJ10,1,0)) -> 1
A11: 0009 | B11: 携帯 | C11: 070-6586-0009 | D11: 89-0009 | E11: 医事・副課長 | F11: 立山あけみ | G11: ｲｼﾞ02 | H11: ﾀﾃﾔﾏ | I11: 副課長 | J11: ="tkhp89"&A11&"@softbank.ne.jp" -> tkhp890009@softbank.ne.jp | K11: =E11&" "&F11 -> 医事・副課長 立山あけみ | L11: =LENB(K11) -> 23 | M11: 705医事 | N11: 11 | O11: 6 | R11: 45748 | S11: 2025/4/1医事・副課長 立山あけみ■2024/9/24医事・副課長 医事係長 木村浩子■2022/4/1医事・副課長 木村浩子■2021/4/1医事・副課長 松井徹■2020/3/29医事・副課長 小林保数■2015/3/25医事・副課長 立山あけみ■ | U11: 07065860009 | V11: 890009 | X11: CELL | Y11: CELL | Z11: CELL | AA11: 外858 | AC11: =IF(AB11="",2,IF(E11=AB11,1,0)) -> 2 | AE11: =IF(AD11="",2,IF(F11=AD11,1,0)) -> 2 | AG11: =IF(AF11="",2,IF(H11=AF11,1,0)) -> 2 | AI11: =IF(AH11="",2,IF(I11=AH11,1,0)) -> 2 | AJ11: 705医事 | AK11: =IF(AJ11="",2,IF(M11=AJ11,1,0)) -> 1
A12: 0010 | B12: 携帯 | C12: 070-6586-0010 | D12: 89-0010 | E12: 医事・課長 | F12: 安部修司 | G12: ｲｼﾞ01 | H12: ｱﾍﾞ | I12: 課長 | J12: ="tkhp89"&A12&"@softbank.ne.jp" -> tkhp890010@softbank.ne.jp | K12: =E12&" "&F12 -> 医事・課長 安部修司 | L12: =LENB(K12) -> 19 | M12: 705医事 | N12: 11 | O12: 6 | R12: 45748 | S12: 2025/4/1医事・課長 安部修司2025/4/1医事・課長 安倍修司■2023/4/1医事・課長 立山あけみ■2022/4/1医事・課長 原田直樹■2019/3/26医事・課長 田村昌己■ | U12: 07065860010 | V12: 890010 | X12: CELL | Y12: CELL | Z12: CELL | AA12: 外857 | AC12: =IF(AB12="",2,IF(E12=AB12,1,0)) -> 2 | AE12: =IF(AD12="",2,IF(F12=AD12,1,0)) -> 2 | AG12: =IF(AF12="",2,IF(H12=AF12,1,0)) -> 2 | AI12: =IF(AH12="",2,IF(I12=AH12,1,0)) -> 2 | AJ12: 705医事 | AK12: =IF(AJ12="",2,IF(M12=AJ12,1,0)) -> 1
A13: 0011 | B13: 携帯 | C13: 070-6586-0011 | D13: 89-0011 | E13: 施設企画係・係長 経営企画・副課長 | F13: 松木由美 | G13: ｼｾﾂｷｶｸｼﾂ02 | H13: ﾏﾂｷ | I13: 副課長 | J13: ="tkhp89"&A13&"@softbank.ne.jp" -> tkhp890011@softbank.ne.jp | K13: =E13&" "&F13 -> 施設企画係・係長 経営企画・副課長 松木由美 | L13: =LENB(K13) -> 43 | M13: 703施設企画室 | N13: 11 | O13: 6 | R13: 46118 | S13: 2026/4/6施設企画係・係長 経営企画・副課長 松木由美■2026/3/24施設企画室・副課長 松木由美■2022/4/1施設企画室・副課長 大坂誠一■2021/4/1経営企画・施設企画係長 中野豪■2013/10/8経営企画・施設企画係長 松井徹■ | U13: 07065860011 | V13: 890011 | X13: CELL | Y13: CELL | Z13: CELL | AA13: 外850 | AC13: =IF(AB13="",2,IF(E13=AB13,1,0)) -> 2 | AE13: =IF(AD13="",2,IF(F13=AD13,1,0)) -> 2 | AG13: =IF(AF13="",2,IF(H13=AF13,1,0)) -> 2 | AI13: =IF(AH13="",2,IF(I13=AH13,1,0)) -> 2 | AJ13: 703施設企画室 | AK13: =IF(AJ13="",2,IF(M13=AJ13,1,0)) -> 1
A14: 0012 | B14: 携帯 | C14: 070-6586-0012 | D14: 89-0012 | E14: 医事・診療報酬請求係長 | F14: 梶浦智子 | G14: ｲｼﾞ05 | H14: ｶｼﾞｳﾗ | I14: 係長 | J14: ="tkhp89"&A14&"@softbank.ne.jp" -> tkhp890012@softbank.ne.jp | K14: =E14&" "&F14 -> 医事・診療報酬請求係長 梶浦智子 | L14: =LENB(K14) -> 31 | M14: 705医事 | N14: 12 | O14: 6 | R14: 45383 | S14: 2024/4/1医事・診療報酬請求係長 梶浦智子■2023/4/1医事・診報請係長 眞木洋典■2022/4/1医事・診報請係長 高橋久美子■2020/3/29医事・診報請係長 田場由香■2016/4/4医事・診報請係長 助川三恵子■ | U14: 07065860012 | V14: 890012 | X14: CELL | Y14: CELL | Z14: CELL | AA14: 外861 | AC14: =IF(AB14="",2,IF(E14=AB14,1,0)) -> 2 | AD14: 梶浦智子 | AE14: =IF(AD14="",2,IF(F14=AD14,1,0)) -> 1 | AF14: ｶｼﾞｳﾗ | AG14: =IF(AF14="",2,IF(H14=AF14,1,0)) -> 1 | AH14: 係長 | AI14: =IF(AH14="",2,IF(I14=AH14,1,0)) -> 1 | AJ14: 705医事 | AK14: =IF(AJ14="",2,IF(M14=AJ14,1,0)) -> 1
A15: 0013 | B15: 携帯 | C15: 070-6586-0013 | D15: 89-0013 | E15: 医事・収入係長 | F15: 久米智子 | G15: ｲｼﾞ06 | H15: ｸﾒ | I15: 係長 | J15: ="tkhp89"&A15&"@softbank.ne.jp" -> tkhp890013@softbank.ne.jp | K15: =E15&" "&F15 -> 医事・収入係長 久米智子 | L15: =LENB(K15) -> 23 | M15: 705医事 | N15: 12 | O15: 6 | R15: 46105 | S15: 2026/3/24医事・収入係長 久米智子■2023/4/1医事・収入係長 八木三希子■2020/6/30医事・収入係長 郡義典■2015/3/27医事・収入係長 岸本博■ | U15: 07065860013 | V15: 890013 | X15: CELL | Y15: CELL | Z15: CELL | AA15: 外862 | AC15: =IF(AB15="",2,IF(E15=AB15,1,0)) -> 2 | AE15: =IF(AD15="",2,IF(F15=AD15,1,0)) -> 2 | AG15: =IF(AF15="",2,IF(H15=AF15,1,0)) -> 2 | AI15: =IF(AH15="",2,IF(I15=AH15,1,0)) -> 2 | AJ15: 705医事 | AK15: =IF(AJ15="",2,IF(M15=AJ15,1,0)) -> 1
A16: 0014 | B16: 携帯 | C16: 070-6586-0014 | D16: 89-0014 | E16: 患者支援セ | F16: 秋月佐代 | G16: ｶﾝｼﾞｬｼｴﾝｾ | H16: ｱｷﾂﾞｷ | I16: 医療ｿｰｼｬﾙﾜｰｶｰ | J16: ="tkhp89"&A16&"@softbank.ne.jp" -> tkhp890014@softbank.ne.jp | K16: =E16&" "&F16 -> 患者支援セ 秋月佐代 | L16: =LENB(K16) -> 19 | M16: 707患者支援 | N16: 12 | O16: 6 | R16: 42125 | S16: 2015/5/1患者支援セ 秋月佐代■ | U16: 07065860014 | V16: 890014 | X16: CELL | Y16: CELL | Z16: CELL | AA16: 外872 | AC16: =IF(AB16="",2,IF(E16=AB16,1,0)) -> 2 | AE16: =IF(AD16="",2,IF(F16=AD16,1,0)) -> 2 | AG16: =IF(AF16="",2,IF(H16=AF16,1,0)) -> 2 | AI16: =IF(AH16="",2,IF(I16=AH16,1,0)) -> 2 | AJ16: 707患者支援 | AK16: =IF(AJ16="",2,IF(M16=AJ16,1,0)) -> 1
A17: 0015 | B17: 携帯 | C17: 070-6586-0015 | D17: 89-0015 | E17: 病院情報セ | F17: ヘルプデスク携帯 | G17: ﾋﾞｮｳｲﾝｼﾞｮｳﾎｳｾ03 | I17: 病情ｾﾍﾙﾌﾟﾃﾞｽｸ | J17: ="tkhp89"&A17&"@softbank.ne.jp" -> tkhp890015@softbank.ne.jp | K17: =E17&" "&F17 -> 病院情報セ ヘルプデスク携帯 | L17: =LENB(K17) -> 27 | M17: 209病院情報セ | N17: 12 | O17: 7 | R17: 40296 | S17: 2010/4/28病院情報セ ヘルプデスク携帯■ | U17: 07065860015 | V17: 890015 | X17: CELL | Y17: CELL | Z17: CELL | AA17: 外527 | AC17: =IF(AB17="",2,IF(E17=AB17,1,0)) -> 2 | AE17: =IF(AD17="",2,IF(F17=AD17,1,0)) -> 2 | AG17: =IF(AF17="",2,IF(H17=AF17,1,0)) -> 2 | AI17: =IF(AH17="",2,IF(I17=AH17,1,0)) -> 2 | AJ17: 209病院情報セ | AK17: =IF(AJ17="",2,IF(M17=AJ17,1,0)) -> 1
A18: 0016 | B18: 携帯 | C18: 070-6586-0016 | D18: 89-0016 | E18: 病院情報セ | F18: 境貴司 | G18: ﾋﾞｮｳｲﾝｼﾞｮｳﾎｳｾ10 | H18: ｻｶｲ | I18: 技術員 | J18: ="tkhp89"&A18&"@softbank.ne.jp" -> tkhp890016@softbank.ne.jp | K18: =E18&" "&F18 -> 病院情報セ 境貴司 | L18: =LENB(K18) -> 17 | M18: 209病院情報セ | N18: 12 | O18: 7 | R18: 43555 | S18: 2019/3/5病院情報セ 境貴司■ | U18: 07065860016 | V18: 890016 | X18: CELL | Y18: CELL | Z18: CELL | AA18: 外532 | AC18: =IF(AB18="",2,IF(E18=AB18,1,0)) -> 2 | AE18: =IF(AD18="",2,IF(F18=AD18,1,0)) -> 2 | AG18: =IF(AF18="",2,IF(H18=AF18,1,0)) -> 2 | AI18: =IF(AH18="",2,IF(I18=AH18,1,0)) -> 2 | AJ18: 209病院情報セ | AK18: =IF(AJ18="",2,IF(M18=AJ18,1,0)) -> 1
A19: 0017 | B19: 携帯 | C19: 070-6586-0017 | D19: 89-0017 | E19: 麻酔科 | F19: 合田かおる | G19: ﾏｽｲｶ | H19: ｺﾞｳﾀﾞ | I19: 医員 | J19: ="tkhp89"&A19&"@softbank.ne.jp" -> tkhp890017@softbank.ne.jp | K19: =E19&" "&F19 -> 麻酔科 合田かおる | L19: =LENB(K19) -> 17 | M19: 020麻酔科 | N19: 6 | O19: 1 | R19: 46085 | S19: 2026/3/4麻酔科 合田かおる■2018/3/23麻酔科 石川雄樹■ | U19: 07065860017 | V19: 890017 | X19: CELL | Y19: CELL | Z19: CELL | AA19: 外311 | AC19: =IF(AB19="",2,IF(E19=AB19,1,0)) -> 2 | AE19: =IF(AD19="",2,IF(F19=AD19,1,0)) -> 2 | AG19: =IF(AF19="",2,IF(H19=AF19,1,0)) -> 2 | AH19: 特任助教 | AI19: =IF(AH19="",2,IF(I19=AH19,1,0)) -> 0 | AJ19: 020麻酔科 | AK19: =IF(AJ19="",2,IF(M19=AJ19,1,0)) -> 1
A20: 0018 | B20: 携帯 | C20: 070-6586-0018 | D20: 89-0018 | E20: 病院情報セ | F20: 単暁 | G20: ﾋﾞｮｳｲﾝｼﾞｮｳﾎｳｾ09 | H20: ﾀﾝ | I20: 特任助教 | J20: ="tkhp89"&A20&"@softbank.ne.jp" -> tkhp890018@softbank.ne.jp | K20: =E20&" "&F20 -> 病院情報セ 単暁 | L20: =LENB(K20) -> 15 | M20: 209病院情報セ | N20: 12 | O20: 7 | R20: 43919 | S20: 2020/3/29病院情報セ 単暁■2018/3/23病院情報セ 玉木悠■ | U20: 07065860018 | V20: 890018 | X20: CELL | Y20: CELL | Z20: CELL | AA20: 外529 | AC20: =IF(AB20="",2,IF(E20=AB20,1,0)) -> 2 | AE20: =IF(AD20="",2,IF(F20=AD20,1,0)) -> 2 | AG20: =IF(AF20="",2,IF(H20=AF20,1,0)) -> 2 | AI20: =IF(AH20="",2,IF(I20=AH20,1,0)) -> 2 | AJ20: 209病院情報セ | AK20: =IF(AJ20="",2,IF(M20=AJ20,1,0)) -> 1
A21: 0019 | B21: 携帯 | C21: 070-6586-0019 | D21: 89-0019 | E21: 病院情報セ | F21: 田木真和 | G21: ﾋﾞｮｳｲﾝｼﾞｮｳﾎｳｾ08 | H21: ﾀｷﾞ | I21: 助教 | J21: ="tkhp89"&A21&"@softbank.ne.jp" -> tkhp890019@softbank.ne.jp | K21: =E21&" "&F21 -> 病院情報セ 田木真和 | L21: =LENB(K21) -> 19 | M21: 209病院情報セ | N21: 12 | O21: 7 | R21: 43555 | S21: 2019/3/5病院情報セ 田木真和■ | U21: 07065860019 | V21: 890019 | X21: CELL | Y21: CELL | Z21: CELL | AA21: 外530 | AC21: =IF(AB21="",2,IF(E21=AB21,1,0)) -> 2 | AE21: =IF(AD21="",2,IF(F21=AD21,1,0)) -> 2 | AG21: =IF(AF21="",2,IF(H21=AF21,1,0)) -> 2 | AI21: =IF(AH21="",2,IF(I21=AH21,1,0)) -> 2 | AJ21: 209病院情報セ | AK21: =IF(AJ21="",2,IF(M21=AJ21,1,0)) -> 1
A22: 0020 | B22: 携帯 | C22: 070-6586-0020 | D22: 89-0020 | E22: 栄養部 | F22: 西部門長 | G22: ｴｲﾖｳﾌﾞ03 | H22: ﾆｼ | I22: 栄養管理部門長 | J22: ="tkhp89"&A22&"@softbank.ne.jp" -> tkhp890020@softbank.ne.jp | K22: =E22&" "&F22 -> 栄養部 西部門長 | L22: =LENB(K22) -> 15 | M22: 601栄養部 | N22: 10 | O22: 5 | R22: 45809 | S22: 2025/6/1栄養部 西部門長■2025/4/1栄養部 西麻希■2020/3/29栄養部 山田部門長■2019/3/25栄養部 山田静恵■ | U22: 07065860020 | V22: 890020 | X22: CELL | Y22: CELL | Z22: CELL | AA22: 外822 | AC22: =IF(AB22="",2,IF(E22=AB22,1,0)) -> 2 | AE22: =IF(AD22="",2,IF(F22=AD22,1,0)) -> 2 | AG22: =IF(AF22="",2,IF(H22=AF22,1,0)) -> 2 | AI22: =IF(AH22="",2,IF(I22=AH22,1,0)) -> 2 | AJ22: 601栄養部 | AK22: =IF(AJ22="",2,IF(M22=AJ22,1,0)) -> 1
A23: 0021 | B23: 携帯 | C23: 070-6586-0021 | D23: 89-0021 | E23: 施設マ防災セ | F23: 電気 | G23: ｼｾﾂﾏ13 | H23: ﾃﾞﾝｷ | I23: 施設 | J23: ="tkhp89"&A23&"@softbank.ne.jp" -> tkhp890021@softbank.ne.jp | K23: =E23&" "&F23 -> 施設マ防災セ 電気 | L23: =LENB(K23) -> 17 | M23: 801施設マネジメント部 | N23: 12 | O23: 7 | R23: 40287 | S23: 2010/4/19施設防災セ 電気■ | U23: 07065860021 | V23: 890021 | X23: CELL | Y23: CELL | Z23: CELL | AA23: 外893 | AC23: =IF(AB23="",2,IF(E23=AB23,1,0)) -> 2 | AE23: =IF(AD23="",2,IF(F23=AD23,1,0)) -> 2 | AG23: =IF(AF23="",2,IF(H23=AF23,1,0)) -> 2 | AI23: =IF(AH23="",2,IF(I23=AH23,1,0)) -> 2 | AJ23: 801施設マネジメント部 | AK23: =IF(AJ23="",2,IF(M23=AJ23,1,0)) -> 1
A24: 0022 | B24: 携帯 | C24: 070-6586-0022 | D24: 89-0022 | E24: 施設マ防災セ | F24: 機械 | G24: ｼｾﾂﾏ14 | H24: ｷｶｲ | I24: 施設 | J24: ="tkhp89"&A24&"@softbank.ne.jp" -> tkhp890022@softbank.ne.jp | K24: =E24&" "&F24 -> 施設マ防災セ 機械 | L24: =LENB(K24) -> 17 | M24: 801施設マネジメント部 | N24: 12 | O24: 7 | R24: 40287 | S24: 2010/4/19施設防災セ 機械■ | U24: 07065860022 | V24: 890022 | X24: CELL | Y24: CELL | Z24: CELL | AA24: 外894 | AC24: =IF(AB24="",2,IF(E24=AB24,1,0)) -> 2 | AE24: =IF(AD24="",2,IF(F24=AD24,1,0)) -> 2 | AG24: =IF(AF24="",2,IF(H24=AF24,1,0)) -> 2 | AI24: =IF(AH24="",2,IF(I24=AH24,1,0)) -> 2 | AJ24: 801施設マネジメント部 | AK24: =IF(AJ24="",2,IF(M24=AJ24,1,0)) -> 1
A25: 0023 | B25: 携帯 | C25: 070-6586-0023 | D25: 89-0023 | E25: 施設マ防災セ | F25: 防災（建物・設備不具合） | G25: ｼｾﾂﾏ15 | H25: ﾎﾞｳｻｲ | I25: 施設 | J25: ="tkhp89"&A25&"@softbank.ne.jp" -> tkhp890023@softbank.ne.jp | K25: =E25&" "&F25 -> 施設マ防災セ 防災（建物・設備不具合） | L25: =LENB(K25) -> 37 | M25: 801施設マネジメント部 | N25: 12 | O25: 7 | R25: 43775 | S25: 2010/4/19施設防災セ 防災（建物・設備不具合）■ | U25: 07065860023 | V25: 890023 | W25: 71 | X25: CELL | Y25: CELL | Z25: CELL | AA25: 外895 | AC25: =IF(AB25="",2,IF(E25=AB25,1,0)) -> 2 | AE25: =IF(AD25="",2,IF(F25=AD25,1,0)) -> 2 | AG25: =IF(AF25="",2,IF(H25=AF25,1,0)) -> 2 | AI25: =IF(AH25="",2,IF(I25=AH25,1,0)) -> 2 | AJ25: 801施設マネジメント部 | AK25: =IF(AJ25="",2,IF(M25=AJ25,1,0)) -> 1
A26: 0024 | B26: 携帯 | C26: 070-6586-0024 | D26: 89-0024 | E26: 施設マ防災セ | F26: 熱源 | G26: ｼｾﾂﾏ16 | H26: ﾈﾂﾃﾞﾝ | I26: 施設 | J26: ="tkhp89"&A26&"@softbank.ne.jp" -> tkhp890024@softbank.ne.jp | K26: =E26&" "&F26 -> 施設マ防災セ 熱源 | L26: =LENB(K26) -> 17 | M26: 801施設マネジメント部 | N26: 12 | O26: 7 | R26: 40287 | S26: 2010/4/19施設防災セ 熱源■ | U26: 07065860024 | V26: 890024 | X26: CELL | Y26: CELL | Z26: CELL | AA26: 外896 | AC26: =IF(AB26="",2,IF(E26=AB26,1,0)) -> 2 | AE26: =IF(AD26="",2,IF(F26=AD26,1,0)) -> 2 | AG26: =IF(AF26="",2,IF(H26=AF26,1,0)) -> 2 | AI26: =IF(AH26="",2,IF(I26=AH26,1,0)) -> 2 | AJ26: 801施設マネジメント部 | AK26: =IF(AJ26="",2,IF(M26=AJ26,1,0)) -> 1
A27: 0025 | B27: 携帯 | C27: 070-6586-0025 | D27: 89-0025 | E27: 施設マ（建築） | F27: 谷優作 | G27: ｼｾﾂﾏ03 | H27: ﾀﾆ | I27: 技術員 | J27: ="tkhp89"&A27&"@softbank.ne.jp" -> tkhp890025@softbank.ne.jp | K27: =E27&" "&F27 -> 施設マ（建築） 谷優作 | L27: =LENB(K27) -> 21 | M27: 801施設マネジメント部 | N27: 12 | O27: 7 | R27: 45748 | S27: 2025/4/1施設マ（建築）谷優作■2024/4/1施設マ・蔵本施設課専門員 小磯雅史■2020/3/29施設・蔵本施設課副課長 山澤高浩■2018/3/28施設・管理運営課副課長 斎賀弘治■ | U27: 07065860025 | V27: 890025 | X27: CELL | Y27: CELL | Z27: CELL | AA27: 外882 | AB27: 施設マ・蔵本施設課専門員 | AC27: =IF(AB27="",2,IF(E27=AB27,1,0)) -> 0 | AD27: 小磯雅史 | AE27: =IF(AD27="",2,IF(F27=AD27,1,0)) -> 0 | AF27: ｺｲｿ | AG27: =IF(AF27="",2,IF(H27=AF27,1,0)) -> 0 | AH27: 専門員 | AI27: =IF(AH27="",2,IF(I27=AH27,1,0)) -> 0 | AJ27: 801施設マネジメント部 | AK27: =IF(AJ27="",2,IF(M27=AJ27,1,0)) -> 1
A28: 0026 | B28: 携帯 | C28: 070-6586-0026 | D28: 89-0026 | E28: 施設マ（建築） | F28: 市原美恵子 | G28: ｼｾﾂﾏ04 | H28: ｲﾁﾊﾗ | I28: 係長 | J28: ="tkhp89"&A28&"@softbank.ne.jp" -> tkhp890026@softbank.ne.jp | K28: =E28&" "&F28 -> 施設マ（建築） 市原美恵子 | L28: =LENB(K28) -> 25 | M28: 801施設マネジメント部 | N28: 12 | O28: 7 | R28: 45383 | S28: 2024/4/1施設マ（建築） 市原美恵子■2022/4/1施設（建築） 切東寿美■2021/4/1施設（建築） 木下真理■2020/3/29施設（建築） 長岡洋樹■2018/3/28施設・運営 市原美恵子■ | U28: 07065860026 | V28: 890026 | X28: CELL | Y28: CELL | Z28: CELL | AA28: 外883 | AC28: =IF(AB28="",2,IF(E28=AB28,1,0)) -> 2 | AD28: 市原美恵子 | AE28: =IF(AD28="",2,IF(F28=AD28,1,0)) -> 1 | AF28: ｲﾁﾊﾗ | AG28: =IF(AF28="",2,IF(H28=AF28,1,0)) -> 1 | AH28: 係長 | AI28: =IF(AH28="",2,IF(I28=AH28,1,0)) -> 1 | AJ28: 801施設マネジメント部 | AK28: =IF(AJ28="",2,IF(M28=AJ28,1,0)) -> 1
A29: 0027 | B29: 携帯 | C29: 070-6586-0027 | D29: 89-0027 | E29: 施設マ（専門員） | F29: 山澤高浩 | G29: ｼｾﾂﾏ05 | H29: ﾔﾏｻﾞﾜ | I29: 専門員 | J29: ="tkhp89"&A29&"@softbank.ne.jp" -> tkhp890027@softbank.ne.jp | K29: =E29&" "&F29 -> 施設マ（専門員） 山澤高浩 | L29: =LENB(K29) -> 25 | M29: 801施設マネジメント部 | N29: 12 | O29: 7 | R29: 46105 | S29: 2026/3/24施設マ（専門員） 山澤高浩■2024/4/1施設マ（建築） 栗原康介■2020/3/29施設（建築） 木内大輔■2018/3/28施設・運営 高木実■ | U29: 07065860027 | V29: 890027 | X29: CELL | Y29: CELL | Z29: CELL | AA29: 外884 | AC29: =IF(AB29="",2,IF(E29=AB29,1,0)) -> 2 | AD29: 栗原康介 | AE29: =IF(AD29="",2,IF(F29=AD29,1,0)) -> 0 | AF29: ｸﾘﾊﾗ | AG29: =IF(AF29="",2,IF(H29=AF29,1,0)) -> 0 | AH29: 技術員 | AI29: =IF(AH29="",2,IF(I29=AH29,1,0)) -> 0 | AJ29: 801施設マネジメント部 | AK29: =IF(AJ29="",2,IF(M29=AJ29,1,0)) -> 1
A30: 0028 | B30: 携帯 | C30: 070-6586-0028 | D30: 89-0028 | E30: 施設マ（機械） | F30: 金子健大 | G30: ｼｾﾂﾏ09 | H30: ｶﾈｺ | I30: 技術員 | J30: ="tkhp89"&A30&"@softbank.ne.jp" -> tkhp890028@softbank.ne.jp | K30: =E30&" "&F30 -> 施設マ（機械） 金子健大 | L30: =LENB(K30) -> 23 | M30: 801施設マネジメント部 | N30: 12 | O30: 7 | R30: 45841 | S30: 2025/7/3施設マ（機械）金子健大■2025/4/1施設マ（機械）次山英偉■2023/4/1施設マ（機械） 大林稔典■2020/3/29施設（機械） 杉江邦夫■2016/2/1施設・運営 新藤豊■ | U30: 07065860028 | V30: 890028 | X30: CELL | Y30: CELL | Z30: CELL | AA30: 外889 | AC30: =IF(AB30="",2,IF(E30=AB30,1,0)) -> 2 | AE30: =IF(AD30="",2,IF(F30=AD30,1,0)) -> 2 | AG30: =IF(AF30="",2,IF(H30=AF30,1,0)) -> 2 | AI30: =IF(AH30="",2,IF(I30=AH30,1,0)) -> 2 | AJ30: 801施設マネジメント部 | AK30: =IF(AJ30="",2,IF(M30=AJ30,1,0)) -> 1
A31: 0029 | B31: 携帯 | C31: 070-6586-0029 | D31: 89-0029 | E31: 施設マ・蔵本施設課副課長 （電気） | F31: 藤本賀誉 | G31: ｼｾﾂﾏ02 | H31: ﾌｼﾞﾓﾄ | I31: 副課長 | J31: ="tkhp89"&A31&"@softbank.ne.jp" -> tkhp890029@softbank.ne.jp | K31: =E31&" "&F31 -> 施設マ・蔵本施設課副課長 （電気） 藤本賀誉 | L31: =LENB(K31) -> 43 | M31: 801施設マネジメント部 | N31: 12 | O31: 7 | R31: 45383 | S31: 2024/4/1施設マ・蔵本施設課副課長 （電気） 藤本賀誉■2023/4/1施設マ（電気） 藤本賀誉■2020/3/29施設（電気） 栗田正伸■2020/3/29施設（電気） 谷本敦■2018/3/28施設・運営 栗田正伸■ | U31: 07065860029 | V31: 890029 | X31: CELL | Y31: CELL | Z31: CELL | AA31: 外885 | AB31: 施設マ・蔵本施設課副課長 （電気） | AC31: =IF(AB31="",2,IF(E31=AB31,1,0)) -> 1 | AE31: =IF(AD31="",2,IF(F31=AD31,1,0)) -> 2 | AG31: =IF(AF31="",2,IF(H31=AF31,1,0)) -> 2 | AH31: 副課長 | AI31: =IF(AH31="",2,IF(I31=AH31,1,0)) -> 1 | AJ31: 801施設マネジメント部 | AK31: =IF(AJ31="",2,IF(M31=AJ31,1,0)) -> 1
A32: 0030 | B32: 携帯 | C32: 070-6586-0030 | D32: 89-0030 | E32: 施設マ（機械） | F32: 新藤豊 | G32: ｼｾﾂﾏ08 | H32: ｼﾝﾄｳ | I32: 係長 | J32: ="tkhp89"&A32&"@softbank.ne.jp" -> tkhp890030@softbank.ne.jp | K32: =E32&" "&F32 -> 施設マ（機械） 新藤豊 | L32: =LENB(K32) -> 21 | M32: 801施設マネジメント部 | N32: 12 | O32: 7 | R32: 45748 | S32: 2025/4/1施設マ（機械） 新藤豊■2024/4/1施設マ（機械） 次山英偉■2022/4/1施設（機械） 新藤豊■2020/3/29施設（機械） 斎藤清人■2016/2/1施設・運営係長 斎藤清人■ | U32: 07065860030 | V32: 890030 | X32: CELL | Y32: CELL | Z32: CELL | AA32: 外888 | AC32: =IF(AB32="",2,IF(E32=AB32,1,0)) -> 2 | AD32: 次山英偉 | AE32: =IF(AD32="",2,IF(F32=AD32,1,0)) -> 0 | AF32: ﾂｷﾞﾔﾏ | AG32: =IF(AF32="",2,IF(H32=AF32,1,0)) -> 0 | AH32: 係長 | AI32: =IF(AH32="",2,IF(I32=AH32,1,0)) -> 1 | AJ32: 801施設マネジメント部 | AK32: =IF(AJ32="",2,IF(M32=AJ32,1,0)) -> 1
A33: 0031 | B33: 携帯 | C33: 070-6586-0031 | D33: 89-0031 | E33: 循環器内科 | F33: 佐田政隆 | G33: ｼﾞｭﾝｶﾝｷﾅｲｶ | H33: ｻﾀ | I33: 教授 | J33: ="tkhp89"&A33&"@softbank.ne.jp" -> tkhp890031@softbank.ne.jp | K33: =E33&" "&F33 -> 循環器内科 佐田政隆 | L33: =LENB(K33) -> 19 | M33: 001循環器内科 | N33: 4 | O33: 1 | R33: 40269 | S33: 2010/4/1循環器内科 佐田政隆■ | U33: 07065860031 | V33: 890031 | X33: CELL | Y33: CELL | Z33: CELL | AA33: 外001 | AC33: =IF(AB33="",2,IF(E33=AB33,1,0)) -> 2 | AE33: =IF(AD33="",2,IF(F33=AD33,1,0)) -> 2 | AG33: =IF(AF33="",2,IF(H33=AF33,1,0)) -> 2 | AI33: =IF(AH33="",2,IF(I33=AH33,1,0)) -> 2 | AJ33: 001循環器内科 | AK33: =IF(AJ33="",2,IF(M33=AJ33,1,0)) -> 1
A34: 0032 | B34: 携帯 | C34: 070-6586-0032 | D34: 89-0032 | E34: 循環器内科 | F34: 宮本亮太 | G34: ｼﾞｭﾝｶﾝｷﾅｲｶ | H34: ﾐﾔﾓﾄ | I34: 医員 | J34: ="tkhp89"&A34&"@softbank.ne.jp" -> tkhp890032@softbank.ne.jp | K34: =E34&" "&F34 -> 循環器内科 宮本亮太 | L34: =LENB(K34) -> 19 | M34: 001循環器内科 | N34: 6 | O34: 1 | R34: 46086 | S34: 2026/3/5循環器内科 宮本亮太■2011/3/23循環器内科 赤池雅史■ | U34: 07065860032 | V34: 890032 | X34: CELL | Y34: CELL | Z34: CELL | AA34: 外002 | AC34: =IF(AB34="",2,IF(E34=AB34,1,0)) -> 2 | AE34: =IF(AD34="",2,IF(F34=AD34,1,0)) -> 2 | AG34: =IF(AF34="",2,IF(H34=AF34,1,0)) -> 2 | AI34: =IF(AH34="",2,IF(I34=AH34,1,0)) -> 2 | AJ34: 001循環器内科 | AK34: =IF(AJ34="",2,IF(M34=AJ34,1,0)) -> 1
A35: 0033 | B35: 携帯 | C35: 070-6586-0033 | D35: 89-0033 | E35: 消化器内科 | F35: 佐藤康史 | G35: ｼｮｳｶｷﾅｲｶ | H35: ｻﾄｳ | I35: 特任教授 | J35: ="tkhp89"&A35&"@softbank.ne.jp" -> tkhp890033@softbank.ne.jp | K35: =E35&" "&F35 -> 消化器内科 佐藤康史 | L35: =LENB(K35) -> 19 | M35: 003消化器内科 | N35: 6 | O35: 1 | R35: 42809 | S35: 2016/8/24消化器内科 佐藤康史■ | U35: 07065860033 | V35: 890033 | X35: CELL | Y35: CELL | Z35: CELL | AA35: 外051 | AC35: =IF(AB35="",2,IF(E35=AB35,1,0)) -> 2 | AE35: =IF(AD35="",2,IF(F35=AD35,1,0)) -> 2 | AG35: =IF(AF35="",2,IF(H35=AF35,1,0)) -> 2 | AI35: =IF(AH35="",2,IF(I35=AH35,1,0)) -> 2 | AJ35: 003消化器内科 | AK35: =IF(AJ35="",2,IF(M35=AJ35,1,0)) -> 1
A36: 0034 | B36: 携帯 | C36: 070-6586-0034 | D36: 89-0034 | E36: 血液内科 | F36: 川田知代 | G36: ｹﾂｴｷﾅｲｶ | H36: ｶﾜﾀ | I36: 医員 | J36: ="tkhp89"&A36&"@softbank.ne.jp" -> tkhp890034@softbank.ne.jp | K36: =E36&" "&F36 -> 血液内科 川田知代 | L36: =LENB(K36) -> 17 | M36: 006血液内科 | N36: 6 | O36: 1 | R36: 45809 | S36: 2025/6/1血液内科 川田知代■2025/4/1在庫■2018/8/16感染制御部 東桃代■ | U36: 07065860034 | V36: 890034 | X36: CELL | Y36: CELL | Z36: CELL | AA36: 外571 | AC36: =IF(AB36="",2,IF(E36=AB36,1,0)) -> 2 | AE36: =IF(AD36="",2,IF(F36=AD36,1,0)) -> 2 | AG36: =IF(AF36="",2,IF(H36=AF36,1,0)) -> 2 | AI36: =IF(AH36="",2,IF(I36=AH36,1,0)) -> 2 | AJ36: 226感染制御部 | AK36: =IF(AJ36="",2,IF(M36=AJ36,1,0)) -> 0
A37: 0035 | B37: 携帯 | C37: 070-6586-0035 | D37: 89-0035 | E37: 循環器内科 | F37: 川端豊 | G37: ｼﾞｭﾝｶﾝｷﾅｲｶ | H37: ｶﾜﾊﾞﾀ | I37: 助教 | J37: ="tkhp89"&A37&"@softbank.ne.jp" -> tkhp890035@softbank.ne.jp | K37: =E37&" "&F37 -> 循環器内科 川端豊 | L37: =LENB(K37) -> 17 | M37: 001循環器内科 | N37: 6 | O37: 1 | R37: 43919 | S37: 2016/3/25循環器内科 川端豊■ | U37: 07065860035 | V37: 890035 | X37: CELL | Y37: CELL | Z37: CELL | AA37: 外003 | AC37: =IF(AB37="",2,IF(E37=AB37,1,0)) -> 2 | AE37: =IF(AD37="",2,IF(F37=AD37,1,0)) -> 2 | AG37: =IF(AF37="",2,IF(H37=AF37,1,0)) -> 2 | AI37: =IF(AH37="",2,IF(I37=AH37,1,0)) -> 2 | AJ37: 001循環器内科 | AK37: =IF(AJ37="",2,IF(M37=AJ37,1,0)) -> 1
A38: 0036 | B38: 携帯 | C38: 070-6586-0036 | D38: 89-0036 | E38: 循環器内科 | F38: 八木秀介 | G38: ｼﾞｭﾝｶﾝｷﾅｲｶ | H38: ﾔｷﾞ | I38: 特任教授 | J38: ="tkhp89"&A38&"@softbank.ne.jp" -> tkhp890036@softbank.ne.jp | K38: =E38&" "&F38 -> 循環器内科 八木秀介 | L38: =LENB(K38) -> 19 | M38: 001循環器内科 | N38: 5 | O38: 1 | P38: （重複1） | R38: 43182 | S38: 2018/3/23循環器内科 八木秀介■ | U38: 07065860036 | V38: 890036 | X38: CELL | Y38: CELL | Z38: CELL | AA38: 外004 | AC38: =IF(AB38="",2,IF(E38=AB38,1,0)) -> 2 | AE38: =IF(AD38="",2,IF(F38=AD38,1,0)) -> 2 | AG38: =IF(AF38="",2,IF(H38=AF38,1,0)) -> 2 | AI38: =IF(AH38="",2,IF(I38=AH38,1,0)) -> 2 | AJ38: 001循環器内科 | AK38: =IF(AJ38="",2,IF(M38=AJ38,1,0)) -> 1
A39: 0036 | B39: 携帯 | C39: 070-6586-0036 | D39: 89-0036 | E39: 総合診療部 | F39: 八木秀介 | G39: ｿｳｺﾞｳｼﾝﾘｮｳﾌﾞ | H39: ﾔｷﾞ | I39: 特任教授 | J39: ="tkhp89"&A39&"@softbank.ne.jp" -> tkhp890036@softbank.ne.jp | K39: =E39&" "&F39 -> 総合診療部 八木秀介 | L39: =LENB(K39) -> 19 | M39: 214総合診療部 | P39: （重複2） | R39: 45405 | S39: 2024/4/23総合診療部 八木秀介■ | U39: 07065860036 | V39: 890036 | X39: CELL | Y39: CELL | Z39: CELL | AA39: 外004 | AC39: =IF(AB39="",2,IF(E39=AB39,1,0)) -> 2 | AE39: =IF(AD39="",2,IF(F39=AD39,1,0)) -> 2 | AG39: =IF(AF39="",2,IF(H39=AF39,1,0)) -> 2 | AI39: =IF(AH39="",2,IF(I39=AH39,1,0)) -> 2 | AJ39: 001循環器内科 | AK39: =IF(AJ39="",2,IF(M39=AJ39,1,0)) -> 0
A40: 0037 | B40: 携帯 | C40: 070-6586-0037 | D40: 89-0037 | E40: 循環器内科 | F40: 添木武 | G40: ｼﾞｭﾝｶﾝｷﾅｲｶ | H40: ｿｴｷ | I40: 特任教授 | J40: ="tkhp89"&A40&"@softbank.ne.jp" -> tkhp890037@softbank.ne.jp | K40: =E40&" "&F40 -> 循環器内科 添木武 | L40: =LENB(K40) -> 17 | M40: 001循環器内科 | N40: 6 | O40: 1 | R40: 43919 | S40: 2018/3/23循環器内科 添木武■ | U40: 07065860037 | V40: 890037 | X40: CELL | Y40: CELL | Z40: CELL | AA40: 外005 | AC40: =IF(AB40="",2,IF(E40=AB40,1,0)) -> 2 | AE40: =IF(AD40="",2,IF(F40=AD40,1,0)) -> 2 | AG40: =IF(AF40="",2,IF(H40=AF40,1,0)) -> 2 | AI40: =IF(AH40="",2,IF(I40=AH40,1,0)) -> 2 | AJ40: 001循環器内科 | AK40: =IF(AJ40="",2,IF(M40=AJ40,1,0)) -> 1
A41: 0038 | B41: 携帯 | C41: 070-6586-0038 | D41: 89-0038 | E41: 循環器内科 | F41: 志村拓哉 | G41: ｼﾞｭﾝｶﾝｷﾅｲｶ | H41: ｼﾑﾗ | I41: 医員 | J41: ="tkhp89"&A41&"@softbank.ne.jp" -> tkhp890038@softbank.ne.jp | K41: =E41&" "&F41 -> 循環器内科 志村拓哉 | L41: =LENB(K41) -> 19 | M41: 001循環器内科 | N41: 6 | O41: 1 | R41: 46086 | S41: 2026/3/5循環器内科 志村拓哉■2021/4/1循環器内科 西條良仁■2013/3/31循環器内科 飛梅威■ | U41: 07065860038 | V41: 890038 | X41: CELL | Y41: CELL | Z41: CELL | AA41: 外006 | AC41: =IF(AB41="",2,IF(E41=AB41,1,0)) -> 2 | AE41: =IF(AD41="",2,IF(F41=AD41,1,0)) -> 2 | AG41: =IF(AF41="",2,IF(H41=AF41,1,0)) -> 2 | AI41: =IF(AH41="",2,IF(I41=AH41,1,0)) -> 2 | AJ41: 001循環器内科 | AK41: =IF(AJ41="",2,IF(M41=AJ41,1,0)) -> 1
A42: 0039 | B42: 携帯 | C42: 070-6586-0039 | D42: 89-0039 | E42: 循環器内科 | F42: 山口浩司 | G42: ｼﾞｭﾝｶﾝｷﾅｲｶ | H42: ﾔﾏｸﾞﾁ | I42: 講師 | J42: ="tkhp89"&A42&"@softbank.ne.jp" -> tkhp890039@softbank.ne.jp | K42: =E42&" "&F42 -> 循環器内科 山口浩司 | L42: =LENB(K42) -> 19 | M42: 001循環器内科 | N42: 6 | O42: 1 | R42: 40273 | S42: 2010/4/5循環器内科 山口浩司■ | U42: 07065860039 | V42: 890039 | X42: CELL | Y42: CELL | Z42: CELL | AA42: 外007 | AC42: =IF(AB42="",2,IF(E42=AB42,1,0)) -> 2 | AE42: =IF(AD42="",2,IF(F42=AD42,1,0)) -> 2 | AG42: =IF(AF42="",2,IF(H42=AF42,1,0)) -> 2 | AI42: =IF(AH42="",2,IF(I42=AH42,1,0)) -> 2 | AJ42: 001循環器内科 | AK42: =IF(AJ42="",2,IF(M42=AJ42,1,0)) -> 1
A43: 0040 | B43: 携帯 | C43: 070-6586-0040 | D43: 89-0040 | E43: 総合診療部 | F43: 那須栄里子 | G43: ｼﾞｭﾝｶﾝｷﾅｲｶ | H43: ﾅｽ | I43: 特任助教 | J43: ="tkhp89"&A43&"@softbank.ne.jp" -> tkhp890040@softbank.ne.jp | K43: =E43&" "&F43 -> 総合診療部 那須栄里子 | L43: =LENB(K43) -> 21 | M43: 214総合診療部 | N43: 6 | O43: 1 | R43: 46086 | S43: 2026/3/5総合診療部 那須栄里子■2025/5/1循環器内科 那須栄里子■2025/4/1在庫■2011/3/23循環器内科 若槻哲三■ | U43: 07065860040 | V43: 890040 | X43: CELL | Y43: CELL | Z43: CELL | AA43: 外008 | AC43: =IF(AB43="",2,IF(E43=AB43,1,0)) -> 2 | AE43: =IF(AD43="",2,IF(F43=AD43,1,0)) -> 2 | AG43: =IF(AF43="",2,IF(H43=AF43,1,0)) -> 2 | AI43: =IF(AH43="",2,IF(I43=AH43,1,0)) -> 2 | AJ43: 001循環器内科 | AK43: =IF(AJ43="",2,IF(M43=AJ43,1,0)) -> 0
A44: 0041 | B44: 携帯 | C44: 070-6586-0041 | D44: 89-0041 | E44: 循環器内科 | F44: 山田博胤 | G44: ｼﾞｭﾝｶﾝｷﾅｲｶ | H44: ﾔﾏﾀﾞ | I44: 特任教授 | J44: ="tkhp89"&A44&"@softbank.ne.jp" -> tkhp890041@softbank.ne.jp | K44: =E44&" "&F44 -> 循環器内科 山田博胤 | L44: =LENB(K44) -> 19 | M44: 001循環器内科 | N44: 5 | O44: 1 | R44: 45267 | S44: 2023/12/7循環器内科 山田博胤■2023/6/27在庫■2018/3/23循環器内科 山田博胤■ | U44: 07065860041 | V44: 890041 | X44: CELL | Y44: CELL | Z44: CELL | AA44: 外009 | AC44: =IF(AB44="",2,IF(E44=AB44,1,0)) -> 2 | AE44: =IF(AD44="",2,IF(F44=AD44,1,0)) -> 2 | AG44: =IF(AF44="",2,IF(H44=AF44,1,0)) -> 2 | AI44: =IF(AH44="",2,IF(I44=AH44,1,0)) -> 2 | AJ44: 001循環器内科 | AK44: =IF(AJ44="",2,IF(M44=AJ44,1,0)) -> 1
A45: 0042 | B45: 携帯 | C45: 070-6586-0042 | D45: 89-0042 | E45: 施設企画室 | F45: 小磯雅史 | G45: ｼｯｾﾂｲｶｸｼﾂ01 | H45: ｺｲｿ | I45: 室長 | J45: ="tkhp89"&A45&"@softbank.ne.jp" -> tkhp890042@softbank.ne.jp | K45: =E45&" "&F45 -> 施設企画室 小磯雅史 | L45: =LENB(K45) -> 19 | M45: 703施設企画室 | N45: 12 | O45: 7 | R45: 45748 | S45: 2025/4/1施設企画室 小磯雅史■2024/12/4紛失代替■2024/4/1在庫■2020/6/17消化器内科 オンコール用■2020/3/29在庫■2019/3/11麻酔科 篠原光治■ | U45: 07065860042 | V45: 890042 | X45: CELL | Y45: CELL | Z45: CELL | AA45: 外083 | AC45: =IF(AB45="",2,IF(E45=AB45,1,0)) -> 2 | AE45: =IF(AD45="",2,IF(F45=AD45,1,0)) -> 2 | AG45: =IF(AF45="",2,IF(H45=AF45,1,0)) -> 2 | AI45: =IF(AH45="",2,IF(I45=AH45,1,0)) -> 2 | AJ45: 003消化器内科 | AK45: =IF(AJ45="",2,IF(M45=AJ45,1,0)) -> 0
A46: 0043 | B46: 携帯 | C46: 070-6586-0043 | D46: 89-0043 | E46: 病院情報セ | F46: 若田好史 | G46: ﾋﾞｮｳｲﾝｼﾞｮｳﾎｳｾ07 | H46: ﾜｶﾀ | I46: 教授 部長 | J46: ="tkhp89"&A46&"@softbank.ne.jp" -> tkhp890043@softbank.ne.jp | K46: =E46&" "&F46 -> 病院情報セ 若田好史 | L46: =LENB(K46) -> 19 | M46: 209病院情報セ | N46: 3 | O46: 1 | R46: 45468 | S46: 2024/6/25病院情報セ 若田好史■2023/4/1在庫■2022/4/1放射線科 笠井嘉人■2021/4/1放射線科 岡田直子■2017/3/13産科婦人科 米谷直人■ | U46: 07065860043 | V46: 890043 | X46: CELL | Y46: CELL | Z46: CELL | AA46: 外899 | AC46: =IF(AB46="",2,IF(E46=AB46,1,0)) -> 2 | AE46: =IF(AD46="",2,IF(F46=AD46,1,0)) -> 2 | AG46: =IF(AF46="",2,IF(H46=AF46,1,0)) -> 2 | AI46: =IF(AH46="",2,IF(I46=AH46,1,0)) -> 2 | AK46: =IF(AJ46="",2,IF(M46=AJ46,1,0)) -> 2
A47: 0044 | B47: 携帯 | C47: 070-6586-0044 | D47: 89-0044 | E47: 耳鼻咽喉科 | F47: 藤野勝也 | G47: ｼﾞﾋﾞｲﾝｺｳｶ | H47: ﾌｼﾞﾉ | I47: 医員 | J47: ="tkhp89"&A47&"@softbank.ne.jp" -> tkhp890044@softbank.ne.jp | K47: =E47&" "&F47 -> 耳鼻咽喉科 藤野勝也 | L47: =LENB(K47) -> 19 | M47: 015耳鼻咽喉科 | N47: 6 | O47: 1 | R47: 44652 | S47: 2022/4/1耳鼻咽喉科 藤野勝也■2019/3/14耳鼻咽喉科 山下貴央■ | U47: 07065860044 | V47: 890044 | X47: CELL | Y47: CELL | Z47: CELL | AA47: 外215 | AC47: =IF(AB47="",2,IF(E47=AB47,1,0)) -> 2 | AE47: =IF(AD47="",2,IF(F47=AD47,1,0)) -> 2 | AG47: =IF(AF47="",2,IF(H47=AF47,1,0)) -> 2 | AI47: =IF(AH47="",2,IF(I47=AH47,1,0)) -> 2 | AJ47: 015耳鼻咽喉科 | AK47: =IF(AJ47="",2,IF(M47=AJ47,1,0)) -> 1
A48: 0045 | B48: 携帯 | C48: 070-6586-0045 | D48: 89-0045 | E48: 血液内科 | F48: 安倍正博 | G48: ｹﾂｴｷﾅｲｶ | H48: ｱﾍﾞ | I48: 診療許可医 | J48: ="tkhp89"&A48&"@softbank.ne.jp" -> tkhp890045@softbank.ne.jp | K48: =E48&" "&F48 -> 血液内科 安倍正博 | L48: =LENB(K48) -> 17 | M48: 006血液内科 | N48: 12 | O48: 1 | R48: 45017 | S48: 2023/4/1血液内科 安倍正博■2016/1/27血液内科 安倍正博■ | U48: 07065860045 | V48: 890045 | X48: CELL | Y48: CELL | Z48: CELL | AA48: 外109 | AC48: =IF(AB48="",2,IF(E48=AB48,1,0)) -> 2 | AE48: =IF(AD48="",2,IF(F48=AD48,1,0)) -> 2 | AG48: =IF(AF48="",2,IF(H48=AF48,1,0)) -> 2 | AI48: =IF(AH48="",2,IF(I48=AH48,1,0)) -> 2 | AJ48: 006血液内科 | AK48: =IF(AJ48="",2,IF(M48=AJ48,1,0)) -> 1
A49: 0046 | B49: 携帯 | C49: 070-6586-0046 | D49: 89-0046 | E49: 血液内科 | F49: 原田武志 | G49: ｹﾂｴｷﾅｲｶ | H49: ﾊﾗﾀﾞ | I49: 准教授 | J49: ="tkhp89"&A49&"@softbank.ne.jp" -> tkhp890046@softbank.ne.jp | K49: =E49&" "&F49 -> 血液内科 原田武志 | L49: =LENB(K49) -> 17 | M49: 006血液内科 | N49: 6 | O49: 1 | R49: 44265 | S49: 2017/3/9血液内科 原田武志■ | U49: 07065860046 | V49: 890046 | X49: CELL | Y49: CELL | Z49: CELL | AA49: 外110 | AC49: =IF(AB49="",2,IF(E49=AB49,1,0)) -> 2 | AE49: =IF(AD49="",2,IF(F49=AD49,1,0)) -> 2 | AG49: =IF(AF49="",2,IF(H49=AF49,1,0)) -> 2 | AI49: =IF(AH49="",2,IF(I49=AH49,1,0)) -> 2 | AJ49: 006血液内科 | AK49: =IF(AJ49="",2,IF(M49=AJ49,1,0)) -> 1
A50: 0047 | B50: 携帯 | C50: 070-6586-0047 | D50: 89-0047 | E50: 血液内科 | F50: 柴田 尚弥 | G50: ｹﾂｴｷﾅｲｶ | H50: ｼﾊﾞﾀ | I50: 医員 | J50: ="tkhp89"&A50&"@softbank.ne.jp" -> tkhp890047@softbank.ne.jp | K50: =E50&" "&F50 -> 血液内科 柴田 尚弥 | L50: =LENB(K50) -> 18 | M50: 006血液内科 | N50: 6 | O50: 1 | R50: 46104 | S50: 2026/3/23血液内科 柴田 尚弥■2025/10/30在庫■2016/1/27内分泌内科 粟飯原賢一■ | U50: 07065860047 | V50: 890047 | X50: CELL | Y50: CELL | Z50: CELL | AA50: 外096 | AC50: =IF(AB50="",2,IF(E50=AB50,1,0)) -> 2 | AE50: =IF(AD50="",2,IF(F50=AD50,1,0)) -> 2 | AG50: =IF(AF50="",2,IF(H50=AF50,1,0)) -> 2 | AI50: =IF(AH50="",2,IF(I50=AH50,1,0)) -> 2 | AJ50: 005内分泌内科 | AK50: =IF(AJ50="",2,IF(M50=AJ50,1,0)) -> 0
A51: 0048 | B51: 携帯 | C51: 070-6586-0048 | D51: 89-0048 | E51: 血液内科 | F51: 藤井志朗 | G51: ｹﾂｴｷﾅｲｶ | H51: ﾌｼﾞｲ | I51: 講師 | J51: ="tkhp89"&A51&"@softbank.ne.jp" -> tkhp890048@softbank.ne.jp | K51: =E51&" "&F51 -> 血液内科 藤井志朗 | L51: =LENB(K51) -> 17 | M51: 006血液内科 | N51: 6 | O51: 1 | R51: 42803 | S51: 2017/3/9血液内科 藤井志朗■ | U51: 07065860048 | V51: 890048 | X51: CELL | Y51: CELL | Z51: CELL | AA51: 外111 | AC51: =IF(AB51="",2,IF(E51=AB51,1,0)) -> 2 | AE51: =IF(AD51="",2,IF(F51=AD51,1,0)) -> 2 | AG51: =IF(AF51="",2,IF(H51=AF51,1,0)) -> 2 | AI51: =IF(AH51="",2,IF(I51=AH51,1,0)) -> 2 | AJ51: 006血液内科 | AK51: =IF(AJ51="",2,IF(M51=AJ51,1,0)) -> 1
A52: 0049 | B52: 携帯 | C52: 070-6586-0049 | D52: 89-0049 | E52: 内分泌内科 | F52: 遠藤逸朗 | G52: ﾅｲﾌﾞﾝﾋﾟﾂﾅｲｶ | H52: ｴﾝﾄﾞｳ | I52: 教授 | J52: ="tkhp89"&A52&"@softbank.ne.jp" -> tkhp890049@softbank.ne.jp | K52: =E52&" "&F52 -> 内分泌内科 遠藤逸朗 | L52: =LENB(K52) -> 19 | M52: 005内分泌内科 | N52: 4 | O52: 1 | R52: 43181 | S52: 2018/3/22内分泌内科 遠藤逸朗■ | U52: 07065860049 | V52: 890049 | X52: CELL | Y52: CELL | Z52: CELL | AA52: 外097 | AC52: =IF(AB52="",2,IF(E52=AB52,1,0)) -> 2 | AE52: =IF(AD52="",2,IF(F52=AD52,1,0)) -> 2 | AG52: =IF(AF52="",2,IF(H52=AF52,1,0)) -> 2 | AI52: =IF(AH52="",2,IF(I52=AH52,1,0)) -> 2 | AJ52: 005内分泌内科 | AK52: =IF(AJ52="",2,IF(M52=AJ52,1,0)) -> 1
A53: 0050 | B53: 携帯 | C53: 070-6586-0050 | D53: 89-0050 | E53: 消化器内科 | F53: 田中宏典 | G53: ｼｮｳｶｷﾅｲｶ | H53: ﾀﾅｶ | I53: 助教 | J53: ="tkhp89"&A53&"@softbank.ne.jp" -> tkhp890050@softbank.ne.jp | K53: =E53&" "&F53 -> 消化器内科 田中宏典 | L53: =LENB(K53) -> 19 | M53: 003消化器内科 | N53: 6 | O53: 1 | R53: 44284 | S53: 2018/10/22消化器内科 田中宏典■ | U53: 07065860050 | V53: 890050 | X53: CELL | Y53: CELL | Z53: CELL | AA53: 外052 | AC53: =IF(AB53="",2,IF(E53=AB53,1,0)) -> 2 | AE53: =IF(AD53="",2,IF(F53=AD53,1,0)) -> 2 | AG53: =IF(AF53="",2,IF(H53=AF53,1,0)) -> 2 | AI53: =IF(AH53="",2,IF(I53=AH53,1,0)) -> 2 | AJ53: 003消化器内科 | AK53: =IF(AJ53="",2,IF(M53=AJ53,1,0)) -> 1
A54: 0051 | B54: 携帯 | C54: 070-6586-0051 | D54: 89-0051 | E54: 血液内科 | F54: 賀川久美子 | G54: ｹﾂｴｷﾅｲｶ | H54: ｶｶﾞﾜ | I54: 診療許可医 | J54: ="tkhp89"&A54&"@softbank.ne.jp" -> tkhp890051@softbank.ne.jp | K54: =E54&" "&F54 -> 血液内科 賀川久美子 | L54: =LENB(K54) -> 19 | M54: 006血液内科 | N54: 12 | O54: 1 | R54: 44274 | S54: 2016/1/27血液内科 賀川久美子■ | U54: 07065860051 | V54: 890051 | X54: CELL | Y54: CELL | Z54: CELL | AA54: 外112 | AC54: =IF(AB54="",2,IF(E54=AB54,1,0)) -> 2 | AE54: =IF(AD54="",2,IF(F54=AD54,1,0)) -> 2 | AG54: =IF(AF54="",2,IF(H54=AF54,1,0)) -> 2 | AI54: =IF(AH54="",2,IF(I54=AH54,1,0)) -> 2 | AJ54: 006血液内科 | AK54: =IF(AJ54="",2,IF(M54=AJ54,1,0)) -> 1
A55: 0052 | B55: 携帯 | C55: 070-6586-0052 | D55: 89-0052 | E55: 血液内科 | F55: 大浦雅博 | G55: ｹﾂｴｷﾅｲｶ | H55: ｵｵｳﾗ | I55: 特任助教 | J55: ="tkhp89"&A55&"@softbank.ne.jp" -> tkhp890052@softbank.ne.jp | K55: =E55&" "&F55 -> 血液内科 大浦雅博 | L55: =LENB(K55) -> 17 | M55: 006血液内科 | N55: 6 | O55: 1 | R55: 45812 | S55: 2025/6/4血液内科 へ変更■2019/3/6地域医療 大浦雅博■ | U55: 07065860052 | V55: 890052 | X55: CELL | Y55: CELL | Z55: CELL | AA55: 外120 | AC55: =IF(AB55="",2,IF(E55=AB55,1,0)) -> 2 | AE55: =IF(AD55="",2,IF(F55=AD55,1,0)) -> 2 | AG55: =IF(AF55="",2,IF(H55=AF55,1,0)) -> 2 | AI55: =IF(AH55="",2,IF(I55=AH55,1,0)) -> 2 | AJ55: 006血液内科 | AK55: =IF(AJ55="",2,IF(M55=AJ55,1,0)) -> 1
A56: 0053 | B56: 携帯 | C56: 070-6586-0053 | D56: 89-0053 | E56: 血液内科 | F56: 住谷龍平 | G56: ｹﾂｴｷﾅｲｶ | H56: ｽﾐﾀﾆ | I56: 特任助教 | J56: ="tkhp89"&A56&"@softbank.ne.jp" -> tkhp890053@softbank.ne.jp | K56: =E56&" "&F56 -> 血液内科 住谷龍平 | L56: =LENB(K56) -> 17 | M56: 006血液内科 | N56: 6 | O56: 1 | R56: 44265 | S56: 2019/3/6血液内科 住谷龍平■ | U56: 07065860053 | V56: 890053 | X56: CELL | Y56: CELL | Z56: CELL | AA56: 外113 | AC56: =IF(AB56="",2,IF(E56=AB56,1,0)) -> 2 | AE56: =IF(AD56="",2,IF(F56=AD56,1,0)) -> 2 | AG56: =IF(AF56="",2,IF(H56=AF56,1,0)) -> 2 | AI56: =IF(AH56="",2,IF(I56=AH56,1,0)) -> 2 | AJ56: 006血液内科 | AK56: =IF(AJ56="",2,IF(M56=AJ56,1,0)) -> 1
A57: 0054 | B57: 携帯 | C57: 070-6586-0054 | D57: 89-0054 | E57: 消化器内科 | F57: 大木元彩夏 | G57: ｼｮｳｶｷﾅｲｶ | H57: ｵｵｷﾞﾓﾄ | I57: 医員 | J57: ="tkhp89"&A57&"@softbank.ne.jp" -> tkhp890054@softbank.ne.jp | K57: =E57&" "&F57 -> 消化器内科 大木元彩夏 | L57: =LENB(K57) -> 21 | M57: 003消化器内科 | N57: 6 | O57: 1 | R57: 45383 | S57: 2024/4/1消化器内科 大木元彩夏■2022/4/1消化器内科 藤本将太■2021/9/28在庫■2018/8/1病院情報セ 若田好史■ | U57: 07065860054 | V57: 890054 | X57: CELL | Y57: CELL | Z57: CELL | AA57: 外053 | AC57: =IF(AB57="",2,IF(E57=AB57,1,0)) -> 2 | AD57: 大木元彩夏 | AE57: =IF(AD57="",2,IF(F57=AD57,1,0)) -> 1 | AF57: ｵｵｷﾞﾓﾄ | AG57: =IF(AF57="",2,IF(H57=AF57,1,0)) -> 1 | AH57: 医員 | AI57: =IF(AH57="",2,IF(I57=AH57,1,0)) -> 1 | AJ57: 003消化器内科 | AK57: =IF(AJ57="",2,IF(M57=AJ57,1,0)) -> 1
A58: 0055 | B58: 携帯 | C58: 070-6586-0055 | D58: 89-0055 | E58: 第1コール救急対応 | F58: 看護師（時間内） | G58: ｱｱ002 | I58: 看護師 | J58: ="tkhp89"&A58&"@softbank.ne.jp" -> tkhp890055@softbank.ne.jp | K58: =E58&" "&F58 -> 第1コール救急対応 看護師（時間内） | L58: =LENB(K58) -> 34 | M58: 401看護部 | N58: 12 | O58: 3 | R58: 44019 | S58: 2020/7/7第1コール救急対応 看護師（時間内）■2020/7/7救急対応 看護師（時間内）■2019/5/24在庫■ | U58: 07065860055 | V58: 890055 | W58: 3 | X58: CELL | Y58: CELL | Z58: CELL | AA58: 外652 | AC58: =IF(AB58="",2,IF(E58=AB58,1,0)) -> 2 | AE58: =IF(AD58="",2,IF(F58=AD58,1,0)) -> 2 | AG58: =IF(AF58="",2,IF(H58=AF58,1,0)) -> 2 | AI58: =IF(AH58="",2,IF(I58=AH58,1,0)) -> 2 | AJ58: 401看護部 | AK58: =IF(AJ58="",2,IF(M58=AJ58,1,0)) -> 1
A59: 0056 | B59: 携帯 | C59: 070-6586-0056 | D59: 89-0056 | E59: 内分泌内科 | F59: 三井由加里 | G59: ﾅｲﾌﾞﾝﾋﾟﾂﾅｲｶ | H59: ﾐﾂｲ | I59: 診療支援医師 | J59: ="tkhp89"&A59&"@softbank.ne.jp" -> tkhp890056@softbank.ne.jp | K59: =E59&" "&F59 -> 内分泌内科 三井由加里 | L59: =LENB(K59) -> 21 | M59: 005内分泌内科 | N59: 6 | O59: 1 | R59: 43349 | S59: 2018/9/6内分泌内科 三井由加里■ | U59: 07065860056 | V59: 890056 | X59: CELL | Y59: CELL | Z59: CELL | AA59: 外098 | AC59: =IF(AB59="",2,IF(E59=AB59,1,0)) -> 2 | AE59: =IF(AD59="",2,IF(F59=AD59,1,0)) -> 2 | AG59: =IF(AF59="",2,IF(H59=AF59,1,0)) -> 2 | AH59: 診療支援医師 | AI59: =IF(AH59="",2,IF(I59=AH59,1,0)) -> 1 | AJ59: 005内分泌内科 | AK59: =IF(AJ59="",2,IF(M59=AJ59,1,0)) -> 1
A60: 0057 | B60: 携帯 | C60: 070-6586-0057 | D60: 89-0057 | E60: 血液内科 | F60: 堀太貴 | G60: ｹﾂｴｷﾅｲｶ | H60: ﾎﾘ | I60: 医員 | J60: ="tkhp89"&A60&"@softbank.ne.jp" -> tkhp890057@softbank.ne.jp | K60: =E60&" "&F60 -> 血液内科 堀太貴 | L60: =LENB(K60) -> 15 | M60: 006血液内科 | N60: 6 | O60: 1 | R60: 45748 | S60: 2025/4/1血液内科 堀太貴■2018/3/22内分泌内科 倉橋清衛■ | U60: 07065860057 | V60: 890057 | X60: CELL | Y60: CELL | Z60: CELL | AA60: 外099 | AC60: =IF(AB60="",2,IF(E60=AB60,1,0)) -> 2 | AE60: =IF(AD60="",2,IF(F60=AD60,1,0)) -> 2 | AG60: =IF(AF60="",2,IF(H60=AF60,1,0)) -> 2 | AH60: 診療支援医師 | AI60: =IF(AH60="",2,IF(I60=AH60,1,0)) -> 0 | AJ60: 005内分泌内科 | AK60: =IF(AJ60="",2,IF(M60=AJ60,1,0)) -> 0
A61: 0058 | B61: 携帯 | C61: 070-6586-0058 | D61: 89-0058 | E61: 消化器内科 | F61: 三宅孝典 | G61: ｼｮｳｶｷﾅｲｶ | H61: ﾐﾔｹ | I61: 特任助教 | J61: ="tkhp89"&A61&"@softbank.ne.jp" -> tkhp890058@softbank.ne.jp | K61: =E61&" "&F61 -> 消化器内科 三宅孝典 | L61: =LENB(K61) -> 19 | M61: 003消化器内科 | N61: 6 | O61: 1 | R61: 46100 | S61: 2026/3/19消化器内科 三宅孝典■2010/3/5消化器内科 高山哲治■ | U61: 07065860058 | V61: 890058 | X61: CELL | Y61: CELL | Z61: CELL | AA61: 外054 | AC61: =IF(AB61="",2,IF(E61=AB61,1,0)) -> 2 | AE61: =IF(AD61="",2,IF(F61=AD61,1,0)) -> 2 | AG61: =IF(AF61="",2,IF(H61=AF61,1,0)) -> 2 | AI61: =IF(AH61="",2,IF(I61=AH61,1,0)) -> 2 | AJ61: 003消化器内科 | AK61: =IF(AJ61="",2,IF(M61=AJ61,1,0)) -> 1
A62: 0059 | B62: 携帯 | C62: 070-6586-0059 | D62: 89-0059 | E62: 循環器内科 | F62: 原知也 | G62: ｼﾞｭﾝｶﾝｷﾅｲｶ | H62: ﾊﾗ | I62: 助教 | J62: ="tkhp89"&A62&"@softbank.ne.jp" -> tkhp890059@softbank.ne.jp | K62: =E62&" "&F62 -> 循環器内科 原知也 | L62: =LENB(K62) -> 17 | M62: 001循環器内科 | N62: 6 | O62: 1 | R62: 44652 | S62: 2022/4/1循環器内科 原知也■2012/4/9循環器内科 福田大受■ | U62: 07065860059 | V62: 890059 | X62: CELL | Y62: CELL | Z62: CELL | AA62: 外010 | AC62: =IF(AB62="",2,IF(E62=AB62,1,0)) -> 2 | AE62: =IF(AD62="",2,IF(F62=AD62,1,0)) -> 2 | AG62: =IF(AF62="",2,IF(H62=AF62,1,0)) -> 2 | AH62: 助教 | AI62: =IF(AH62="",2,IF(I62=AH62,1,0)) -> 1 | AJ62: 001循環器内科 | AK62: =IF(AJ62="",2,IF(M62=AJ62,1,0)) -> 1
A63: 0060 | B63: 携帯 | C63: 070-6586-0060 | D63: 89-0060 | E63: 消化器内科 | F63: 田中貴大 | G63: ｼｮｳｶｷﾅｲｶ | H63: ﾀﾅｶ | I63: 診療支援医師 | J63: ="tkhp89"&A63&"@softbank.ne.jp" -> tkhp890060@softbank.ne.jp | K63: =E63&" "&F63 -> 消化器内科 田中貴大 | L63: =LENB(K63) -> 19 | M63: 003消化器内科 | N63: 6 | O63: 1 | R63: 42809 | S63: 2016/9/26消化器内科 田中貴大■ | U63: 07065860060 | V63: 890060 | X63: CELL | Y63: CELL | Z63: CELL | AA63: 外055 | AC63: =IF(AB63="",2,IF(E63=AB63,1,0)) -> 2 | AE63: =IF(AD63="",2,IF(F63=AD63,1,0)) -> 2 | AG63: =IF(AF63="",2,IF(H63=AF63,1,0)) -> 2 | AI63: =IF(AH63="",2,IF(I63=AH63,1,0)) -> 2 | AJ63: 003消化器内科 | AK63: =IF(AJ63="",2,IF(M63=AJ63,1,0)) -> 1
A64: 0061 | B64: 携帯 | C64: 070-6586-0061 | D64: 89-0061 | E64: 消化器内科 | F64: 吉本貴則 | G64: ｼｮｳｶｷﾅｲｶ | H64: ﾖｼﾓﾄ | I64: 特任助教 | J64: ="tkhp89"&A64&"@softbank.ne.jp" -> tkhp890061@softbank.ne.jp | K64: =E64&" "&F64 -> 消化器内科 吉本貴則 | L64: =LENB(K64) -> 19 | M64: 003消化器内科 | N64: 6 | O64: 1 | R64: 46100 | S64: 2026/3/19消化器内科 吉本貴則■2016/1/27消化器内科 岡久稔也■ | U64: 07065860061 | V64: 890061 | X64: CELL | Y64: CELL | Z64: CELL | AA64: 外056 | AC64: =IF(AB64="",2,IF(E64=AB64,1,0)) -> 2 | AE64: =IF(AD64="",2,IF(F64=AD64,1,0)) -> 2 | AG64: =IF(AF64="",2,IF(H64=AF64,1,0)) -> 2 | AI64: =IF(AH64="",2,IF(I64=AH64,1,0)) -> 2 | AJ64: 003消化器内科 | AK64: =IF(AJ64="",2,IF(M64=AJ64,1,0)) -> 1
A65: 0062 | B65: 携帯 | C65: 070-6586-0062 | D65: 89-0062 | E65: 消化器内科 | F65: 花田康平 | G65: ｼｮｳｶｷﾅｲｶ | H65: ﾊﾅﾀﾞ | I65: 医員 | J65: ="tkhp89"&A65&"@softbank.ne.jp" -> tkhp890062@softbank.ne.jp | K65: =E65&" "&F65 -> 消化器内科 花田康平 | L65: =LENB(K65) -> 19 | M65: 003消化器内科 | N65: 6 | O65: 1 | R65: 45383 | S65: 2024/4/1消化器内科 花田康平■2022/10/3在庫■2022/4/1消化器内科 高橋拓■2021/4/1消化器内科 山崎めぐみ■2020/3/29消化器内科 矢野庄悟■2018/3/23消化器内科 宮城愛■ | U65: 07065860062 | V65: 890062 | X65: CELL | Y65: CELL | Z65: CELL | AA65: 外900 | AB65: 消化器内科 | AC65: =IF(AB65="",2,IF(E65=AB65,1,0)) -> 1 | AD65: 花田康平 | AE65: =IF(AD65="",2,IF(F65=AD65,1,0)) -> 1 | AF65: ﾊﾅﾀﾞ | AG65: =IF(AF65="",2,IF(H65=AF65,1,0)) -> 1 | AH65: 診療支援医師 | AI65: =IF(AH65="",2,IF(I65=AH65,1,0)) -> 0 | AJ65: 003消化器内科 | AK65: =IF(AJ65="",2,IF(M65=AJ65,1,0)) -> 1
A66: 0063 | B66: 携帯 | C66: 070-6586-0063 | D66: 89-0063 | E66: 消化器内科 | F66: 曽我部正弘 | G66: ｼｮｳｶｷﾅｲｶ | H66: ｿｶﾞﾍﾞ | I66: 教授 | J66: ="tkhp89"&A66&"@softbank.ne.jp" -> tkhp890063@softbank.ne.jp | K66: =E66&" "&F66 -> 消化器内科 曽我部正弘 | L66: =LENB(K66) -> 21 | M66: 003消化器内科 | N66: 6 | O66: 1 | R66: 44369 | S66: 2021/6/22消化器内科 曽我部正弘■2021/3/12在庫■2014/7/3脳神経内科 佐光亘■2014/7/3神経内科 佐光亘■ | U66: 07065860063 | V66: 890063 | X66: CELL | Y66: CELL | Z66: CELL | AA66: 外057 | AC66: =IF(AB66="",2,IF(E66=AB66,1,0)) -> 2 | AE66: =IF(AD66="",2,IF(F66=AD66,1,0)) -> 2 | AG66: =IF(AF66="",2,IF(H66=AF66,1,0)) -> 2 | AI66: =IF(AH66="",2,IF(I66=AH66,1,0)) -> 2 | AJ66: 003消化器内科 | AK66: =IF(AJ66="",2,IF(M66=AJ66,1,0)) -> 1
A67: 0064 | B67: 携帯 | C67: 070-6586-0064 | D67: 89-0064 | E67: 消化器内科 | F67: 堀江優希 | G67: ｼｮｳｶｷﾅｲｶ | H67: ﾎﾘｴ | I67: 医員 | J67: ="tkhp89"&A67&"@softbank.ne.jp" -> tkhp890064@softbank.ne.jp | K67: =E67&" "&F67 -> 消化器内科 堀江優希 | L67: =LENB(K67) -> 19 | M67: 003消化器内科 | N67: 6 | O67: 1 | R67: 46107 | S67: 2026/3/26消化器内科 堀江優希■2025/11/1在庫■2022/4/1消化器内科 河野豊■2011/1/6消化器内科 六車直樹■ | U67: 07065860064 | V67: 890064 | X67: CELL | Y67: CELL | Z67: CELL | AA67: 外058 | AC67: =IF(AB67="",2,IF(E67=AB67,1,0)) -> 2 | AE67: =IF(AD67="",2,IF(F67=AD67,1,0)) -> 2 | AG67: =IF(AF67="",2,IF(H67=AF67,1,0)) -> 2 | AI67: =IF(AH67="",2,IF(I67=AH67,1,0)) -> 2 | AJ67: 003消化器内科 | AK67: =IF(AJ67="",2,IF(M67=AJ67,1,0)) -> 1
A68: 0065 | B68: 携帯 | C68: 070-6586-0065 | D68: 89-0065 | E68: 救急科 | F68: 布村俊幸 | G68: ｷｭｳｷｭｳｶ | H68: ﾇﾉﾑﾗ | I68: 特任助教 | J68: ="tkhp89"&A68&"@softbank.ne.jp" -> tkhp890065@softbank.ne.jp | K68: =E68&" "&F68 -> 救急科 布村俊幸 | L68: =LENB(K68) -> 15 | M68: 025救急科 | N68: 6 | O68: 1 | R68: 44287 | S68: 2021/3/11救急 布村俊幸■2020/10/7在庫■2019/3/18消化器内科 平尾章博■ | U68: 07065860065 | V68: 890065 | X68: CELL | Y68: CELL | Z68: CELL | AA68: 外509 | AC68: =IF(AB68="",2,IF(E68=AB68,1,0)) -> 2 | AE68: =IF(AD68="",2,IF(F68=AD68,1,0)) -> 2 | AG68: =IF(AF68="",2,IF(H68=AF68,1,0)) -> 2 | AI68: =IF(AH68="",2,IF(I68=AH68,1,0)) -> 2 | AJ68: 204救急 | AK68: =IF(AJ68="",2,IF(M68=AJ68,1,0)) -> 0
A69: 0066 | B69: 携帯 | C69: 070-6586-0066 | D69: 89-0066 | E69: 消化器内科 | F69: 勢井萌都子 | G69: ｼｮｳｶｷﾅｲｶ | H69: ｾｲ | I69: 医員 | J69: ="tkhp89"&A69&"@softbank.ne.jp" -> tkhp890066@softbank.ne.jp | K69: =E69&" "&F69 -> 消化器内科 勢井萌都子 | L69: =LENB(K69) -> 21 | M69: 003消化器内科 | N69: 6 | O69: 1 | R69: 45925 | S69: 2025/9/25消化器内科 勢井萌都子■2025/4/1消化器内科 手束宏明■2024/4/1消化器内科 米田健一■2019/3/18消化器内科 和田浩典■ | U69: 07065860066 | V69: 890066 | X69: CELL | Y69: CELL | Z69: CELL | AA69: 外059 | AC69: =IF(AB69="",2,IF(E69=AB69,1,0)) -> 2 | AD69: 米田健一 | AE69: =IF(AD69="",2,IF(F69=AD69,1,0)) -> 0 | AF69: ﾖﾈﾀﾞ | AG69: =IF(AF69="",2,IF(H69=AF69,1,0)) -> 0 | AH69: 医員 | AI69: =IF(AH69="",2,IF(I69=AH69,1,0)) -> 1 | AJ69: 003消化器内科 | AK69: =IF(AJ69="",2,IF(M69=AJ69,1,0)) -> 1
A70: 0067 | B70: 携帯 | C70: 070-6586-0067 | D70: 89-0067 | E70: 消化器内科 | F70: 中村文香 | G70: ｼｮｳｶｷﾅｲｶ | H70: ﾅｶﾑﾗ | I70: 診療支援医師 | J70: ="tkhp89"&A70&"@softbank.ne.jp" -> tkhp890067@softbank.ne.jp | K70: =E70&" "&F70 -> 消化器内科 中村文香 | L70: =LENB(K70) -> 19 | M70: 003消化器内科 | N70: 6 | O70: 1 | R70: 43182 | S70: 2018/3/23消化器内科 中村文香■ | U70: 07065860067 | V70: 890067 | X70: CELL | Y70: CELL | Z70: CELL | AA70: 外060 | AC70: =IF(AB70="",2,IF(E70=AB70,1,0)) -> 2 | AE70: =IF(AD70="",2,IF(F70=AD70,1,0)) -> 2 | AG70: =IF(AF70="",2,IF(H70=AF70,1,0)) -> 2 | AH70: 診療支援医師 | AI70: =IF(AH70="",2,IF(I70=AH70,1,0)) -> 1 | AJ70: 003消化器内科 | AK70: =IF(AJ70="",2,IF(M70=AJ70,1,0)) -> 1
A71: 0068 | B71: 携帯 | C71: 070-6586-0068 | D71: 89-0068 | E71: 消化器内科 | F71: 藤本将太 | G71: ｼｮｳｶｷﾅｲｶ | H71: ﾌｼﾞﾓﾄ | I71: 医員 | J71: ="tkhp89"&A71&"@softbank.ne.jp" -> tkhp890068@softbank.ne.jp | K71: =E71&" "&F71 -> 消化器内科 藤本将太 | L71: =LENB(K71) -> 19 | M71: 003消化器内科 | N71: 6 | O71: 1 | R71: 45748 | S71: 2025/4/1消化器内科 藤本将太■2023/4/1消化器内科 高橋拓■2011/3/23消化器内科 北村晋志■ | U71: 07065860068 | V71: 890068 | X71: CELL | Y71: CELL | Z71: CELL | AA71: 外061 | AC71: =IF(AB71="",2,IF(E71=AB71,1,0)) -> 2 | AE71: =IF(AD71="",2,IF(F71=AD71,1,0)) -> 2 | AG71: =IF(AF71="",2,IF(H71=AF71,1,0)) -> 2 | AI71: =IF(AH71="",2,IF(I71=AH71,1,0)) -> 2 | AJ71: 003消化器内科 | AK71: =IF(AJ71="",2,IF(M71=AJ71,1,0)) -> 1
A72: 0069 | B72: 携帯 | C72: 070-6586-0069 | D72: 89-0069 | E72: 消化器内科 | F72: 平尾章博 | G72: ｼｮｳｶｷﾅｲｶ | H72: ﾋﾗｵ | I72: 特任助教 | J72: ="tkhp89"&A72&"@softbank.ne.jp" -> tkhp890069@softbank.ne.jp | K72: =E72&" "&F72 -> 消化器内科 平尾章博 | L72: =LENB(K72) -> 19 | M72: 003消化器内科 | N72: 6 | O72: 1 | R72: 44287 | S72: 2021/4/1消化器内科 平尾章博■2011/3/23消化器内科 佐藤桃子■ | U72: 07065860069 | V72: 890069 | X72: CELL | Y72: CELL | Z72: CELL | AA72: 外062 | AC72: =IF(AB72="",2,IF(E72=AB72,1,0)) -> 2 | AE72: =IF(AD72="",2,IF(F72=AD72,1,0)) -> 2 | AG72: =IF(AF72="",2,IF(H72=AF72,1,0)) -> 2 | AI72: =IF(AH72="",2,IF(I72=AH72,1,0)) -> 2 | AJ72: 003消化器内科 | AK72: =IF(AJ72="",2,IF(M72=AJ72,1,0)) -> 1
A73: 0070 | B73: 携帯 | C73: 070-6586-0070 | D73: 89-0070 | E73: 消化器内科 | F73: 門田美由香 | G73: ｼｮｳｶｷﾅｲｶ | H73: ｶﾄﾞﾀ | I73: 診療支援医師 | J73: ="tkhp89"&A73&"@softbank.ne.jp" -> tkhp890070@softbank.ne.jp | K73: =E73&" "&F73 -> 消化器内科 門田美由香 | L73: =LENB(K73) -> 21 | M73: 003消化器内科 | N73: 6 | O73: 1 | R73: 45180 | S73: 2023/9/11消化器内科 門田美由香■2016/9/26消化器内科 藤野泰輝■ | U73: 07065860070 | V73: 890070 | X73: CELL | Y73: CELL | Z73: CELL | AA73: 外063 | AC73: =IF(AB73="",2,IF(E73=AB73,1,0)) -> 2 | AE73: =IF(AD73="",2,IF(F73=AD73,1,0)) -> 2 | AG73: =IF(AF73="",2,IF(H73=AF73,1,0)) -> 2 | AI73: =IF(AH73="",2,IF(I73=AH73,1,0)) -> 2 | AJ73: 003消化器内科 | AK73: =IF(AJ73="",2,IF(M73=AJ73,1,0)) -> 1
A74: 0071 | B74: 携帯 | C74: 070-6586-0071 | D74: 89-0071 | E74: 消化器内科 | F74: 上田浩之 | G74: ｼｮｳｶｷﾅｲｶ | H74: ｳｴﾀﾞ | I74: 診療支援医師 | J74: ="tkhp89"&A74&"@softbank.ne.jp" -> tkhp890071@softbank.ne.jp | K74: =E74&" "&F74 -> 消化器内科 上田浩之 | L74: =LENB(K74) -> 19 | M74: 003消化器内科 | N74: 6 | O74: 1 | R74: 43738 | S74: 2019/9/30消化器内科 上田浩之■ | U74: 07065860071 | V74: 890071 | X74: CELL | Y74: CELL | Z74: CELL | AA74: 外064 | AC74: =IF(AB74="",2,IF(E74=AB74,1,0)) -> 2 | AE74: =IF(AD74="",2,IF(F74=AD74,1,0)) -> 2 | AG74: =IF(AF74="",2,IF(H74=AF74,1,0)) -> 2 | AI74: =IF(AH74="",2,IF(I74=AH74,1,0)) -> 2 | AJ74: 003消化器内科 | AK74: =IF(AJ74="",2,IF(M74=AJ74,1,0)) -> 1
A75: 0072 | B75: 携帯 | C75: 070-6586-0072 | D75: 89-0072 | E75: 消化器内科 | F75: 横山怜子 | G75: ｼｮｳｶｷﾅｲｶ | H75: ﾖｺﾔﾏ | I75: 特任助教 | J75: ="tkhp89"&A75&"@softbank.ne.jp" -> tkhp890072@softbank.ne.jp | K75: =E75&" "&F75 -> 消化器内科 横山怜子 | L75: =LENB(K75) -> 19 | M75: 003消化器内科 | N75: 6 | O75: 1 | R75: 43919 | S75: 2020/3/29消化器内科 横山怜子■2019/3/19消化器内科 寺前智史■ | U75: 07065860072 | V75: 890072 | X75: CELL | Y75: CELL | Z75: CELL | AA75: 外065 | AC75: =IF(AB75="",2,IF(E75=AB75,1,0)) -> 2 | AE75: =IF(AD75="",2,IF(F75=AD75,1,0)) -> 2 | AG75: =IF(AF75="",2,IF(H75=AF75,1,0)) -> 2 | AI75: =IF(AH75="",2,IF(I75=AH75,1,0)) -> 2 | AJ75: 003消化器内科 | AK75: =IF(AJ75="",2,IF(M75=AJ75,1,0)) -> 1
A76: 0073 | B76: 携帯 | C76: 070-6586-0073 | D76: 89-0073 | E76: 呼吸器内科 | F76: 山本浩生 | G76: ｺｷｭｳｷﾅｲｶ | H76: ﾔﾏﾓﾄ | I76: 医員 | J76: ="tkhp89"&A76&"@softbank.ne.jp" -> tkhp890073@softbank.ne.jp | K76: =E76&" "&F76 -> 呼吸器内科 山本浩生 | L76: =LENB(K76) -> 19 | M76: 002呼吸器内科 | N76: 6 | O76: 1 | R76: 46289 | S76: 2026/9/24呼吸器内科 山本浩生■2024/4/1呼吸器内科 近藤圭大■2023/4/1呼吸器内科 寺澤翠■2023/4/1呼吸器内科 寺澤翠■2022/4/1呼吸器内科 新居香織■2021/4/1呼吸器内科 高丸利加子■2020/3/29呼吸器内科 近藤健介■2020/3/11在庫■ | U76: 07065860073 | V76: 890073 | X76: CELL | Y76: CELL | Z76: CELL | AA76: 外023 | AC76: =IF(AB76="",2,IF(E76=AB76,1,0)) -> 2 | AD76: 近藤圭大 | AE76: =IF(AD76="",2,IF(F76=AD76,1,0)) -> 0 | AF76: ｺﾝﾄﾞｳ | AG76: =IF(AF76="",2,IF(H76=AF76,1,0)) -> 0 | AH76: 医員 | AI76: =IF(AH76="",2,IF(I76=AH76,1,0)) -> 1 | AJ76: 002呼吸器内科 | AK76: =IF(AJ76="",2,IF(M76=AJ76,1,0)) -> 1
A77: 0074 | B77: 携帯 | C77: 070-6586-0074 | D77: 89-0074 | E77: 消化器内科 | F77: 中野彩佳 | G77: ｼｮｳｶｷﾅｲｶ | H77: ﾅｶﾉ | I77: 医員 | J77: ="tkhp89"&A77&"@softbank.ne.jp" -> tkhp890074@softbank.ne.jp | K77: =E77&" "&F77 -> 消化器内科 中野彩佳 | L77: =LENB(K77) -> 19 | M77: 003消化器内科 | N77: 6 | O77: 1 | R77: 46100 | S77: 2026/3/19消化器内科 中野彩佳■2022/4/1消化器内科 三橋威志■2021/4/1消化器内科 谷直也■2020/3/29消化器内科 内藤裕士■2019/9/30消化器内科 芳川明奈■ | U77: 07065860074 | V77: 890074 | X77: CELL | Y77: CELL | Z77: CELL | AA77: 外066 | AC77: =IF(AB77="",2,IF(E77=AB77,1,0)) -> 2 | AE77: =IF(AD77="",2,IF(F77=AD77,1,0)) -> 2 | AG77: =IF(AF77="",2,IF(H77=AF77,1,0)) -> 2 | AI77: =IF(AH77="",2,IF(I77=AH77,1,0)) -> 2 | AJ77: 003消化器内科 | AK77: =IF(AJ77="",2,IF(M77=AJ77,1,0)) -> 1
A78: 0075 | B78: 携帯 | C78: 070-6586-0075 | D78: 89-0075 | E78: 脳卒中セ | F78: 池口知幹 | G78: ﾉｳｿｯﾁｭｳｾ | H78: ｲｹｸﾞﾁ | I78: 事務補佐員 | J78: ="tkhp89"&A78&"@softbank.ne.jp" -> tkhp890075@softbank.ne.jp | K78: =E78&" "&F78 -> 脳卒中セ 池口知幹 | L78: =LENB(K78) -> 17 | M78: 019脳神経外科 | N78: 12 | O78: 7 | R78: 44342 | S78: 2021/5/26脳卒中セ 池口知幹■2017/4/5脳卒中セ 金澤章子■ | U78: 07065860075 | V78: 890075 | X78: CELL | Y78: CELL | Z78: CELL | AA78: 外308 | AC78: =IF(AB78="",2,IF(E78=AB78,1,0)) -> 2 | AE78: =IF(AD78="",2,IF(F78=AD78,1,0)) -> 2 | AG78: =IF(AF78="",2,IF(H78=AF78,1,0)) -> 2 | AI78: =IF(AH78="",2,IF(I78=AH78,1,0)) -> 2 | AJ78: 019脳神経外科 | AK78: =IF(AJ78="",2,IF(M78=AJ78,1,0)) -> 1
A79: 0076 | B79: 携帯 | C79: 070-6586-0076 | D79: 89-0076 | E79: 消化器内科 | F79: 本田真奈美 | G79: ｼｮｳｶｷﾅｲｶ | H79: ﾎﾝﾀﾞ | I79: 医員 | J79: ="tkhp89"&A79&"@softbank.ne.jp" -> tkhp890076@softbank.ne.jp | K79: =E79&" "&F79 -> 消化器内科 本田真奈美 | L79: =LENB(K79) -> 21 | M79: 003消化器内科 | N79: 6 | O79: 1 | R79: 46100 | S79: 2026/3/19消化器内科 本田真奈美■2025/4/1消化器内科 柴田祥吾■2023/4/1在庫■2021/3/11救急 百田和貴■2020/10/7在庫■2019/3/18消化器内科 樫原孝典■ | U79: 07065860076 | V79: 890076 | X79: CELL | Y79: CELL | Z79: CELL | AA79: 外901 | AC79: =IF(AB79="",2,IF(E79=AB79,1,0)) -> 2 | AE79: =IF(AD79="",2,IF(F79=AD79,1,0)) -> 2 | AG79: =IF(AF79="",2,IF(H79=AF79,1,0)) -> 2 | AI79: =IF(AH79="",2,IF(I79=AH79,1,0)) -> 2 | AK79: =IF(AJ79="",2,IF(M79=AJ79,1,0)) -> 2
A80: 0077 | B80: 携帯 | C80: 070-6586-0077 | D80: 89-0077 | E80: 呼吸器内科 | F80: 西岡安彦 | G80: ｺｷｭｳｷﾅｲｶ | H80: ﾆｼｵｶ | I80: 教授 | J80: ="tkhp89"&A80&"@softbank.ne.jp" -> tkhp890077@softbank.ne.jp | K80: =E80&" "&F80 -> 呼吸器内科 西岡安彦 | L80: =LENB(K80) -> 19 | M80: 002呼吸器内科 | N80: 4 | O80: 1 | R80: 43555 | S80: 2010/4/7呼吸器内科 西岡安彦■ | U80: 07065860077 | V80: 890077 | X80: CELL | Y80: CELL | Z80: CELL | AA80: 外024 | AC80: =IF(AB80="",2,IF(E80=AB80,1,0)) -> 2 | AE80: =IF(AD80="",2,IF(F80=AD80,1,0)) -> 2 | AG80: =IF(AF80="",2,IF(H80=AF80,1,0)) -> 2 | AI80: =IF(AH80="",2,IF(I80=AH80,1,0)) -> 2 | AJ80: 002呼吸器内科 | AK80: =IF(AJ80="",2,IF(M80=AJ80,1,0)) -> 1
A81: 0078 | B81: 携帯 | C81: 070-6586-0078 | D81: 89-0078 | E81: 眼科 | F81: 村尾史子 | G81: ｶﾞﾝｶ | H81: ﾑﾗｵ | I81: 講師 | J81: ="tkhp89"&A81&"@softbank.ne.jp" -> tkhp890078@softbank.ne.jp | K81: =E81&" "&F81 -> 眼科 村尾史子 | L81: =LENB(K81) -> 13 | M81: 014眼科 | N81: 6 | O81: 1 | R81: 43555 | S81: 2018/8/1眼科 村尾史子■ | U81: 07065860078 | V81: 890078 | X81: CELL | Y81: CELL | Z81: CELL | AA81: 外196 | AC81: =IF(AB81="",2,IF(E81=AB81,1,0)) -> 2 | AE81: =IF(AD81="",2,IF(F81=AD81,1,0)) -> 2 | AG81: =IF(AF81="",2,IF(H81=AF81,1,0)) -> 2 | AI81: =IF(AH81="",2,IF(I81=AH81,1,0)) -> 2 | AJ81: 014眼科 | AK81: =IF(AJ81="",2,IF(M81=AJ81,1,0)) -> 1
A82: 0079 | B82: 携帯 | C82: 070-6586-0079 | D82: 89-0079 | E82: 呼吸器内科 | F82: 村上行人 | G82: ｺｷｭｳｷﾅｲｶ | H82: ﾑﾗｶﾐ | I82: 特任助教 | J82: ="tkhp89"&A82&"@softbank.ne.jp" -> tkhp890079@softbank.ne.jp | K82: =E82&" "&F82 -> 呼吸器内科 村上行人 | L82: =LENB(K82) -> 19 | M82: 002呼吸器内科 | N82: 6 | O82: 1 | R82: 46104 | S82: 2026/3/23呼吸器内科 村上行人■2016/5/13呼吸器内科 福家麻美■ | U82: 07065860079 | V82: 890079 | X82: CELL | Y82: CELL | Z82: CELL | AA82: 外025 | AC82: =IF(AB82="",2,IF(E82=AB82,1,0)) -> 2 | AE82: =IF(AD82="",2,IF(F82=AD82,1,0)) -> 2 | AG82: =IF(AF82="",2,IF(H82=AF82,1,0)) -> 2 | AI82: =IF(AH82="",2,IF(I82=AH82,1,0)) -> 2 | AJ82: 002呼吸器内科 | AK82: =IF(AJ82="",2,IF(M82=AJ82,1,0)) -> 1
A83: 0080 | B83: 携帯 | C83: 070-6586-0080 | D83: 89-0080 | E83: 呼吸器内科 | F83: 荻野広和 | G83: ｺｷｭｳｷﾅｲｶ | H83: ｵｷﾞﾉ | I83: 講師 | J83: ="tkhp89"&A83&"@softbank.ne.jp" -> tkhp890080@softbank.ne.jp | K83: =E83&" "&F83 -> 呼吸器内科 荻野広和 | L83: =LENB(K83) -> 19 | M83: 002呼吸器内科 | N83: 5 | O83: 1 | R83: 44287 | S83: 2021/4/1呼吸器内科 荻野広和■2011/8/4呼吸器内科 阿部秀一■ | U83: 07065860080 | V83: 890080 | X83: CELL | Y83: CELL | Z83: CELL | AA83: 外026 | AC83: =IF(AB83="",2,IF(E83=AB83,1,0)) -> 2 | AE83: =IF(AD83="",2,IF(F83=AD83,1,0)) -> 2 | AG83: =IF(AF83="",2,IF(H83=AF83,1,0)) -> 2 | AI83: =IF(AH83="",2,IF(I83=AH83,1,0)) -> 2 | AJ83: 002呼吸器内科 | AK83: =IF(AJ83="",2,IF(M83=AJ83,1,0)) -> 1
A84: 0081 | B84: 携帯 | C84: 070-6586-0081 | D84: 89-0081 | E84: 栄養部 | F84: 東４担当栄養士 | G84: ｴｲﾖｳﾌﾞ07 | I84: 栄養士 | J84: ="tkhp89"&A84&"@softbank.ne.jp" -> tkhp890081@softbank.ne.jp | K84: =E84&" "&F84 -> 栄養部 東４担当栄養士 | L84: =LENB(K84) -> 21 | M84: 601栄養部 | N84: 12 | O84: 5 | R84: 45017 | S84: 2023/4/1栄養部 東４担当栄養士■2016/6/10栄養部 堤理恵■2016/6/10栄養サポートチーム 堤理恵■ | U84: 07065860081 | V84: 890081 | X84: CELL | Y84: CELL | Z84: CELL | AA84: 外825 | AC84: =IF(AB84="",2,IF(E84=AB84,1,0)) -> 2 | AE84: =IF(AD84="",2,IF(F84=AD84,1,0)) -> 2 | AG84: =IF(AF84="",2,IF(H84=AF84,1,0)) -> 2 | AI84: =IF(AH84="",2,IF(I84=AH84,1,0)) -> 2 | AJ84: 601栄養部 | AK84: =IF(AJ84="",2,IF(M84=AJ84,1,0)) -> 1
A85: 0082 | B85: 携帯 | C85: 070-6586-0082 | D85: 89-0082 | E85: 臨床研究推進部 | F85: 久米緑 | G85: ﾘﾝｼｮｳｹﾝｷｭｳｽｲｼﾝﾌﾞ | H85: ｸﾒ | I85: CRC(看護師) | J85: ="tkhp89"&A85&"@softbank.ne.jp" -> tkhp890082@softbank.ne.jp | K85: =E85&" "&F85 -> 臨床研究推進部 久米緑 | L85: =LENB(K85) -> 21 | M85: 401看護部 | N85: 12 | O85: 3 | R85: 45085 | S85: 2023/6/8総合臨床研究セ 久米緑■2023/5/4総合臨床研究セ (平野花梨(→5/1取り止め))■2023/4/1在庫■2020/3/29総合臨床研究セ 佐川真琳■2020/3/29総合臨床研究セ 二見明香理■2019/4/11臨床試験セ 二見明香理■ | U85: 07065860082 | V85: 890082 | X85: CELL | Y85: CELL | Z85: CELL | AA85: 外704 | AC85: =IF(AB85="",2,IF(E85=AB85,1,0)) -> 2 | AE85: =IF(AD85="",2,IF(F85=AD85,1,0)) -> 2 | AG85: =IF(AF85="",2,IF(H85=AF85,1,0)) -> 2 | AI85: =IF(AH85="",2,IF(I85=AH85,1,0)) -> 2 | AJ85: 401看護部 | AK85: =IF(AJ85="",2,IF(M85=AJ85,1,0)) -> 1
A86: 0083 | B86: 携帯 | C86: 070-6586-0083 | D86: 89-0083 | E86: 呼吸器内科 | F86: 中内友合江 | G86: ｺｷｭｳｷﾅｲｶ | H86: ﾅｶｳﾁ | I86: 医員 | J86: ="tkhp89"&A86&"@softbank.ne.jp" -> tkhp890083@softbank.ne.jp | K86: =E86&" "&F86 -> 呼吸器内科 中内友合江 | L86: =LENB(K86) -> 21 | M86: 002呼吸器内科 | N86: 6 | O86: 1 | R86: 45748 | S86: 2025/4/1呼吸器内科 中内友合江■2024/4/1呼吸器内科 伊藤一輝■2020/3/29呼吸器内科 阿部あかね■2019/3/6呼吸器内科 岡本悠里■ | U86: 07065860083 | V86: 890083 | X86: CELL | Y86: CELL | Z86: CELL | AA86: 外027 | AC86: =IF(AB86="",2,IF(E86=AB86,1,0)) -> 2 | AD86: 伊藤一輝 | AE86: =IF(AD86="",2,IF(F86=AD86,1,0)) -> 0 | AF86: ｲﾄｳ | AG86: =IF(AF86="",2,IF(H86=AF86,1,0)) -> 0 | AH86: 医員 | AI86: =IF(AH86="",2,IF(I86=AH86,1,0)) -> 1 | AJ86: 002呼吸器内科 | AK86: =IF(AJ86="",2,IF(M86=AJ86,1,0)) -> 1
A87: 0084 | B87: 携帯 | C87: 070-6586-0084 | D87: 89-0084 | E87: 呼吸器内科 | F87: 山下雄也 | G87: ｺｷｭｳｷﾅｲｶ | H87: ﾔﾏｼﾀ | I87: 特任助教 | J87: ="tkhp89"&A87&"@softbank.ne.jp" -> tkhp890084@softbank.ne.jp | K87: =E87&" "&F87 -> 呼吸器内科 山下雄也 | L87: =LENB(K87) -> 19 | M87: 002呼吸器内科 | N87: 6 | O87: 1 | R87: 43815 | S87: 2019/12/16呼吸器内科 山下雄也■ | U87: 07065860084 | V87: 890084 | X87: CELL | Y87: CELL | Z87: CELL | AA87: 外028 | AC87: =IF(AB87="",2,IF(E87=AB87,1,0)) -> 2 | AE87: =IF(AD87="",2,IF(F87=AD87,1,0)) -> 2 | AG87: =IF(AF87="",2,IF(H87=AF87,1,0)) -> 2 | AI87: =IF(AH87="",2,IF(I87=AH87,1,0)) -> 2 | AJ87: 002呼吸器内科 | AK87: =IF(AJ87="",2,IF(M87=AJ87,1,0)) -> 1
A88: 0085 | B88: 携帯 | C88: 070-6586-0085 | D88: 89-0085 | E88: 循環器内科 | F88: 伊勢孝之 | G88: ｼﾞｭﾝｶﾝｷﾅｲｶ | H88: ｲｾ | I88: 講師 | J88: ="tkhp89"&A88&"@softbank.ne.jp" -> tkhp890085@softbank.ne.jp | K88: =E88&" "&F88 -> 循環器内科 伊勢孝之 | L88: =LENB(K88) -> 19 | M88: 001循環器内科 | N88: 6 | O88: 1 | R88: 43555 | S88: 2019/3/26循環器内科 伊勢孝之■ | U88: 07065860085 | V88: 890085 | X88: CELL | Y88: CELL | Z88: CELL | AA88: 外011 | AC88: =IF(AB88="",2,IF(E88=AB88,1,0)) -> 2 | AE88: =IF(AD88="",2,IF(F88=AD88,1,0)) -> 2 | AG88: =IF(AF88="",2,IF(H88=AF88,1,0)) -> 2 | AI88: =IF(AH88="",2,IF(I88=AH88,1,0)) -> 2 | AJ88: 001循環器内科 | AK88: =IF(AJ88="",2,IF(M88=AJ88,1,0)) -> 1
A89: 0086 | B89: 携帯 | C89: 070-6586-0086 | D89: 89-0086 | E89: 呼吸器内科 | F89: 今倉健 | G89: ｺｷｭｳｷﾅｲｶ | H89: ｲﾏｸﾗ | I89: 医員 | J89: ="tkhp89"&A89&"@softbank.ne.jp" -> tkhp890086@softbank.ne.jp | K89: =E89&" "&F89 -> 呼吸器内科 今倉健 | L89: =LENB(K89) -> 17 | M89: 002呼吸器内科 | N89: 6 | O89: 1 | R89: 45748 | S89: 2025/4/1呼吸器内科 今倉健■2023/6/27呼吸器内科 香川耕造■2021/4/1呼吸器内科 小川瑛■2020/3/29呼吸器内科 磯村祐太■2019/10/3在庫■ | U89: 07065860086 | V89: 890086 | X89: CELL | Y89: CELL | Z89: CELL | AA89: 外029 | AC89: =IF(AB89="",2,IF(E89=AB89,1,0)) -> 2 | AE89: =IF(AD89="",2,IF(F89=AD89,1,0)) -> 2 | AG89: =IF(AF89="",2,IF(H89=AF89,1,0)) -> 2 | AI89: =IF(AH89="",2,IF(I89=AH89,1,0)) -> 2 | AJ89: 002呼吸器内科 | AK89: =IF(AJ89="",2,IF(M89=AJ89,1,0)) -> 1
A90: 0087 | B90: 携帯 | C90: 070-6586-0087 | D90: 89-0087 | E90: 呼吸器内科 | F90: 國重道大 | G90: ｺｷｭｳｷﾅｲｶ | H90: ｸﾆｼｹﾞ | I90: 医員 | J90: ="tkhp89"&A90&"@softbank.ne.jp" -> tkhp890087@softbank.ne.jp | K90: =E90&" "&F90 -> 呼吸器内科 國重道大 | L90: =LENB(K90) -> 19 | M90: 002呼吸器内科 | N90: 6 | O90: 1 | R90: 45933 | S90: 2025/10/3呼吸器内科 國重道大■2024/4/1呼吸器内科 中西颯斗■2023/4/1呼吸器内科 坂東紀子■2023/4/1呼吸器内科 坂東紀子■2022/4/1呼吸器内科 森彩花■2021/3/24呼吸器内科 原田祥子■2020/3/29呼吸器内科 梶本達也■2020/3/11在庫■ | U90: 07065860087 | V90: 890087 | X90: CELL | Y90: CELL | Z90: CELL | AA90: 外030 | AC90: =IF(AB90="",2,IF(E90=AB90,1,0)) -> 2 | AD90: 中西颯斗 | AE90: =IF(AD90="",2,IF(F90=AD90,1,0)) -> 0 | AF90: ﾅｶﾆｼ | AG90: =IF(AF90="",2,IF(H90=AF90,1,0)) -> 0 | AH90: 医員 | AI90: =IF(AH90="",2,IF(I90=AH90,1,0)) -> 1 | AJ90: 002呼吸器内科 | AK90: =IF(AJ90="",2,IF(M90=AJ90,1,0)) -> 1
A91: 0088 | B91: 携帯 | C91: 070-6586-0088 | D91: 89-0088 | E91: 内分泌内科 | F91: 山上紘規 | G91: ﾅｲﾌﾞﾝﾋﾟﾂﾅｲｶ | H91: ﾔﾏｶﾞﾐ | I91: 特任助教 | J91: ="tkhp89"&A91&"@softbank.ne.jp" -> tkhp890088@softbank.ne.jp | K91: =E91&" "&F91 -> 内分泌内科 山上紘規 | L91: =LENB(K91) -> 19 | M91: 005内分泌内科 | N91: 6 | O91: 1 | R91: 44558 | S91: 2021/12/28内分泌内科 山上紘規■2020/3/29内分泌内科 辻誠士郎■2018/7/20血液内科 宇高憲吾■ | U91: 07065860088 | V91: 890088 | X91: CELL | Y91: CELL | Z91: CELL | AA91: 外100 | AC91: =IF(AB91="",2,IF(E91=AB91,1,0)) -> 2 | AE91: =IF(AD91="",2,IF(F91=AD91,1,0)) -> 2 | AG91: =IF(AF91="",2,IF(H91=AF91,1,0)) -> 2 | AH91: 特任助教 | AI91: =IF(AH91="",2,IF(I91=AH91,1,0)) -> 1 | AJ91: 005内分泌内科 | AK91: =IF(AJ91="",2,IF(M91=AJ91,1,0)) -> 1
A92: 0089 | B92: 携帯 | C92: 070-6586-0089 | D92: 89-0089 | E92: 循環器内科 | F92: ロバートゼング | G92: ｼﾞｭﾝｶﾝｷﾅｲｶ | H92: ﾛﾊﾞｰﾄ | I92: 医員 | J92: ="tkhp89"&A92&"@softbank.ne.jp" -> tkhp890089@softbank.ne.jp | K92: =E92&" "&F92 -> 循環器内科 ロバートゼング | L92: =LENB(K92) -> 25 | M92: 001循環器内科 | N92: 6 | O92: 1 | R92: 44652 | S92: 2022/4/1循環器内科 ゼングロバート■2017/3/8循環器内科 數藤久美子■ | U92: 07065860089 | V92: 890089 | X92: CELL | Y92: CELL | Z92: CELL | AA92: 外012 | AC92: =IF(AB92="",2,IF(E92=AB92,1,0)) -> 2 | AE92: =IF(AD92="",2,IF(F92=AD92,1,0)) -> 2 | AG92: =IF(AF92="",2,IF(H92=AF92,1,0)) -> 2 | AI92: =IF(AH92="",2,IF(I92=AH92,1,0)) -> 2 | AJ92: 001循環器内科 | AK92: =IF(AJ92="",2,IF(M92=AJ92,1,0)) -> 1
A93: 0090 | B93: 携帯 | C93: 070-6586-0090 | D93: 89-0090 | E93: 呼吸器内科 | F93: 塚崎佑貴 | G93: ｺｷｭｳｷﾅｲｶ | H93: ﾂｶｻﾞｷ | I93: 特任助教 | J93: ="tkhp89"&A93&"@softbank.ne.jp" -> tkhp890090@softbank.ne.jp | K93: =E93&" "&F93 -> 呼吸器内科 塚崎佑貴 | L93: =LENB(K93) -> 19 | M93: 002呼吸器内科 | N93: 6 | O93: 1 | R93: 44454 | S93: 2021/9/15呼吸器内科 塚崎佑貴■2021/3/24在庫■2019/3/5救急 中西信人■ | U93: 07065860090 | V93: 890090 | X93: CELL | Y93: CELL | Z93: CELL | AA93: 外031 | AC93: =IF(AB93="",2,IF(E93=AB93,1,0)) -> 2 | AE93: =IF(AD93="",2,IF(F93=AD93,1,0)) -> 2 | AG93: =IF(AF93="",2,IF(H93=AF93,1,0)) -> 2 | AH93: 特任助教 | AI93: =IF(AH93="",2,IF(I93=AH93,1,0)) -> 1 | AJ93: 002呼吸器内科 | AK93: =IF(AJ93="",2,IF(M93=AJ93,1,0)) -> 1
A94: 0091 | B94: 携帯 | C94: 070-6586-0091 | D94: 89-0091 | E94: 産科婦人科 | F94: 篠原文香 | G94: ｻﾝｶﾌｼﾞﾝｶ | H94: ｼﾉﾊﾗ | I94: 特任助教 | J94: ="tkhp89"&A94&"@softbank.ne.jp" -> tkhp890091@softbank.ne.jp | K94: =E94&" "&F94 -> 産科婦人科 篠原文香 | L94: =LENB(K94) -> 19 | M94: 023産科婦人科 | N94: 6 | O94: 1 | R94: 45904 | S94: 2025/9/4産科婦人科 篠原文香■2025/6/30在庫■2019/1/20救急 上野義豊■ | U94: 07065860091 | V94: 890091 | X94: CELL | Y94: CELL | Z94: CELL | AA94: 外510 | AC94: =IF(AB94="",2,IF(E94=AB94,1,0)) -> 2 | AE94: =IF(AD94="",2,IF(F94=AD94,1,0)) -> 2 | AG94: =IF(AF94="",2,IF(H94=AF94,1,0)) -> 2 | AI94: =IF(AH94="",2,IF(I94=AH94,1,0)) -> 2 | AJ94: 204救急 | AK94: =IF(AJ94="",2,IF(M94=AJ94,1,0)) -> 0
A95: 0092 | B95: 携帯 | C95: 070-6586-0092 | D95: 89-0092 | E95: 循環器内科 | F95: 上野理絵 | G95: ｼﾞｭﾝｶﾝｷﾅｲｶ | H95: ｳｴﾉ | I95: 特任助教 | J95: ="tkhp89"&A95&"@softbank.ne.jp" -> tkhp890092@softbank.ne.jp | K95: =E95&" "&F95 -> 循環器内科 上野理絵 | L95: =LENB(K95) -> 19 | M95: 001循環器内科 | N95: 6 | O95: 1 | R95: 46008 | S95: 2025/12/17循環器内科 上野理絵■2025/6/12在庫■2023/4/4産科婦人科 湊沙希■2023/4/1在庫■2017/4/6総合診療部 谷憲治■ | U95: 07065860092 | V95: 890092 | X95: CELL | Y95: CELL | Z95: CELL | AA95: 外375 | AC95: =IF(AB95="",2,IF(E95=AB95,1,0)) -> 2 | AE95: =IF(AD95="",2,IF(F95=AD95,1,0)) -> 2 | AG95: =IF(AF95="",2,IF(H95=AF95,1,0)) -> 2 | AI95: =IF(AH95="",2,IF(I95=AH95,1,0)) -> 2 | AJ95: 023産科婦人科 | AK95: =IF(AJ95="",2,IF(M95=AJ95,1,0)) -> 0
A96: 0093 | B96: 携帯 | C96: 070-6586-0093 | D96: 89-0093 | E96: 循環器内科 | F96: 大櫛祐一郎 | G96: ｼﾞｭﾝｶﾝｷﾅｲｶ | H96: ｵｵｸｼ | I96: 助教 | J96: ="tkhp89"&A96&"@softbank.ne.jp" -> tkhp890093@softbank.ne.jp | K96: =E96&" "&F96 -> 循環器内科 大櫛祐一郎 | L96: =LENB(K96) -> 21 | M96: 001循環器内科 | N96: 6 | O96: 1 | R96: 45870 | S96: 2025/8/1大櫛祐一郎■2023/6/27在庫■2022/12/26呼吸器内科 梶本達也■2022/8/3在庫■2010/4/4呼吸器内科 岸昌美■ | U96: 07065860093 | V96: 890093 | X96: CELL | Y96: CELL | Z96: CELL | AA96: 外902 | AC96: =IF(AB96="",2,IF(E96=AB96,1,0)) -> 2 | AE96: =IF(AD96="",2,IF(F96=AD96,1,0)) -> 2 | AG96: =IF(AF96="",2,IF(H96=AF96,1,0)) -> 2 | AI96: =IF(AH96="",2,IF(I96=AH96,1,0)) -> 2 | AK96: =IF(AJ96="",2,IF(M96=AJ96,1,0)) -> 2
A97: 0094 | B97: 携帯 | C97: 070-6586-0094 | D97: 89-0094 | E97: 産科婦人科 | F97: 峯田あゆか | G97: ｻﾝｶﾌｼﾞﾝｶ | H97: ﾐﾈﾀﾞ | I97: 講師 | J97: ="tkhp89"&A97&"@softbank.ne.jp" -> tkhp890094@softbank.ne.jp | K97: =E97&" "&F97 -> 産科婦人科 峯田あゆか | L97: =LENB(K97) -> 21 | M97: 023産科婦人科 | N97: 6 | O97: 1 | R97: 43919 | S97: 2020/1/10産科婦人科 峯田あゆか■ | U97: 07065860094 | V97: 890094 | X97: CELL | Y97: CELL | Z97: CELL | AA97: 外376 | AC97: =IF(AB97="",2,IF(E97=AB97,1,0)) -> 2 | AE97: =IF(AD97="",2,IF(F97=AD97,1,0)) -> 2 | AG97: =IF(AF97="",2,IF(H97=AF97,1,0)) -> 2 | AH97: 助教 | AI97: =IF(AH97="",2,IF(I97=AH97,1,0)) -> 0 | AJ97: 023産科婦人科 | AK97: =IF(AJ97="",2,IF(M97=AJ97,1,0)) -> 1
A98: 0095 | B98: 携帯 | C98: 070-6586-0095 | D98: 89-0095 | E98: 呼吸器内科 | F98: 梶本達也 | G98: ｺｷｭｳｷﾅｲｶ | H98: ｶｼﾞﾓﾄ | I98: 医員 | J98: ="tkhp89"&A98&"@softbank.ne.jp" -> tkhp890095@softbank.ne.jp | K98: =E98&" "&F98 -> 呼吸器内科 梶本達也 | L98: =LENB(K98) -> 19 | M98: 002呼吸器内科 | N98: 6 | O98: 1 | R98: 45457 | S98: 2024/6/14呼吸器内科 梶本達也■2024/4/1在庫■2020/1/10産科婦人科 鎌田周平■ | U98: 07065860095 | V98: 890095 | X98: CELL | Y98: CELL | Z98: CELL | AA98: 外377 | AC98: =IF(AB98="",2,IF(E98=AB98,1,0)) -> 2 | AD98: 返却 | AE98: =IF(AD98="",2,IF(F98=AD98,1,0)) -> 0 | AG98: =IF(AF98="",2,IF(H98=AF98,1,0)) -> 2 | AI98: =IF(AH98="",2,IF(I98=AH98,1,0)) -> 2 | AJ98: 在庫 | AK98: =IF(AJ98="",2,IF(M98=AJ98,1,0)) -> 0
A99: 0096 | B99: 携帯 | C99: 070-6586-0096 | D99: 89-0096 | E99: 呼吸器内科 | F99: 安宅克博 | G99: ｺｷｭｳｷﾅｲｶ | H99: ｱﾀｷﾞ | I99: 医員 | J99: ="tkhp89"&A99&"@softbank.ne.jp" -> tkhp890096@softbank.ne.jp | K99: =E99&" "&F99 -> 呼吸器内科 安宅克博 | L99: =LENB(K99) -> 19 | M99: 002呼吸器内科 | N99: 6 | O99: 1 | R99: 46104 | S99: 2026/3/23呼吸器内科 安宅克博■2025/4/1呼吸器内科 喜多大樹■2020/3/29呼吸器内科 尾崎領彦■2018/11/16呼吸器内科 香西博之■ | U99: 07065860096 | V99: 890096 | X99: CELL | Y99: CELL | Z99: CELL | AA99: 外032 | AC99: =IF(AB99="",2,IF(E99=AB99,1,0)) -> 2 | AE99: =IF(AD99="",2,IF(F99=AD99,1,0)) -> 2 | AG99: =IF(AF99="",2,IF(H99=AF99,1,0)) -> 2 | AH99: 助教 | AI99: =IF(AH99="",2,IF(I99=AH99,1,0)) -> 0 | AJ99: 002呼吸器内科 | AK99: =IF(AJ99="",2,IF(M99=AJ99,1,0)) -> 1
A100: 0097 | B100: 携帯 | C100: 070-6586-0097 | D100: 89-0097 | E100: 呼吸器内科 | F100: 坂東弘基 | G100: ｺｷｭｳｷﾅｲｶ | H100: ﾊﾞﾝﾄﾞｳ | I100: 助教 | J100: ="tkhp89"&A100&"@softbank.ne.jp" -> tkhp890097@softbank.ne.jp | K100: =E100&" "&F100 -> 呼吸器内科 坂東弘基 | L100: =LENB(K100) -> 19 | M100: 002呼吸器内科 | N100: 6 | O100: 1 | R100: 44652 | S100: 2022/4/1呼吸器内科 坂東弘基■2021/4/1呼吸器内科 青井優■2018/3/23呼吸器内科 高橋直希■ | U100: 07065860097 | V100: 890097 | X100: CELL | Y100: CELL | Z100: CELL | AA100: 外033 | AC100: =IF(AB100="",2,IF(E100=AB100,1,0)) -> 2 | AE100: =IF(AD100="",2,IF(F100=AD100,1,0)) -> 2 | AG100: =IF(AF100="",2,IF(H100=AF100,1,0)) -> 2 | AI100: =IF(AH100="",2,IF(I100=AH100,1,0)) -> 2 | AJ100: 002呼吸器内科 | AK100: =IF(AJ100="",2,IF(M100=AJ100,1,0)) -> 1
...

Sheet 電話番号順
A1: 徳島大学病院 公用携帯（外線） 電話番号簿（番号順）
A2: ＊070-6586の以外の番号有 | G2: 番号順 2026/10/01現在
A3: 外線 | B3: 内線 | C3: 科(部)等名 | D3: 使用者氏名 | E3: カナ(科) | F3: カナ(氏) | G3: 職名
A4: 070-6586-0000 | B4: 89-0000 | C4: 病院長 | D4: 西良浩一 | E4: ﾋﾞｮｳｲﾝﾁｮｳ | F4: ｻｲﾘｮｳ | G4: 病院長
A5: 070-6586-0001 | B5: 89-0001 | C5: 病院長補佐 | D5: 近藤武 | E5: ﾋﾞｮｳｲﾝﾁｮｳﾎｻ | F5: ｺﾝﾄﾞｳ | G5: 病院長補佐
A6: 070-6586-0002 | B6: 89-0002 | C6: 事務部長 | D6: 浦田明宏 | E6: ｼﾞﾑﾌﾞﾁｮｳ | F6: ｳﾗﾀ | G6: 事務部長
A7: 070-6586-0003 | B7: 89-0003 | C7: 総務課・課長 | D7: 兒玉実和 | E7: ｿｳﾑ01 | F7: ｺﾀﾞﾏ | G7: 課長
A8: 070-6586-0004 | B8: 89-0004 | C8: 経営企画・副課長 施設企画室・副課長 | D8: 武政康平 | E8: ｹｲｴｲｷｶｸ02 | F8: ﾀｹﾏｻ | G8: 副課長
A9: 070-6586-0005 | B9: 89-0005 | C9: 経理調達・課長 | D9: 酒井稔雄 | E9: ｹｲﾘﾁｮｳﾀﾂ01 | F9: ｻｶｲ | G9: 課長
A10: 070-6586-0006 | B10: 89-0006 | C10: 経営企画・課長 | D10: 井元純 | E10: ｹｲｴｲｷｶｸ01 | F10: ｲﾓﾄ | G10: 課長
A11: 070-6586-0007 | B11: 89-0007 | C11: 医事・患者支援係 | D11: 桑内敬子 | E11: ｲｼﾞ11 | F11: ｸﾜｳﾁ | G11: 事務員
A12: 070-6586-0008 | B12: 89-0008 | C12: 麻酔科 | D12: 村上千晶 | E12: ﾏｽｲｶ | F12: ﾑﾗｶﾐ | G12: 診療支援医師
A13: 070-6586-0009 | B13: 89-0009 | C13: 医事・副課長 | D13: 立山あけみ | E13: ｲｼﾞ02 | F13: ﾀﾃﾔﾏ | G13: 副課長
A14: 070-6586-0010 | B14: 89-0010 | C14: 医事・課長 | D14: 安部修司 | E14: ｲｼﾞ01 | F14: ｱﾍﾞ | G14: 課長
... A18: 070-6586-0014 | B18: 89-0014 | C18: 患者支援セ | D18: 秋月佐代 | E18: ｶﾝｼﾞｬｼｴﾝｾ | F18: ｱｷﾂﾞｷ | G18: 医療ｿｰｼｬﾙﾜｰｶｰ
A19: 070-6586-0015 | B19: 89-0015 | C19: 病院情報セ | D19: ヘルプデスク携帯 | E19: ﾋﾞｮｳｲﾝｼﾞｮｳﾎｳｾ03 | G19: 病情ｾﾍﾙﾌﾟﾃﾞｽｸ
A20: 070-6586-0016 | B20: 89-0016 | C20: 病院情報セ | D20: 境貴司 | E20: ﾋﾞｮｳｲﾝｼﾞｮｳﾎｳｾ10 | F20: ｻｶｲ | G20: 技術員
A21: 070-6586-0017 | B21: 89-0017 | C21: 麻酔科 | D21: 合田かおる | E21: ﾏｽｲｶ | F21: ｺﾞｳﾀﾞ | G21: 医員
A22: 070-6586-0018 | B22: 89-0018 | C22: 病院情報セ | D22: 単暁 | E22: ﾋﾞｮｳｲﾝｼﾞｮｳﾎｳｾ09 | F22: ﾀﾝ | G22: 特任助教
A23: 070-6586-0019 | B23: 89-0019 | C23: 病院情報セ | D23: 田木真和 | E23: ﾋﾞｮｳｲﾝｼﾞｮｳﾎｳｾ08 | F23: ﾀｷﾞ | G23: 助教
A24: 070-6586-0020 | B24: 89-0020 | C24: 栄養部 | D24: 西部門長 | E24: ｴｲﾖｳﾌﾞ03 | F24: ﾆｼ | G24: 栄養管理部門長
A25: 070-6586-0021 | B25: 89-0021 | C25: 施設マ防災セ | D25: 電気 | E25: ｼｾﾂﾏ13 | F25: ﾃﾞﾝｷ | G25: 施設
A26: 070-6586-0022 | B26: 89-0022 | C26: 施設マ防災セ | D26: 機械 | E26: ｼｾﾂﾏ14 | F26: ｷｶｲ | G26: 施設
A27: 070-6586-0023 | B27: 89-0023 | C27: 施設マ防災セ | D27: 防災（建物・設備不具合） | E27: ｼｾﾂﾏ15 | F27: ﾎﾞｳｻｲ | G27: 施設
A28: 070-6586-0024 | B28: 89-0024 | C28: 施設マ防災セ | D28: 熱源 | E28: ｼｾﾂﾏ16 | F28: ﾈﾂﾃﾞﾝ | G28: 施設
A29: 070-6586-0025 | B29: 89-0025 | C29: 施設マ（建築） | D29: 谷優作 | E29: ｼｾﾂﾏ03 | F29: ﾀﾆ | G29: 技術員
A30: 070-6586-0026 | B30: 89-0026 | C30: 施設マ（建築） | D30: 市原美恵子 | E30: ｼｾﾂﾏ04 | F30: ｲﾁﾊﾗ | G30: 係長
A31: 070-6586-0027 | B31: 89-0027 | C31: 施設マ（専門員） | D31: 山澤高浩 | E31: ｼｾﾂﾏ05 | F31: ﾔﾏｻﾞﾜ | G31: 専門員
... A59: 070-6586-0054 | B59: 89-0054 | C59: 消化器内科 | D59: 大木元彩夏 | E59: ｼｮｳｶｷﾅｲｶ | F59: ｵｵｷﾞﾓﾄ | G59: 医員
A60: 070-6586-0055 | B60: 89-0055 | C60: 第1コール救急対応 | D60: 看護師（時間内） | E60: ｱｱ002 | G60: 看護師
A61: 070-6586-0056 | B61: 89-0056 | C61: 内分泌内科 | D61: 三井由加里 | E61: ﾅｲﾌﾞﾝﾋﾟﾂﾅｲｶ | F61: ﾐﾂｲ | G61: 診療支援医師
A62: 070-6586-0057 | B62: 89-0057 | C62: 血液内科 | D62: 堀太貴 | E62: ｹﾂｴｷﾅｲｶ | F62: ﾎﾘ | G62: 医員
A63: 070-6586-0058 | B63: 89-0058 | C63: 消化器内科 | D63: 三宅孝典 | E63: ｼｮｳｶｷﾅｲｶ | F63: ﾐﾔｹ | G63: 特任助教
A64: 070-6586-0059 | B64: 89-0059 | C64: 循環器内科 | D64: 原知也 | E64: ｼﾞｭﾝｶﾝｷﾅｲｶ | F64: ﾊﾗ | G64: 助教
A65: 070-6586-0060 | B65: 89-0060 | C65: 消化器内科 | D65: 田中貴大 | E65: ｼｮｳｶｷﾅｲｶ | F65: ﾀﾅｶ | G65: 診療支援医師
A66: 070-6586-0061 | B66: 89-0061 | C66: 消化器内科 | D66: 吉本貴則 | E66: ｼｮｳｶｷﾅｲｶ | F66: ﾖｼﾓﾄ | G66: 特任助教
A67: 070-6586-0062 | B67: 89-0062 | C67: 消化器内科 | D67: 花田康平 | E67: ｼｮｳｶｷﾅｲｶ | F67: ﾊﾅﾀﾞ | G67: 医員
A68: 070-6586-0063 | B68: 89-0063 | C68: 消化器内科 | D68: 曽我部正弘 | E68: ｼｮｳｶｷﾅｲｶ | F68: ｿｶﾞﾍﾞ | G68: 教授
A69: 070-6586-0064 | B69: 89-0064 | C69: 消化器内科 | D69: 堀江優希 | E69: ｼｮｳｶｷﾅｲｶ | F69: ﾎﾘｴ | G69: 医員
A70: 070-6586-0065 | B70: 89-0065 | C70: 救急科 | D70: 布村俊幸 | E70: ｷｭｳｷｭｳｶ | F70: ﾇﾉﾑﾗ | G70: 特任助教
A71: 070-6586-0066 | B71: 89-0066 | C71: 消化器内科 | D71: 勢井萌都子 | E71: ｼｮｳｶｷﾅｲｶ | F71: ｾｲ | G71: 医員
A72: 070-6586-0067 | B72: 89-0067 | C72: 消化器内科 | D72: 中村文香 | E72: ｼｮｳｶｷﾅｲｶ | F72: ﾅｶﾑﾗ | G72: 診療支援医師
... A85: 070-6586-0080 | B85: 89-0080 | C85: 呼吸器内科 | D85: 荻野広和 | E85: ｺｷｭｳｷﾅｲｶ | F85: ｵｷﾞﾉ | G85: 講師
A86: 070-6586-0081 | B86: 89-0081 | C86: 栄養部 | D86: 東４担当栄養士 | E86: ｴｲﾖｳﾌﾞ07 | G86: 栄養士
A87: 070-6586-0082 | B87: 89-0082 | C87: 臨床研究推進部 | D87: 久米緑 | E87: ﾘﾝｼｮｳｹﾝｷｭｳｽｲｼﾝﾌﾞ | F87: ｸﾒ | G87: CRC(看護師)
A88: 070-6586-0083 | B88: 89-0083 | C88: 呼吸器内科 | D88: 中内友合江 | E88: ｺｷｭｳｷﾅｲｶ | F88: ﾅｶｳﾁ | G88: 医員
A89: 070-6586-0084 | B89: 89-0084 | C89: 呼吸器内科 | D89: 山下雄也 | E89: ｺｷｭｳｷﾅｲｶ | F89: ﾔﾏｼﾀ | G89: 特任助教
A90: 070-6586-0085 | B90: 89-0085 | C90: 循環器内科 | D90: 伊勢孝之 | E90: ｼﾞｭﾝｶﾝｷﾅｲｶ | F90: ｲｾ | G90: 講師
A91: 070-6586-0086 | B91: 89-0086 | C91: 呼吸器内科 | D91: 今倉健 | E91: ｺｷｭｳｷﾅｲｶ | F91: ｲﾏｸﾗ | G91: 医員
A92: 070-6586-0087 | B92: 89-0087 | C92: 呼吸器内科 | D92: 國重道大 | E92: ｺｷｭｳｷﾅｲｶ | F92: ｸﾆｼｹﾞ | G92: 医員
A93: 070-6586-0088 | B93: 89-0088 | C93: 内分泌内科 | D93: 山上紘規 | E93: ﾅｲﾌﾞﾝﾋﾟﾂﾅｲｶ | F93: ﾔﾏｶﾞﾐ | G93: 特任助教
A94: 070-6586-0089 | B94: 89-0089 | C94: 循環器内科 | D94: ロバートゼング | E94: ｼﾞｭﾝｶﾝｷﾅｲｶ | F94: ﾛﾊﾞｰﾄ | G94: 医員
A95: 070-6586-0090 | B95: 89-0090 | C95: 呼吸器内科 | D95: 塚崎佑貴 | E95: ｺｷｭｳｷﾅｲｶ | F95: ﾂｶｻﾞｷ | G95: 特任助教
A96: 070-6586-0091 | B96: 89-0091 | C96: 産科婦人科 | D96: 篠原文香 | E96: ｻﾝｶﾌｼﾞﾝｶ | F96: ｼﾉﾊﾗ | G96: 特任助教
A97: 070-6586-0092 | B97: 89-0092 | C97: 循環器内科 | D97: 上野理絵 | E97: ｼﾞｭﾝｶﾝｷﾅｲｶ | F97: ｳｴﾉ | G97: 特任助教
A98: 070-6586-0093 | B98: 89-0093 | C98: 循環器内科 | D98: 大櫛祐一郎 | E98: ｼﾞｭﾝｶﾝｷﾅｲｶ | F98: ｵｵｸｼ | G98: 助教
... A104: 070-6586-0099 | B104: 89-0099 | C104: 病院長顧問 | D104: 香美祥二 | E104: ﾋﾞｮｳｲﾝﾁｮｳｺﾓﾝ | F104: ｶｶﾞﾐ | G104: 病院長顧問
A105: 070-6586-0100 | B105: 89-0100 | C105: 循環器内科 | D105: オンコール用 | E105: ｼﾞｭﾝｶﾝｷﾅｲｶ001 | G105: 当直医師
A106: 070-6586-0101 | B106: 89-0101 | C106: 呼吸器内科 | D106: 宮本憲哉 | E106: ｺｷｭｳｷﾅｲｶ | F106: ﾐﾔﾓﾄ | G106: 医員
A107: 070-6586-0102 | B107: 89-0102 | C107: 呼吸器内科 | D107: 病棟連絡用 | E107: ｺｷｭｳｷﾅｲｶ001 | G107: 呼内科病棟連絡用
A108: 070-6586-0103 | B108: 89-0103 | C108: 腎臓内科 | D108: 柴田恵理子 | E108: ｼﾞﾝｿﾞｳﾅｲｶ | F108: ｼﾊﾞﾀ | G108: 診療支援医師
A109: 070-6586-0104 | B109: 89-0104 | C109: 腎臓内科 | D109: 山口純代 | E109: ｼﾞﾝｿﾞｳﾅｲｶ | F109: ﾔﾏｸﾞﾁ | G109: 助教
A110: 070-6586-0105 | B110: 89-0105 | C110: 腎臓内科 | D110: 多田美穗 | E110: ｼﾞﾝｿﾞｳﾅｲｶ | F110: ﾀﾀﾞ | G110: 医員
A111: 070-6586-0106 | B111: 89-0106 | C111: 腎臓内科 | D111: 透析室看護師 | E111: ｼﾞﾝｿﾞｳﾅｲｶ | G111: 看護師
A112: 070-6586-0107 | B112: 89-0107 | C112: 腎臓内科 | D112: 清水郁子 | E112: ｼﾞﾝｿﾞｳﾅｲｶ | F112: ｼﾐｽﾞ | G112: 特任助教
A113: 070-6586-0108 | B113: 89-0108 | C113: 腎臓内科 | D113: 長谷川一宏 | E113: ｼﾞﾝｿﾞｳﾅｲｶ | F113: ﾊｾｶﾞﾜ | G113: 准教授
A114: 070-6586-0109 | B114: 89-0109 | C114: 腎臓内科 | D114: 脇野修 | E114: ｼﾞﾝｿﾞｳﾅｲｶ | F114: ﾜｷﾉ | G114: 教授
A115: 070-6586-0110 | B115: 89-0110 | C115: 腎臓内科 | D115: 外来担当 | E115: ｼﾞﾝｿﾞｳﾅｲｶ | G115: 腎内外来担当
A116: 070-6586-0111 | B116: 89-0111 | C116: 病院長特別補佐 | D116: 久米博子 | E116: ﾋﾞｮｳｲﾝﾁｮｳﾄｸﾍﾞﾂﾎｻ | F116: ｸﾒ | G116: 病院長特別補佐
A117: 070-6586-0112 | B117: 89-0112 | C117: 腎臓内科 | D117: 田蒔昌憲 | E117: ｼﾞﾝｿﾞｳﾅｲｶ | F117: ﾀﾏｷ | G117: 講師
A118: 070-6586-0113 | B118: 89-0113 | C118: 腎臓内科 | D118: 呼出用 | E118: ｼﾞﾝｿﾞｳﾅｲｶ001 | G118: 腎内呼出用
A119: 070-6586-0114 | B119: 89-0114 | C119: 血液内科 | D119: 中村昌史 | E119: ｹﾂｴｷﾅｲｶ | F119: ﾅｶﾑﾗ | G119: 医員
A120: 070-6586-0115 | B120: 89-0115 | C120: 呼吸器内科 | D120: 小山壱也 | E120: ｺｷｭｳｷﾅｲｶ | F120: ｺﾔﾏ | G120: 特任講師
A121: 070-6586-0116 | B121: 89-0116 | C121: 脳神経内科 | D121: 和泉唯信 | E121: ﾉｳｼﾝｹｲﾅｲｶ | F121: ｲｽﾞﾐ | G121: 教授
A122: 070-6586-0117 | B122: 89-0117 | C122: 腎臓内科 | D122: 宮上慎司 | E122: ｼﾞﾝｿﾞｳﾅｲｶ | F122: ﾐﾔｶﾐ | G122: 特任助教
A123: 070-6586-0118 | B123: 89-0118 | C123: 脳神経内科 | D123: 松井尚子 | E123: ﾉｳｼﾝｹｲﾅｲｶ | F123: ﾏﾂｲ | G123: 教授
A124: 070-6586-0119 | B124: 89-0119 | C124: 歯科（１補） | D124: 藤本けい子 | E124: ｼｶｲﾁﾎﾃﾂ | F124: ﾌｼﾞﾓﾄ | G124: 助教
A125: 070-6586-0120 | B125: 89-0120 | C125: 脳神経内科 | D125: 山本雄貴 | E125: ﾉｳｼﾝｹｲﾅｲｶ | F125: ﾔﾏﾓﾄ | G125: 特任助教
A126: 070-6586-0121 | B126: 89-0121 | C126: 脳神経内科 | D126: 東原真奈 | E126: ﾉｳｼﾝｹｲﾅｲｶ | F126: ﾋｶﾞｼﾊﾗ | G126: 特任准教授
A127: 070-6586-0122 | B127: 89-0122 | C127: 脳神経内科 | D127: 梶龍兒 | E127: ﾉｳｼﾝｹｲﾅｲｶ | F127: ｶｼﾞ | G127: 特任教授
A128: 070-6586-0123 | B128: 89-0123 | C128: 呼吸器内科 | D128: 埴淵昌毅 | E128: ｺｷｭｳｷﾅｲｶ | F128: ﾊﾆﾌﾞﾁ | G128: 特任教授
A129: 070-6586-0124 | B129: 89-0124 | C129: 脳神経内科 | D129: 山本伸昭 | E129: ﾉｳｼﾝｹｲﾅｲｶ | F129: ﾔﾏﾓﾄ | G129: 特任講師
A130: 070-6586-0125 | B130: 89-0125 | C130: 外来化学療法室 | D130: 三木こずえ師長 | E130: ｶﾞｲﾗｲｶｶﾞｸﾘｮｳﾎｳｼﾂ | F130: ﾐｷ | G130: 看護師長
... A208: 070-6586-0201 | B208: 89-0201 | C208: 呼吸器外科 | D208: 河北直也 | E208: ｺｷｭｳｷｹﾞｶ | F208: ｶﾜｷﾀ | G208: 講師
A209: 070-6586-0202 | B209: 89-0202 | C209: 【緊急呼出携帯０２０２】 | E209: ｱ | G209: 当直医師
A210: 070-6586-0203 | B210: 89-0203 | C210: 食乳甲外科 | D210: 後藤正和 | E210: ｼｮｸﾆｭｳｺｳｹﾞｶ | F210: ｺﾞﾄｳ | G210: 講師
A211: 070-6586-0204 | B211: 89-0204 | C211: 臨床工学部 | D211: 妹尾知怜 | E211: ﾘﾝｼｮｳｺｳｶﾞｸﾌﾞ | F211: ｾﾉｳ | G211: 臨床工学技士
A212: 070-6586-0205 | B212: 89-0205 | C212: 整形外科 | D212: 眞鍋裕昭 | E212: ｾｲｹｲｹﾞｶ | F212: ﾏﾅﾍﾞ | G212: 特任准教授
A213: 070-6586-0206 | B213: 89-0206 | C213: 整形外科 | D213: 西殿圭祐 | E213: ｾｲｹｲｹﾞｶ | F213: ﾆｼﾄﾞﾉ | G213: 助教
A214: 070-6586-0207 | B214: 89-0207 | C214: 整形外科 | D214: 岩瀬穣志 | E214: ｾｲｹｲｹﾞｶ | F214: ｲﾜｾ | G214: 助教
A215: 070-6586-0208 | B215: 89-0208 | C215: 整形外科 | D215: 原毅 | E215: ｾｲｹｲｹﾞｶ | F215: ﾊﾗ | G215: 医員
A216: 070-6586-0209 | B216: 89-0209 | C216: 整形外科 | D216: 藤井悠玄 | E216: ｾｲｹｲｹﾞｶ | F216: ﾌｼﾞｲ | G216: 特任助教
A217: 070-6586-0210 | B217: 89-0210 | C217: リハ医師 | D217: 佐藤紀 | E217: ﾘﾊｲｼ | F217: ｻﾄｳ | G217: 特任講師
A218: 070-6586-0211 | B218: 89-0211 | C218: 整形外科 | D218: 富山翔悟 | E218: ｾｲｹｲｹﾞｶ | F218: ﾄﾐﾔﾏ | G218: 医員
A219: 070-6586-0212 | B219: 89-0212 | C219: 整形外科 | D219: 白神宗男 | E219: ｾｲｹｲｹﾞｶ | F219: ｼﾗｶﾞ | G219: 医員
A220: 070-6586-0213 | B220: 89-0213 | C220: リハ医師 | D220: 松浦哲也 | E220: ﾘﾊｲｼ | F220: ﾏﾂｳﾗ | G220: 教授
A221: 070-6586-0214 | B221: 89-0214 | C221: 整形外科 | D221: 藤谷順三 | E221: ｾｲｹｲｹﾞｶ | F221: ﾌｼﾞﾀﾆ | G221: 特任准教授
... A340: 070-6586-0332 | B340: 89-0332 | C340: 産科婦人科 | D340: 木内理世 | E340: ｻﾝｶﾌｼﾞﾝｶ | F340: ｷﾉｳﾁ | G340: 特任准教授
A341: 070-6586-0333 | B341: 89-0333 | C341: 産科婦人科 | D341: 当直 | E341: ｻﾝｶﾌｼﾞﾝｶ | G341: 当直医師
A342: 070-6586-0334 | B342: 89-0334 | C342: 産科婦人科 | D342: 吉田あつ子 | E342: ｻﾝｶﾌｼﾞﾝｶ | F342: ﾖｼﾀﾞ | G342: 講師
...

Sheet 部署順
A1: 徳島大学病院 公用携帯（外線） 電話番号簿（部署順）
A2: ＊070-6586以外の番号有 | G2: 部署順 2026/10/01現在
A3: 外線 | B3: 内線 | C3: 科(部)等名 | D3: 使用者氏名 | E3: カナ(科) | F3: カナ(氏) | G3: 職名 | H3: 部署
A4: 070-6586-0085 | B4: 89-0085 | C4: 循環器内科 | D4: 伊勢孝之 | E4: ｼﾞｭﾝｶﾝｷﾅｲｶ | F4: ｲｾ | G4: 講師 | H4: 001循環器内科
A5: 070-6586-0092 | B5: 89-0092 | C5: 循環器内科 | D5: 上野理絵 | E5: ｼﾞｭﾝｶﾝｷﾅｲｶ | F5: ｳｴﾉ | G5: 特任助教 | H5: 001循環器内科
A6: 070-6586-0561 | B6: 89-0561 | C6: 循環器内科 | D6: 上荷康平 | E6: ｼﾞｭﾝｶﾝｷﾅｲｶ | F6: ｳﾜﾆ | G6: 医員 | H6: 001循環器内科
A7: 070-6586-0093 | B7: 89-0093 | C7: 循環器内科 | D7: 大櫛祐一郎 | E7: ｼﾞｭﾝｶﾝｷﾅｲｶ | F7: ｵｵｸｼ | G7: 助教 | H7: 001循環器内科
A8: 070-6586-0720 | B8: 89-0720 | C8: 循環器内科 | D8: 門田宗之 | E8: ｼﾞｭﾝｶﾝｷﾅｲｶ | F8: ｶﾄﾞﾀ | G8: 特任講師 | H8: 001循環器内科
A9: 070-6586-0035 | B9: 89-0035 | C9: 循環器内科 | D9: 川端豊 | E9: ｼﾞｭﾝｶﾝｷﾅｲｶ | F9: ｶﾜﾊﾞﾀ | G9: 助教 | H9: 001循環器内科
A10: 070-6586-0031 | B10: 89-0031 | C10: 循環器内科 | D10: 佐田政隆 | E10: ｼﾞｭﾝｶﾝｷﾅｲｶ | F10: ｻﾀ | G10: 教授 | H10: 001循環器内科
A11: 070-6586-0038 | B11: 89-0038 | C11: 循環器内科 | D11: 志村拓哉 | E11: ｼﾞｭﾝｶﾝｷﾅｲｶ | F11: ｼﾑﾗ | G11: 医員 | H11: 001循環器内科
A12: 070-6586-0037 | B12: 89-0037 | C12: 循環器内科 | D12: 添木武 | E12: ｼﾞｭﾝｶﾝｷﾅｲｶ | F12: ｿｴｷ | G12: 特任教授 | H12: 001循環器内科
A13: 070-6586-0200 | B13: 89-0200 | C13: 循環器内科 | D13: 高橋智紀 | E13: ｼﾞｭﾝｶﾝｷﾅｲｶ | F13: ﾀｶﾊｼ | G13: 特任助教 | H13: 001循環器内科
A14: 070-6586-0861 | B14: 89-0861 | C14: 循環器内科 | D14: 高橋智子 | E14: ｼﾞｭﾝｶﾝｷﾅｲｶ | F14: ﾀｶﾊｼ | G14: 医員 | H14: 001循環器内科
... A23: 070-6586-0089 | B23: 89-0089 | C23: 循環器内科 | D23: ロバートゼング | E23: ｼﾞｭﾝｶﾝｷﾅｲｶ | F23: ﾛﾊﾞｰﾄ | G23: 医員 | H23: 001循環器内科
A24: 070-6586-0100 | B24: 89-0100 | C24: 循環器内科 | D24: オンコール用 | E24: ｼﾞｭﾝｶﾝｷﾅｲｶ001 | G24: 当直医師 | H24: 002呼吸器内科
A25: 070-6586-0096 | B25: 89-0096 | C25: 呼吸器内科 | D25: 安宅克博 | E25: ｺｷｭｳｷﾅｲｶ | F25: ｱﾀｷﾞ | G25: 医員 | H25: 002呼吸器内科
A26: 070-6586-0308 | B26: 89-0308 | C26: 呼吸器内科 | D26: 阿部興生 | E26: ｺｷｭｳｷﾅｲｶ | F26: ｱﾍﾞ | G26: 医員 | H26: 002呼吸器内科
A27: 070-6586-0294 | B27: 89-0294 | C27: 呼吸器内科 | D27: 磯村祐太 | E27: ｺｷｭｳｷﾅｲｶ | F27: ｲｿﾑﾗ | G27: 医員 | H27: 002呼吸器内科
A28: 070-6586-0299 | B28: 89-0299 | C28: 呼吸器内科 | D28: 市原聖也 | E28: ｺｷｭｳｷﾅｲｶ | F28: ｲﾁﾊﾗ | G28: 医員 | H28: 002呼吸器内科
A29: 070-6586-0086 | B29: 89-0086 | C29: 呼吸器内科 | D29: 今倉健 | E29: ｺｷｭｳｷﾅｲｶ | F29: ｲﾏｸﾗ | G29: 医員 | H29: 002呼吸器内科
A30: 070-6586-0080 | B30: 89-0080 | C30: 呼吸器内科 | D30: 荻野広和 | E30: ｺｷｭｳｷﾅｲｶ | F30: ｵｷﾞﾉ | G30: 講師 | H30: 002呼吸器内科
A31: 070-6586-0095 | B31: 89-0095 | C31: 呼吸器内科 | D31: 梶本達也 | E31: ｺｷｭｳｷﾅｲｶ | F31: ｶｼﾞﾓﾄ | G31: 医員 | H31: 002呼吸器内科
A32: 070-6586-0662 | B32: 89-0662 | C32: 呼吸器内科 | D32: 河野弘 | E32: ｺｷｭｳｷﾅｲｶ | F32: ｶﾜﾉ | G32: 講師 | H32: 002呼吸器内科
A33: 070-6586-0087 | B33: 89-0087 | C33: 呼吸器内科 | D33: 國重道大 | E33: ｺｷｭｳｷﾅｲｶ | F33: ｸﾆｼｹﾞ | G33: 医員 | H33: 002呼吸器内科
A34: 070-6586-0115 | B34: 89-0115 | C34: 呼吸器内科 | D34: 小山壱也 | E34: ｺｷｭｳｷﾅｲｶ | F34: ｺﾔﾏ | G34: 特任講師 | H34: 002呼吸器内科
A35: 070-6586-0688 | B35: 89-0688 | C35: 呼吸器内科 | D35: 佐藤正大 | E35: ｺｷｭｳｷﾅｲｶ | F35: ｻﾄｳ | G35: 准教授 | H35: 002呼吸器内科
A36: 070-6586-0247 | B36: 89-0247 | C36: 呼吸器内科 | D36: 島田大嗣 | E36: ｺｷｭｳｷﾅｲｶ | F36: ｼﾏﾀﾞ | G36: 特任助教 | H36: 002呼吸器内科
... A50: 070-6586-0073 | B50: 89-0073 | C50: 呼吸器内科 | D50: 山本浩生 | E50: ｺｷｭｳｷﾅｲｶ | F50: ﾔﾏﾓﾄ | G50: 医員 | H50: 003消化器内科
A51: 070-6586-0661 | B51: 89-0661 | C51: 呼吸器内科 | D51: オンコール用 | E51: ｺｷｭｳｷﾅｲｶ | G51: 当直医師 | H51: 003消化器内科
A52: 070-6586-0102 | B52: 89-0102 | C52: 呼吸器内科 | D52: 病棟連絡用 | E52: ｺｷｭｳｷﾅｲｶ001 | G52: 呼内科病棟連絡用 | H52: 003消化器内科
A53: 070-6586-0445 | B53: 89-0445 | C53: 消化器内科 | D53: 井上昂 | E53: ｼｮｳｶｷﾅｲｶ | F53: ｲﾉｳｴ | G53: 医員 | H53: 003消化器内科
A54: 070-6586-0071 | B54: 89-0071 | C54: 消化器内科 | D54: 上田浩之 | E54: ｼｮｳｶｷﾅｲｶ | F54: ｳｴﾀﾞ | G54: 診療支援医師 | H54: 003消化器内科
A55: 070-6586-0054 | B55: 89-0054 | C55: 消化器内科 | D55: 大木元彩夏 | E55: ｼｮｳｶｷﾅｲｶ | F55: ｵｵｷﾞﾓﾄ | G55: 医員 | H55: 003消化器内科
A56: 070-6586-0540 | B56: 89-0540 | C56: 消化器内科 | D56: 大原一輝 | E56: ｼｮｳｶｷﾅｲｶ | F56: ｵｵﾊﾗ | G56: 医員 | H56: 003消化器内科
A57: 070-6586-0368 | B57: 89-0368 | C57: 消化器内科 | D57: 岡田泰行 | E57: ｼｮｳｶｷﾅｲｶ | F57: ｵｶﾀﾞ | G57: 助教 | H57: 003消化器内科
A58: 070-6586-0545 | B58: 89-0545 | C58: 消化器内科 | D58: 岡本耕一 | E58: ｼｮｳｶｷﾅｲｶ | F58: ｵｶﾓﾄ | G58: 講師 | H58: 003消化器内科
A59: 070-6586-0335 | B59: 89-0335 | C59: 消化器内科 | D59: 影本開三 | E59: ｼｮｳｶｷﾅｲｶ | F59: ｶｹﾞﾓﾄ | G59: 特任准教授 | H59: 003消化器内科
A60: 070-6586-0345 | B60: 89-0345 | C60: 消化器内科 | D60: 片山貴人 | E60: ｼｮｳｶｷﾅｲｶ | F60: ｶﾀﾔﾏ | G60: 医員 | H60: 003消化器内科
A61: 070-6586-0070 | B61: 89-0070 | C61: 消化器内科 | D61: 門田美由香 | E61: ｼｮｳｶｷﾅｲｶ | F61: ｶﾄﾞﾀ | G61: 診療支援医師 | H61: 003消化器内科
A62: 070-6586-0174 | B62: 89-0174 | C62: 消化器内科 | D62: 川口智之 | E62: ｼｮｳｶｷﾅｲｶ | F62: ｶﾜｸﾞﾁ | G62: 特任助教 | H62: 003消化器内科
A63: 070-6586-0842 | B63: 89-0842 | C63: 消化器内科 | D63: 喜田慶史 | E63: ｼｮｳｶｷﾅｲｶ | F63: ｷﾀﾞ | G63: 助教 | H63: 003消化器内科
A64: 070-6586-0033 | B64: 89-0033 | C64: 消化器内科 | D64: 佐藤康史 | E64: ｼｮｳｶｷﾅｲｶ | F64: ｻﾄｳ | G64: 特任教授 | H64: 003消化器内科
... A98: 070-6586-0109 | B98: 89-0109 | C98: 腎臓内科 | D98: 脇野修 | E98: ｼﾞﾝｿﾞｳﾅｲｶ | F98: ﾜｷﾉ | G98: 教授 | H98: 005内分泌内科
A99: 070-6586-0106 | B99: 89-0106 | C99: 腎臓内科 | D99: 透析室看護師 | E99: ｼﾞﾝｿﾞｳﾅｲｶ | G99: 看護師 | H99: 005内分泌内科
A100: 070-6586-0110 | B100: 89-0110 | C100: 腎臓内科 | D100: 外来担当 | E100: ｼﾞﾝｿﾞｳﾅｲｶ | G100: 腎内外来担当 | H100: 005内分泌内科
A101: 070-6586-0113 | B101: 89-0113 | C101: 腎臓内科 | D101: 呼出用 | E101: ｼﾞﾝｿﾞｳﾅｲｶ001 | G101: 腎内呼出用 | H101: 005内分泌内科
A102: 080-2996-2838 | C102: 腎臓内科 | D102: オンコール携帯 | E102: ｼﾞﾝｿﾞｳﾅｲｶ001 | G102: 当直医師 | H102: 005内分泌内科
A103: 070-6586-0441 | B103: 89-0441 | C103: 内分泌内科 | D103: 浅井孝仁 | E103: ﾅｲﾌﾞﾝﾋﾟﾂﾅｲｶ | F103: ｱｻｲ | G103: 医員 | H103: 005内分泌内科
A104: 070-6586-0049 | B104: 89-0049 | C104: 内分泌内科 | D104: 遠藤逸朗 | E104: ﾅｲﾌﾞﾝﾋﾟﾂﾅｲｶ | F104: ｴﾝﾄﾞｳ | G104: 教授 | H104: 005内分泌内科
A105: 070-6586-0644 | B105: 89-0644 | C105: 内分泌内科 | D105: 金子 遥祐 | E105: ﾅｲﾌﾞﾝﾋﾟﾂﾅｲｶ | F105: ｶﾈｺ | G105: 医員 | H105: 005内分泌内科
A106: 070-6586-0687 | B106: 89-0687 | C106: 内分泌内科 | D106: 高岸 日向子 | E106: ﾅｲﾌﾞﾝﾋﾟﾂﾅｲｶ | F106: ﾀｶｷﾞｼ | G106: 医員 | H106: 005内分泌内科
A107: 070-6586-0645 | B107: 89-0645 | C107: 内分泌内科 | D107: 高田千晶 | E107: ﾅｲﾌﾞﾝﾋﾟﾂﾅｲｶ | F107: ﾀｶﾀ | G107: 医員 | H107: 005内分泌内科
A108: 070-6586-0642 | B108: 89-0642 | C108: 内分泌内科 | D108: 原倫世 | E108: ﾅｲﾌﾞﾝﾋﾟﾂﾅｲｶ | F108: ﾊﾗ | G108: 助教 | H108: 005内分泌内科
A109: 070-6586-0481 | B109: 89-0481 | C109: 内分泌内科 | D109: 船木真理 | E109: ﾅｲﾌﾞﾝﾋﾟﾂﾅｲｶ | F109: ﾌﾅｷ | G109: 診療許可医 | H109: 005内分泌内科
A110: 070-6586-0581 | B110: 89-0581 | C110: 内分泌内科 | D110: 桝田志保 | E110: ﾅｲﾌﾞﾝﾋﾟﾂﾅｲｶ | F110: ﾏｽﾀﾞ | G110: 医員 | H110: 005内分泌内科
A111: 070-6586-0056 | B111: 89-0056 | C111: 内分泌内科 | D111: 三井由加里 | E111: ﾅｲﾌﾞﾝﾋﾟﾂﾅｲｶ | F111: ﾐﾂｲ | G111: 診療支援医師 | H111: 006血液内科
A112: 070-6586-0579 | B112: 89-0579 | C112: 内分泌内科 | D112: 宮高 紘輔 | E112: ﾅｲﾌﾞﾝﾋﾟﾂﾅｲｶ | F112: ﾐﾔﾀｶ | G112: 医員 | H112: 006血液内科
A113: 070-6586-0768 | B113: 89-0768 | C113: 内分泌内科 | D113: 八幡 直樹 | E113: ﾅｲﾌﾞﾝﾋﾟﾂﾅｲｶ | F113: ﾔﾊﾀ | G113: 医員 | H113: 006血液内科
A114: 070-6586-0088 | B114: 89-0088 | C114: 内分泌内科 | D114: 山上紘規 | E114: ﾅｲﾌﾞﾝﾋﾟﾂﾅｲｶ | F114: ﾔﾏｶﾞﾐ | G114: 特任助教 | H114: 006血液内科
... A267: 070-6586-0251 | B267: 89-0251 | C267: 整形外科 | D267: 渡辺聖也 | E267: ｾｲｹｲｹﾞｶ | F267: ﾜﾀﾅﾍﾞ | G267: 医員 | H267: 017皮膚科
B268: 83-5720 | C268: 皮膚科 | D268: 岩崎宏実 | E268: ﾋﾌｶ | F268: ｲﾜｻｷ | G268: 技術補佐員 | H268: 017皮膚科
A269: 070-6586-0275 | B269: 89-0275 | C269: 皮膚科 | D269: 岩脇文香 | E269: ﾋﾌｶ | F269: ｲﾜﾜｷ | G269: 助教 | H269: 017皮膚科
A270: 070-6586-0242 | B270: 89-0242 | C270: 皮膚科 | D270: 折口ひかり | E270: ﾋﾌｶ | F270: ｵﾘｸﾞﾁ | G270: 医員 | H270: 017皮膚科
A271: 070-6586-0252 | B271: 89-0252 | C271: 皮膚科 | D271: 木下華子 | E271: ﾋﾌｶ | F271: ｷﾉｼﾀ | G271: 診療支援医師 | H271: 017皮膚科
A272: 070-6586-0249 | B272: 89-0249 | C272: 皮膚科 | D272: 久保宜明 | E272: ﾋﾌｶ | F272: ｸﾎﾞ | G272: 教授 | H272: 017皮膚科
A273: 070-6586-0256 | B273: 89-0256 | C273: 皮膚科 | D273: 武市浩美 | E273: ﾋﾌｶ | F273: ﾀｹｲﾁ | G273: 臨床検査技師 | H273: 017皮膚科
A274: 070-6586-0231 | B274: 89-0231 | C274: 皮膚科 | D274: 中島美世 | E274: ﾋﾌｶ | F274: ﾅｶｼﾞﾏ | G274: 助教 | H274: 017皮膚科
A275: 070-6586-0233 | B275: 89-0233 | C275: 皮膚科 | D275: 中野里穂 | E275: ﾋﾌｶ | F275: ﾅｶﾉ | G275: 助教 | H275: 017皮膚科
A276: 070-6586-0306 | B276: 89-0306 | C276: 皮膚科 | D276: 仁木真理子 | E276: ﾋﾌｶ | F276: ﾆｷ | G276: 助教 | H276: 017皮膚科
A277: 070-6586-0325 | B277: 89-0325 | C277: 皮膚科 | D277: 西村真衣 | E277: ﾋﾌｶ | F277: ﾆｼﾑﾗ | G277: 医員 | H277: 017皮膚科
A278: 070-6586-0255 | B278: 89-0255 | C278: 皮膚科 | D278: 堀優子 | E278: ﾋﾌｶ | F278: ﾎﾘ | G278: 医員 | H278: 017皮膚科
A279: 070-6586-0328 | B279: 89-0328 | C279: 皮膚科 | D279: 溝上えり奈 | E279: ﾋﾌｶ | F279: ﾐｿﾞｳｴ | G279: 医員 | H279: 017皮膚科
A280: 070-6586-0341 | B280: 89-0341 | C280: 皮膚科 | D280: 宮本翔子 | E280: ﾋﾌｶ | F280: ﾐﾔﾓﾄ | G280: 助教 | H280: 017皮膚科
... A318: 070-6586-0075 | B318: 89-0075 | C318: 脳卒中セ | D318: 池口知幹 | E318: ﾉｳｿｯﾁｭｳｾ | F318: ｲｹｸﾞﾁ | G318: 事務補佐員 | H318: 020麻酔科
A319: 070-6586-0829 | B319: 89-0829 | C319: 脳卒中セ | D319: オンコール用 | E319: ﾉｳｿｯﾁｭｳｾ001 | G319: 当直医師 | H319: 020麻酔科
A320: 070-6586-0350 | B320: 89-0350 | C320: 麻酔科 | D320: 石本里加子 | E320: ﾏｽｲｶ | F320: ｲｼﾓﾄ | G320: 医員 | H320: 020麻酔科
A321: 070-6586-0844 | B321: 89-0844 | C321: 麻酔科 | D321: 岩朝一馬 | E321: ﾏｽｲｶ | F321: ｲﾜｻ | G321: 医員 | H321: 020麻酔科
A322: 070-6586-0418 | B322: 89-0418 | C322: 麻酔科 | D322: 遠藤寛也 | E322: ﾏｽｲｶ | F322: ｴﾝﾄﾞｳ | G322: 助教 | H322: 020麻酔科
A323: 070-6586-0339 | B323: 89-0339 | C323: 麻酔科 | D323: 岡本将裕 | E323: ﾏｽｲｶ | F323: ｵｶﾓﾄ | G323: 医員 | H323: 020麻酔科
A324: 070-6586-0564 | B324: 89-0564 | C324: 麻酔科 | D324: 奥村真佑 | E324: ﾏｽｲｶ | F324: ｵｸﾑﾗ | G324: 医員 | H324: 020麻酔科
A325: 070-6586-0356 | B325: 89-0356 | C325: 麻酔科 | D325: 角田奈美 | E325: ﾏｽｲｶ | F325: ｶｸﾀ | G325: 准教授 | H325: 020麻酔科
A326: 070-6586-0355 | B326: 89-0355 | C326: 麻酔科 | D326: 香留希実子 | E326: ﾏｽｲｶ | F326: ｶﾄﾒ | G326: 診療支援医師 | H326: 020麻酔科
A327: 070-6586-0863 | B327: 89-0863 | C327: 麻酔科 | D327: 木下倫子 | E327: ﾏｽｲｶ | F327: ｷﾉｼﾀ | G327: 助教 | H327: 020麻酔科
A328: 070-6586-0017 | B328: 89-0017 | C328: 麻酔科 | D328: 合田かおる | E328: ﾏｽｲｶ | F328: ｺﾞｳﾀﾞ | G328: 医員 | H328: 020麻酔科
A329: 070-6586-0342 | B329: 89-0342 | C329: 麻酔科 | D329: 酒井陽子 | E329: ﾏｽｲｶ | F329: ｻｶｲ | G329: 特任教授 | H329: 020麻酔科
A330: 070-6586-0415 | B330: 89-0415 | C330: 麻酔科 | D330: 櫻井静佳 | E330: ﾏｽｲｶ | F330: ｻｸﾗｲ | G330: 診療支援医師 | H330: 020麻酔科
A331: 070-6586-0591 | B331: 89-0591 | C331: 麻酔科 | D331: 佐々木秀人 | E331: ﾏｽｲｶ | F331: ｻｻｷ | G331: 助教 | H331: 020麻酔科
... A343: 070-6586-0433 | B343: 89-0433 | C343: 麻酔科 | D343: 米澤宏記 | E343: ﾏｽｲｶ | F343: ﾖﾈｻﾞﾜ | G343: 助教 | H343: 021精神科神経科
A344: 070-6586-0338 | B344: 89-0338 | C344: 麻酔科 | D344: 麻酔科監督／当直 | E344: ﾏｽｲｶ | G344: 麻酔科監督/当直 | H344: 021精神科神経科
A345: 070-6586-0142 | B345: 89-0142 | C345: 精神科神経科 | D345: 井崎ゆみ子 | E345: ｾｲｼﾝｶｼﾝｹｲｶ | F345: ｲｻﾞｷ | G345: 教授 | H345: 021精神科神経科
A346: 070-6586-0131 | B346: 89-0131 | C346: 精神科神経科 | D346: 梅原英裕 | E346: ｾｲｼﾝｶｼﾝｹｲｶ | F346: ｳﾒﾊﾗ | G346: 教授 | H346: 021精神科神経科
A347: 070-6586-0624 | B347: 89-0624 | C347: 精神科神経科 | D347: 上山佑一郎 | E347: ｾｲｼﾝｶｼﾝｹｲｶ | F347: ｶﾐﾔﾏ | G347: 医員 | H347: 021精神科神経科
A348: 070-6586-0133 | B348: 89-0133 | C348: 精神科神経科 | D348: 塩田恭史 | E348: ｾｲｼﾝｶｼﾝｹｲｶ | F348: ｼｵﾀ | G348: 医員 | H348: 021精神科神経科
A349: 070-6586-0836 | B349: 89-0836 | C349: 精神科神経科 | D349: 富岡有紀子 | E349: ｾｲｼﾝｶｼﾝｹｲｶ | F349: ﾄﾐｵｶ | G349: 講師 | H349: 021精神科神経科
A350: 080-3473-7172 | B350: 89-7172 | C350: 精神科神経科 | D350: 中井貴絵 | E350: ｾｲｼﾝｶｼﾝｹｲｶ | F350: ﾅｶｲ | G350: 精神保健福祉士 | H350: 021精神科神経科
A351: 070-6586-0543 | B351: 89-0543 | C351: 精神科神経科 | D351: 中瀧理仁 | E351: ｾｲｼﾝｶｼﾝｹｲｶ | F351: ﾅｶﾀｷ | G351: 准教授 | H351: 021精神科神経科
A352: 070-6586-0138 | B352: 89-0138 | C352: 精神科神経科 | D352: 中山知彦 | E352: ｾｲｼﾝｶｼﾝｹｲｶ | F352: ﾅｶﾔﾏ | G352: 講師 | H352: 021精神科神経科
A353: 070-6586-0130 | B353: 89-0130 | C353: 精神科神経科 | D353: 沼田周助 | E353: ｾｲｼﾝｶｼﾝｹｲｶ | F353: ﾇﾏﾀ | G353: 教授 | H353: 021精神科神経科
A354: 070-6586-0749 | B354: 89-0749 | C354: 精神科神経科 | D354: 野田尚吾 | E354: ｾｲｼﾝｶｼﾝｹｲｶ | F354: ﾉﾀﾞ | G354: 医員 | H354: 021精神科神経科
...

Sheet 電話帳配信用
A1: E列 | B1: F列 | C1: G列 | D1: H列 | E1: C列 | F1: X列 | G1: D列 | H1: Y列 | O1: J列 | P1: Z列 | Y1: P列 | AG1: M列
A2: 病院長 | B2: 香美祥二 | C2: ﾋﾞｮｳｲﾝﾁｮｳ | D2: ｶｶﾞﾐ | E2: 070-6586-0000 | F2: CELL | G2: 89-0000 | H2: CELL | O2: tkhp890000@softbank.ne.jp | P2: CELL | AG2: 701総務
A3: 循環器内科 | B3: 佐田政隆 | C3: ｼﾞｭﾝｶﾝｷﾅｲｶ | D3: ｻﾀ | E3: 070-6586-0031 | F3: CELL | G3: 89-0031 | H3: CELL | O3: tkhp890031@softbank.ne.jp | P3: CELL | AG3: 001循環器内科
A4: 循環器内科 | B4: ｵﾝｺｰﾙ携帯 | C4: ｼﾞｭﾝｶﾝｷﾅｲｶ001 | E4: 080-2996-2833 | F4: CELL;WORK | AG4: 001循環器内科
A5: 【緊急呼出PHS 0202】 | C5: ｱ | E5: 070-6586-0202 | F5: CELL | G5: 89-0202 | H5: CELL | O5: tkhp890202@softbank.ne.jp | P5: CELL | AG5: 204救急
B6: [内科外来]3200 | C6: ｱｱ011 | G6: 83-3200 | H6: VOICE | AG6: 991内線
A7: なし | B7: なし | C7: 半角 | D7: 半角 | E7: 070-6586-0005 | F7: CELL | G7: 半角 | H7: CELL | I7: 半角 | J7: CELL | K7: 半角 | L7: CELL | M7: 半角 | N7: CELL | O7: 半角 | P7: CELL | Q7: 半角 | R7: CELL | S7: 半角 | T7: CELL | U7: 半角 | V7: CELL | W7: 半角 | X7: CELL | AC7: WORK | AE7: WORK | AG7: 複数グループに所属させる場合、各グループを;（セミコロン）で区切る | AH7: 不使用
A8: 32 | B8: 32 | C8: 32 | D8: 32 | E8: 41 | F8: リスト | G8: 41 | H8: リスト | I8: 41 | J8: リスト | K8: 41 | L8: リスト | M8: 41 | N8: リスト | O8: 128 | P8: リスト | Q8: 128 | R8: リスト | S8: 128 | T8: リスト | U8: 128 | V8: リスト | W8: 128 | X8: リスト | Y8: 256 | Z8: 8 | AA8: 32 | AB8: 32 | AC8: リスト | AD8: 314 | AE8: リスト | AF8: 1024 | AG8: なし | AH8: -
A9: 名前（姓） | B9: 名前（名） | C9: ﾖﾐｶﾞﾅ（姓） | D9: ﾖﾐｶﾞﾅ（名） | E9: 電話番号1 | F9: 電話タイプ1 | G9: 電話番号2 | H9: 電話タイプ2 | I9: 電話番号3 | J9: 電話タイプ3 | K9: 電話番号4 | L9: 電話タイプ4 | M9: 電話番号5 | N9: 電話タイプ5 | O9: Eメールアドレス1 | P9: Eメールタイプ1 | Q9: Eメールアドレス2 | R9: Eメールタイプ2 | S9: Eメールアドレス3 | T9: Eメールタイプ3 | U9: Eメールアドレス4 | V9: Eメールタイプ4 | W9: Eメールアドレス5 | X9: Eメールタイプ5 | Y9: メモ | Z9: 誕生日 | AA9: 肩書き | AB9: 会社 | AC9: 住所タイプ | AD9: 住所 | AE9: URLタイプ | AF9: URL | AG9: グループNo | AH9: モード
A10: =IF(電話帳!E2="","",電話帳!E2) -> 病院長 | B10: =IF(電話帳!F2="","",電話帳!F2) -> 西良浩一 | C10: =IF(電話帳!G2="","",電話帳!G2) -> ﾋﾞｮｳｲﾝﾁｮｳ | D10: =IF(電話帳!H2="","",電話帳!H2) -> ｻｲﾘｮｳ | E10: =IF(電話帳!C2="","",電話帳!C2) -> 070-6586-0000 | F10: =IF(電話帳!X2="","",電話帳!X2) -> CELL | G10: =IF(電話帳!D2="","",電話帳!D2) -> 89-0000 | H10: =IF(電話帳!Y2="","",電話帳!Y2) -> CELL | O10: =IF(電話帳!J2="","",電話帳!J2) -> tkhp890000@softbank.ne.jp | P10: =IF(電話帳!Z2="","",電話帳!Z2) -> CELL | Y10: =IF(電話帳!P2="","",電話帳!P2) | AG10: =IF(電話帳!M2="","",電話帳!M2) -> 701総務
A11: =IF(電話帳!E3="","",電話帳!E3) -> 病院長補佐 | B11: =IF(電話帳!F3="","",電話帳!F3) -> 近藤武 | C11: =IF(電話帳!G3="","",電話帳!G3) -> ﾋﾞｮｳｲﾝﾁｮｳﾎｻ | D11: =IF(電話帳!H3="","",電話帳!H3) -> ｺﾝﾄﾞｳ | E11: =IF(電話帳!C3="","",電話帳!C3) -> 070-6586-0001 | F11: =IF(電話帳!X3="","",電話帳!X3) -> CELL | G11: =IF(電話帳!D3="","",電話帳!D3) -> 89-0001 | H11: =IF(電話帳!Y3="","",電話帳!Y3) -> CELL | O11: =IF(電話帳!J3="","",電話帳!J3) -> tkhp890001@softbank.ne.jp | P11: =IF(電話帳!Z3="","",電話帳!Z3) -> CELL | Y11: =IF(電話帳!P3="","",電話帳!P3) | AG11: =IF(電話帳!M3="","",電話帳!M3) -> 701総務
A12: =IF(電話帳!E4="","",電話帳!E4) -> 事務部長 | B12: =IF(電話帳!F4="","",電話帳!F4) -> 浦田明宏 | C12: =IF(電話帳!G4="","",電話帳!G4) -> ｼﾞﾑﾌﾞﾁｮｳ | D12: =IF(電話帳!H4="","",電話帳!H4) -> ｳﾗﾀ | E12: =IF(電話帳!C4="","",電話帳!C4) -> 070-6586-0002 | F12: =IF(電話帳!X4="","",電話帳!X4) -> CELL | G12: =IF(電話帳!D4="","",電話帳!D4) -> 89-0002 | H12: =IF(電話帳!Y4="","",電話帳!Y4) -> CELL | O12: =IF(電話帳!J4="","",電話帳!J4) -> tkhp890002@softbank.ne.jp | P12: =IF(電話帳!Z4="","",電話帳!Z4) -> CELL | Y12: =IF(電話帳!P4="","",電話帳!P4) | AG12: =IF(電話帳!M4="","",電話帳!M4) -> 701総務
A13: =IF(電話帳!E5="","",電話帳!E5) -> 総務課・課長 | B13: =IF(電話帳!F5="","",電話帳!F5) -> 兒玉実和 | C13: =IF(電話帳!G5="","",電話帳!G5) -> ｿｳﾑ01 | D13: =IF(電話帳!H5="","",電話帳!H5) -> ｺﾀﾞﾏ | E13: =IF(電話帳!C5="","",電話帳!C5) -> 070-6586-0003 | F13: =IF(電話帳!X5="","",電話帳!X5) -> CELL | G13: =IF(電話帳!D5="","",電話帳!D5) -> 89-0003 | H13: =IF(電話帳!Y5="","",電話帳!Y5) -> CELL | O13: =IF(電話帳!J5="","",電話帳!J5) -> tkhp890003@softbank.ne.jp | P13: =IF(電話帳!Z5="","",電話帳!Z5) -> CELL | Y13: =IF(電話帳!P5="","",電話帳!P5) | AG13: =IF(電話帳!M5="","",電話帳!M5) -> 701総務
A14: =IF(電話帳!E6="","",電話帳!E6) -> 経営企画・副課長 施設企画室・副課長 | B14: =IF(電話帳!F6="","",電話帳!F6) -> 武政康平 | C14: =IF(電話帳!G6="","",電話帳!G6) -> ｹｲｴｲｷｶｸ02 | D14: =IF(電話帳!H6="","",電話帳!H6) -> ﾀｹﾏｻ | E14: =IF(電話帳!C6="","",電話帳!C6) -> 070-6586-0004 | F14: =IF(電話帳!X6="","",電話帳!X6) -> CELL | G14: =IF(電話帳!D6="","",電話帳!D6) -> 89-0004 | H14: =IF(電話帳!Y6="","",電話帳!Y6) -> CELL | O14: =IF(電話帳!J6="","",電話帳!J6) -> tkhp890004@softbank.ne.jp | P14: =IF(電話帳!Z6="","",電話帳!Z6) -> CELL | Y14: =IF(電話帳!P6="","",電話帳!P6) | AG14: =IF(電話帳!M6="","",電話帳!M6) -> 702経営企画
A15: =IF(電話帳!E7="","",電話帳!E7) -> 経理調達・課長 | B15: =IF(電話帳!F7="","",電話帳!F7) -> 酒井稔雄 | C15: =IF(電話帳!G7="","",電話帳!G7) -> ｹｲﾘﾁｮｳﾀﾂ01 | D15: =IF(電話帳!H7="","",電話帳!H7) -> ｻｶｲ | E15: =IF(電話帳!C7="","",電話帳!C7) -> 070-6586-0005 | F15: =IF(電話帳!X7="","",電話帳!X7) -> CELL | G15: =IF(電話帳!D7="","",電話帳!D7) -> 89-0005 | H15: =IF(電話帳!Y7="","",電話帳!Y7) -> CELL | O15: =IF(電話帳!J7="","",電話帳!J7) -> tkhp890005@softbank.ne.jp | P15: =IF(電話帳!Z7="","",電話帳!Z7) -> CELL | Y15: =IF(電話帳!P7="","",電話帳!P7) | AG15: =IF(電話帳!M7="","",電話帳!M7) -> 704経理調達
A16: =IF(電話帳!E8="","",電話帳!E8) -> 経営企画・課長 | B16: =IF(電話帳!F8="","",電話帳!F8) -> 井元純 | C16: =IF(電話帳!G8="","",電話帳!G8) -> ｹｲｴｲｷｶｸ01 | D16: =IF(電話帳!H8="","",電話帳!H8) -> ｲﾓﾄ | E16: =IF(電話帳!C8="","",電話帳!C8) -> 070-6586-0006 | F16: =IF(電話帳!X8="","",電話帳!X8) -> CELL | G16: =IF(電話帳!D8="","",電話帳!D8) -> 89-0006 | H16: =IF(電話帳!Y8="","",電話帳!Y8) -> CELL | O16: =IF(電話帳!J8="","",電話帳!J8) -> tkhp890006@softbank.ne.jp | P16: =IF(電話帳!Z8="","",電話帳!Z8) -> CELL | Y16: =IF(電話帳!P8="","",電話帳!P8) | AG16: =IF(電話帳!M8="","",電話帳!M8) -> 702経営企画
A17: =IF(電話帳!E9="","",電話帳!E9) -> 医事・患者支援係 | B17: =IF(電話帳!F9="","",電話帳!F9) -> 桑内敬子 | C17: =IF(電話帳!G9="","",電話帳!G9) -> ｲｼﾞ11 | D17: =IF(電話帳!H9="","",電話帳!H9) -> ｸﾜｳﾁ | E17: =IF(電話帳!C9="","",電話帳!C9) -> 070-6586-0007 | F17: =IF(電話帳!X9="","",電話帳!X9) -> CELL | G17: =IF(電話帳!D9="","",電話帳!D9) -> 89-0007 | H17: =IF(電話帳!Y9="","",電話帳!Y9) -> CELL | O17: =IF(電話帳!J9="","",電話帳!J9) -> tkhp890007@softbank.ne.jp | P17: =IF(電話帳!Z9="","",電話帳!Z9) -> CELL | Y17: =IF(電話帳!P9="","",電話帳!P9) | AG17: =IF(電話帳!M9="","",電話帳!M9) -> 705医事
A18: =IF(電話帳!E10="","",電話帳!E10) -> 麻酔科 | B18: =IF(電話帳!F10="","",電話帳!F10) -> 村上千晶 | C18: =IF(電話帳!G10="","",電話帳!G10) -> ﾏｽｲｶ | D18: =IF(電話帳!H10="","",電話帳!H10) -> ﾑﾗｶﾐ | E18: =IF(電話帳!C10="","",電話帳!C10) -> 070-6586-0008 | F18: =IF(電話帳!X10="","",電話帳!X10) -> CELL | G18: =IF(電話帳!D10="","",電話帳!D10) -> 89-0008 | H18: =IF(電話帳!Y10="","",電話帳!Y10) -> CELL | O18: =IF(電話帳!J10="","",電話帳!J10) -> tkhp890008@softbank.ne.jp | P18: =IF(電話帳!Z10="","",電話帳!Z10) -> CELL | Y18: =IF(電話帳!P10="","",電話帳!P10) | AG18: =IF(電話帳!M10="","",電話帳!M10) -> 020麻酔科
A19: =IF(電話帳!E11="","",電話帳!E11) -> 医事・副課長 | B19: =IF(電話帳!F11="","",電話帳!F11) -> 立山あけみ | C19: =IF(電話帳!G11="","",電話帳!G11) -> ｲｼﾞ02 | D19: =IF(電話帳!H11="","",電話帳!H11) -> ﾀﾃﾔﾏ | E19: =IF(電話帳!C11="","",電話帳!C11) -> 070-6586-0009 | F19: =IF(電話帳!X11="","",電話帳!X11) -> CELL | G19: =IF(電話帳!D11="","",電話帳!D11) -> 89-0009 | H19: =IF(電話帳!Y11="","",電話帳!Y11) -> CELL | O19: =IF(電話帳!J11="","",電話帳!J11) -> tkhp890009@softbank.ne.jp | P19: =IF(電話帳!Z11="","",電話帳!Z11) -> CELL | Y19: =IF(電話帳!P11="","",電話帳!P11) | AG19: =IF(電話帳!M11="","",電話帳!M11) -> 705医事
A20: =IF(電話帳!E12="","",電話帳!E12) -> 医事・課長 | B20: =IF(電話帳!F12="","",電話帳!F12) -> 安部修司 | C20: =IF(電話帳!G12="","",電話帳!G12) -> ｲｼﾞ01 | D20: =IF(電話帳!H12="","",電話帳!H12) -> ｱﾍﾞ | E20: =IF(電話帳!C12="","",電話帳!C12) -> 070-6586-0010 | F20: =IF(電話帳!X12="","",電話帳!X12) -> CELL | G20: =IF(電話帳!D12="","",電話帳!D12) -> 89-0010 | H20: =IF(電話帳!Y12="","",電話帳!Y12) -> CELL | O20: =IF(電話帳!J12="","",電話帳!J12) -> tkhp890010@softbank.ne.jp | P20: =IF(電話帳!Z12="","",電話帳!Z12) -> CELL | Y20: =IF(電話帳!P12="","",電話帳!P12) | AG20: =IF(電話帳!M12="","",電話帳!M12) -> 705医事
A21: =IF(電話帳!E13="","",電話帳!E13) -> 施設企画係・係長 経営企画・副課長 | B21: =IF(電話帳!F13="","",電話帳!F13) -> 松木由美 | C21: =IF(電話帳!G13="","",電話帳!G13) -> ｼｾﾂｷｶｸｼﾂ02 | D21: =IF(電話帳!H13="","",電話帳!H13) -> ﾏﾂｷ | E21: =IF(電話帳!C13="","",電話帳!C13) -> 070-6586-0011 | F21: =IF(電話帳!X13="","",電話帳!X13) -> CELL | G21: =IF(電話帳!D13="","",電話帳!D13) -> 89-0011 | H21: =IF(電話帳!Y13="","",電話帳!Y13) -> CELL | O21: =IF(電話帳!J13="","",電話帳!J13) -> tkhp890011@softbank.ne.jp | P21: =IF(電話帳!Z13="","",電話帳!Z13) -> CELL | Y21: =IF(電話帳!P13="","",電話帳!P13) | AG21: =IF(電話帳!M13="","",電話帳!M13) -> 703施設企画室
... A1051: =IF(電話帳!E1043="","",電話帳!E1043) -> 20261001 | B1051: =IF(電話帳!F1043="","",電話帳!F1043) -> 配信９７６件 | C1051: =IF(電話帳!G1043="","",電話帳!G1043) -> -- | D1051: =IF(電話帳!H1043="","",電話帳!H1043) | E1051: =IF(電話帳!C1043="","",電話帳!C1043) | F1051: =IF(電話帳!X1043="","",電話帳!X1043) | G1051: =IF(電話帳!D1043="","",電話帳!D1043) -> 99999999999 | H1051: =IF(電話帳!Y1043="","",電話帳!Y1043) | O1051: =IF(電話帳!J1043="","",電話帳!J1043) | P1051: =IF(電話帳!Z1043="","",電話帳!Z1043) | Y1051: =IF(電話帳!P1043="","",電話帳!P1043) | AG1051: =IF(電話帳!M1043="","",電話帳!M1043) -> 999計

Sheet 並べ替え
